Workbook

Sheet LUSCdownTranscriptsUpMiRNAs
A1: Differentially Expressed miRNAs (pDESeq2 < 0.1)
A2: miRBaseAccension | B2: ID | C2: log2FoldChange | D2: Regulated by TDP-43? | E2: R2 TDP-43 Correlation | F2: Correlation Adjusted P-value | G2: odds_ratio_log | H2: numPredictedTargets | I2: numDEgenes | J2: DEgeneList | K2: percentDEgenes | L2: pDESeq2 | M2: pFatiscan | N2: pCombined | O2: pCombinedFDR | P2: pCombinedFWER
A3: MIMAT0001080 | B3: hsa-miR-196b-5p | C3: 5.2082709 | D3: =IF(COUNTIF('TDP-43 miRNAs'!A$2:A$86,A3)>0,"yes","") | E3: =IF(COUNTIF('LUSC TDP-43 Correlations'!$A$2:$A$1038,$A3)>0,LOOKUP($A3,'LUSC TDP-43 Correlations'!$A$2:$A$1038,'LUSC TDP-43 Correlations'!C$2:C$1038),"n/a") -> 0.089909098 | F3: =IF(COUNTIF('LUSC TDP-43 Correlations'!$A$2:$A$1038,$A3)>0,LOOKUP($A3,'LUSC TDP-43 Correlations'!$A$2:$A$1038,'LUSC TDP-43 Correlations'!E$2:E$1038),"n/a") -> 9.9965931e-08 | G3: -1.0893239 | H3: 848 | I3: 113 | J3: uc001bkq.3,uc001cmo.2,uc001dnl.3,uc001gsg.2,uc001hav.3,uc001hob.3,uc001hub.2,uc001hzy.1,uc001ipk.2,uc001irr.1,uc001jrd.3,uc001jsv.2,uc001kjr.2,uc001kvv.2,uc001laz.2,uc001ldj.1,uc001mdn.3,uc001mel.1,uc001pku.2,uc001quo.1,uc001rap.1,uc001tln.2,uc001tvz.1,uc001uuk.3,uc001uys.1,uc001vcm.2,uc001wtf.3,uc001wvo.2,uc001xmc.3,uc001xou.2,uc001xqa.2,uc001xrn.2,uc001yeh.3,uc001zka.3,uc001zks.1,uc001zng.1,uc001zph.2,uc002acv.1,uc002aqf.2,uc002bcj.2,uc002bcm.2,uc002cvx.2,uc002egg.1,uc002flj.2,uc002gbm.3,uc002gfb.2,uc002gzd.1,uc002jhg.2,uc002jmq.2,uc002jtr.2,uc002klo.2,uc002kte.2,uc002lwd.2,uc002txh.2,uc002uyb.3,uc002xvo.2,uc002yjy.1,uc002yrt.1,uc002zgb.1,uc003bsc.2,uc003ceb.2,uc003cew.2,uc003cgj.2,uc003dwx.3,uc003ecj.3,uc003ewm.2,uc003hly.3,uc003hxv.1,uc003iah.2,uc003idq.1,uc003ipg.2,uc003iqe.3,uc003kdn.2,uc003kjc.2,uc003koa.1,uc003kpv.1,uc003krb.1,uc003kvt.1,uc003lna.2,uc003lpr.1,uc003lvg.1,uc003lzc.2,uc003ojx.3,uc003onm.3,uc003pao.3,uc003psd.2,uc003qbr.2,uc003qch.2,uc003qhu.2,uc003qks.3,uc003que.2,uc003qug.2,uc003syn.1,uc003xhs.2,uc003xhw.3,uc003xkm.1,uc003zxt.2,uc003zyz.2,uc004arf.3,uc004csx.3,uc004dop.2,uc004eef.2,uc010eyh.2,uc010hci.2,uc010msg.2,uc010ndt.2,uc010nko.2,uc010udd.1,uc010zlt.1,uc011cwo.1,uc011dkv.1,uc011edo.1,uc011lsa.1 | K3: 3.06 | L3: 1.73e-101 | M3: 9.27e-21 | N3: 2.68e-104 | O3: 1.41e-102 | P3: 5.63e-102
A4: MIMAT0000266 | B4: hsa-miR-205-5p | C4: 5.1306219 | D4: =IF(COUNTIF('TDP-43 miRNAs'!A$2:A$86,A4)>0,"yes","") | E4: =IF(COUNTIF('LUSC TDP-43 Correlations'!$A$2:$A$1038,$A4)>0,LOOKUP($A4,'LUSC TDP-43 Correlations'!$A$2:$A$1038,'LUSC TDP-43 Correlations'!C$2:C$1038),"n/a") -> 0.017162085 | F4: =IF(COUNTIF('LUSC TDP-43 Correlations'!$A$2:$A$1038,$A4)>0,LOOKUP($A4,'LUSC TDP-43 Correlations'!$A$2:$A$1038,'LUSC TDP-43 Correlations'!E$2:E$1038),"n/a") -> 0.034875734 | G4: -1.3566357 | H4: 1229 | I4: 202 | J4: uc001bjo.2,uc001bkq.3,uc001cmo.2,uc001csi.3,uc001ctq.1,uc001cvd.2,uc001cyc.1,uc001dbh.2,uc001diq.3,uc001dpn.2,uc001drv.2,uc001dtg.3,uc001dyw.3,uc001enp.1,uc001gge.3,uc001gnq.2,uc001gun.3,uc001hav.3,uc001hmq.2,uc001hzy.1,uc001iol.2,uc001jbv.1,uc001jje.2,uc001knc.1,uc001kwi.2,uc001kzl.3,uc001mem.1,uc001mkg.1,uc001mvm.2,uc001ngp.3,uc001ohr.2,uc001owu.2,uc001ozx.3,uc001qta.3,uc001rmi.2,uc001rsn.2,uc001smg.1,uc001tay.2,uc001tbt.2,uc001tep.1,uc001tix.2,uc001txb.2,uc001uip.2,uc001unq.3,uc001uqf.3,uc001url.3,uc001uxt.2,uc001vcu.2,uc001vqq.2,uc001wsq.2,uc001wvk.2,uc001wvo.2,uc001xdp.2,uc001xou.2,uc001ybj.2,uc001ztp.2,uc001zuc.2,uc001zxc.1,uc002ama.2,uc002cxa.2,uc002czx.2,uc002dbg.1,uc002dlq.2,uc002dws.2,uc002dwt.2,uc002egg.1,uc002ehi.3,uc002elu.1,uc002fjl.2,uc002fxx.2,uc002fxy.2,uc002gbm.3,uc002gph.1,uc002hzo.2,uc002ivf.1,uc002jek.2,uc002jtr.2,uc002ldg.2,uc002mnl.2,uc002mqo.3,uc002ont.3,uc002pii.3,uc002qza.2,uc002rut.2,uc002rxu.2,uc002rxy.2,uc002sgn.3,uc002szf.1,uc002tbr.2,uc002ucg.2,uc002ugy.3,uc002uyb.3,uc002vrr.1,uc002wmu.1,uc002xnu.2,uc002xui.2,uc002xvl.2,uc002yly.3,uc003anb.2,uc003bne.1,uc003cau.2,uc003cbq.2,uc003ciu.2,uc003clu.1,uc003cmx.2,uc003cox.1,uc003czy.1,uc003dkf.3,uc003dmn.2,uc003dnr.2,uc003dqp.3,uc003ejx.2,uc003eqa.3,uc003flh.3,uc003gmu.2,uc003gsq.1,uc003guo.2,uc003hbz.2,uc003hqp.2,uc003hrw.1,uc003hwz.2,uc003ieu.2,uc003iev.1,uc003igm.2,uc003ihv.2,uc003ipg.2,uc003ixo.2,uc003jcm.2,uc003kgq.3,uc003kjr.2,uc003klb.2,uc003koa.1,uc003kos.3,uc003kpv.1,uc003kte.2,uc003kzh.2,uc003kzu.2,uc003ldh.2,uc003lfa.2,uc003lna.2,uc003lpf.1,uc003lpr.1,uc003lvc.2,uc003lzc.2,uc003mbw.3,uc003mll.1,uc003nhv.2,uc003obb.2,uc003omw.2,uc003oxy.2,uc003pao.3,uc003pss.3,uc003pym.1,uc003qbr.2,uc003qme.1,uc003qrt.3,uc003que.2,uc003qug.2,uc003syc.2,uc003syn.1,uc003twg.2,uc003uni.3,uc003veb.1,uc003vjq.3,uc003vqx.3,uc003wpw.3,uc003wxd.2,uc003xhs.2,uc003xhw.3,uc003xkm.1,uc003yee.2,uc003zle.2,uc003zyv.2,uc004akw.2,uc004bfu.2,uc004blc.2,uc004cig.2,uc004csx.3,uc004cwi.2,uc004czu.2,uc004dcg.1,uc004deb.2,uc009wve.2,uc010aeu.1,uc010ayu.2,uc010ioj.2,uc010jcm.1,uc010juk.2,uc010miq.1,uc010msg.2,uc010pvb.1,uc010rfl.1,uc010vzy.1,uc010yny.1,uc011awd.1,uc011bkk.1,uc011cvc.1,uc011dpt.1,uc011dzj.1,uc011edo.1,uc011jxf.1,uc011mvs.1 | K4: 5.47 | L4: 1.48e-97 | M4: 2.02e-49 | N4: 1.36e-140 | O4: 2.85e-138 | P4: 2.85e-138
A5: MIMAT0004926 | B5: hsa-miR-708-5p | C5: 3.4428139 | D5: =IF(COUNTIF('TDP-43 miRNAs'!A$2:A$86,A5)>0,"yes","") | E5: =IF(COUNTIF('LUSC TDP-43 Correlations'!$A$2:$A$1038,$A5)>0,LOOKUP($A5,'LUSC TDP-43 Correlations'!$A$2:$A$1038,'LUSC TDP-43 Correlations'!C$2:C$1038),"n/a") -> 0.0032655552 | F5: =IF(COUNTIF('LUSC TDP-43 Correlations'!$A$2:$A$1038,$A5)>0,LOOKUP($A5,'LUSC TDP-43 Correlations'!$A$2:$A$1038,'LUSC TDP-43 Correlations'!E$2:E$1038),"n/a") -> 0.41311277 | G5: -1.0143251 | H5: 978 | I5: 122 | J5: uc001aiq.2,uc001aol.2,uc001bld.3,uc001cqk.3,uc001dlw.2,uc001drv.2,uc001dxx.3,uc001eer.1,uc001fyt.3,uc001gny.2,uc001gnz.2,uc001gws.2,uc001hgw.1,uc001hub.2,uc001hzw.2,uc001iux.2,uc001ize.1,uc001jbf.2,uc001jbi.2,uc001jce.2,uc001knv.1,uc001lss.2,uc001mem.1,uc001mrd.2,uc001nop.2,uc001ntl.2,uc001oij.1,uc001oyw.3,uc001pku.2,uc001plt.2,uc001pwf.2,uc001rap.1,uc001rmi.2,uc001tep.1,uc001tps.2,uc001uqy.2,uc001uwu.2,uc001wvo.2,uc001xhd.3,uc001xlp.2,uc001xou.2,uc001xqa.2,uc001yda.1,uc001ygc.2,uc001zpc.2,uc001zpz.1,uc002alz.2,uc002amr.2,uc002bcm.2,uc002dwm.2,uc002eqb.1,uc002esl.2,uc002evr.2,uc002fax.2,uc002fjl.2,uc002gan.1,uc002ghg.2,uc002gll.2,uc002iof.2,uc002ivf.1,uc002jek.2,uc002jky.1,uc002jtr.2,uc002mgt.1,uc002nvd.3,uc002rne.2,uc002rpd.2,uc002rzn.2,uc002sgn.3,uc002uuo.3,uc002wfl.3,uc002wjb.1,uc002wsv.2,uc002xhr.2,uc003cos.2,uc003cph.1,uc003cwv.3,uc003dwv.1,uc003gmu.2,uc003hmr.2,uc003hrm.3,uc003hxv.1,uc003iab.3,uc003iqr.1,uc003jlx.2,uc003jty.2,uc003klo.3,uc003kpv.1,uc003krb.1,uc003kyd.2,uc003lfi.2,uc003lmi.3,uc003mbw.3,uc003nbi.2,uc003syc.2,uc003syn.1,uc003whj.2,uc003xyo.1,uc003ydg.2,uc003ykn.2,uc003zgt.1,uc003zij.1,uc003zle.2,uc003zys.1,uc004ben.2,uc004bfu.2,uc004bkv.2,uc004blc.2,uc004blh.2,uc004bpg.3,uc004cvc.2,uc004dpe.2,uc004dwf.2,uc004eef.2,uc009xpd.2,uc010dia.2,uc010hci.2,uc010oiu.1,uc010rfl.1,uc011dkv.1,uc011dqe.1,uc011edo.1 | K5: 3.31 | L5: 3.12e-80 | M5: 6.93e-20 | N5: 1.87e-87 | O5: 3.93e-86 | P5: 3.93e-85
A6: MIMAT0000441 | B6: hsa-miR-9-5p | C6: 4.979044 | D6: =IF(COUNTIF('TDP-43 miRNAs'!A$2:A$86,A6)>0,"yes","") -> yes | E6: =IF(COUNTIF('LUSC TDP-43 Correlations'!$A$2:$A$1038,$A6)>0,LOOKUP($A6,'LUSC TDP-43 Correlations'!$A$2:$A$1038,'LUSC TDP-43 Correlations'!C$2:C$1038),"n/a") -> 0.11088789 | F6: =IF(COUNTIF('LUSC TDP-43 Correlations'!$A$2:$A$1038,$A6)>0,LOOKUP($A6,'LUSC TDP-43 Correlations'!$A$2:$A$1038,'LUSC TDP-43 Correlations'!E$2:E$1038),"n/a") -> 2.3681205e-09 | G6: -1.0928705 | H6: 1588 | I6: 209 | J6: uc001aky.2,uc001aol.2,uc001bie.2,uc001bjo.2,uc001bno.2,uc001bzj.1,uc001ctq.1,uc001cyc.1,uc001cze.2,uc001dhk.2,uc001dnb.2,uc001dnl.3,uc001dsg.2,uc001dtg.3,uc001dyu.2,uc001ebe.2,uc001evz.2,uc001gge.3,uc001ghk.1,uc001gsg.2,uc001gun.3,uc001hdx.2,uc001hfq.3,uc001hgw.1,uc001hif.2,uc001hob.3,uc001hpm.1,uc001htf.2,uc001hub.2,uc001ivi.1,uc001jbf.2,uc001jje.2,uc001jlx.2,uc001joz.2,uc001jtb.1,uc001kwi.2,uc001laz.2,uc001lgz.2,uc001llp.2,uc001mkg.1,uc001mod.1,uc001ngp.3,uc001otu.2,uc001ozh.2,uc001pku.2,uc001plt.2,uc001qta.3,uc001rmi.2,uc001rxb.2,uc001stc.2,uc001tay.2,uc001tmi.3,uc001toi.1,uc001tpx.2,uc001tst.2,uc001tvz.1,uc001unq.3,uc001ush.2,uc001usp.2,uc001uty.2,uc001uul.1,uc001uwu.2,uc001uxf.2,uc001uxs.2,uc001uxt.2,uc001vbl.3,uc001vcm.2,uc001vcu.2,uc001vkd.2,uc001wsq.2,uc001wvo.2,uc001xdp.2,uc001xgb.1,uc001xlp.2,uc001xst.2,uc001ygc.2,uc001ywy.1,uc001zot.2,uc001zpi.2,uc001ztp.2,uc002bcm.2,uc002czx.2,uc002dtp.2,uc002eom.3,uc002eqb.1,uc002flj.2,uc002fxx.2,uc002fxy.2,uc002gan.1,uc002hgm.2,uc002hhy.2,uc002hkw.1,uc002hzo.2,uc002icm.1,uc002iof.2,uc002ixm.1,uc002jvl.2,uc002kkm.2,uc002kte.2,uc002mnq.2,uc002mqo.3,uc002mqs.3,uc002mst.3,uc002oot.2,uc002qeu.1,uc002rpd.2,uc002rql.2,uc002sfr.3,uc002vad.2,uc002vcj.2,uc002vrr.1,uc002wmx.1,uc002xhr.2,uc002xvo.2,uc002yju.1,uc002yzy.3,uc003axb.2,uc003axf.2,uc003bqq.2,uc003cbn.2,uc003cco.2,uc003ceb.2,uc003ciu.2,uc003cos.2,uc003cpb.3,uc003cvg.2,uc003cwu.2,uc003dpe.2,uc003dqp.3,uc003dwv.1,uc003hbz.2,uc003hre.2,uc003iab.3,uc003ics.3,uc003ihv.2,uc003ipg.2,uc003iqe.3,uc003iqg.3,uc003itp.2,uc003ixh.2,uc003jfj.2,uc003jlx.2,uc003jou.2,uc003jvq.2,uc003kev.1,uc003kjz.2,uc003klb.2,uc003kvt.1,uc003kyd.2,uc003ldb.1,uc003ldh.2,uc003lfa.2,uc003lfd.2,uc003lgq.2,uc003llp.2,uc003lsp.2,uc003lvk.2,uc003lzb.2,uc003mbv.1,uc003mch.2,uc003mll.1,uc003mma.3,uc003mzv.2,uc003ojx.3,uc003piz.1,uc003qkt.2,uc003srk.2,uc003syc.2,uc003twg.2,uc003ugb.2,uc003uni.3,uc003vej.2,uc003vid.2,uc003who.2,uc003xez.2,uc003xfb.1,uc003xhh.3,uc003xjo.1,uc003xnq.1,uc003xyo.1,uc003ywa.1,uc003zij.1,uc003zxt.2,uc003zys.1,uc004aht.2,uc004aku.2,uc004arf.3,uc004bgq.2,uc004cvc.2,uc004cxi.2,uc004dgi.3,uc004dgw.3,uc004dpe.2,uc004eon.1,uc004fnf.2,uc009vvt.1,uc009xpd.2,uc010aeu.1,uc010ayu.2,uc010nko.2,uc010tup.1,uc011ave.1,uc011bac.1,uc011dkv.1,uc011egn.1,uc011kvr.1,uc011ljd.1,uc011lxf.1,uc011mvs.1 | K6: 5.66 | L6: 8.97e-66 | M6: 2.02e-36 | N6: 8.1e-98 | O6: 2.84e-96 | P6: 1.7e-95
A7: MIMAT0004680 | B7: hsa-miR-130b-5p | C7: 2.5672489 | D7: =IF(COUNTIF('TDP-43 miRNAs'!A$2:A$86,A7)>0,"yes","") | E7: =IF(COUNTIF('LUSC TDP-43 Correlations'!$A$2:$A$1038,$A7)>0,LOOKUP($A7,'LUSC TDP-43 Correlations'!$A$2:$A$1038,'LUSC TDP-43 Correlations'!C$2:C$1038),"n/a") -> 0.09396087 | F7: =IF(COUNTIF('LUSC TDP-43 Correlations'!$A$2:$A$1038,$A7)>0,LOOKUP($A7,'LUSC TDP-43 Correlations'!$A$2:$A$1038,'LUSC TDP-43 Correlations'!E$2:E$1038),"n/a") -> 5.2037131e-08 | G7: -0.97523027 | H7: 1739 | I7: 207 | J7: uc001bdh.2,uc001big.2,uc001bjo.2,uc001bkq.3,uc001bzj.1,uc001csi.3,uc001cyj.1,uc001cze.2,uc001dcf.2,uc001dhk.2,uc001dle.2,uc001dmo.3,uc001dnl.3,uc001dsg.2,uc001enp.1,uc001fyt.3,uc001gsg.2,uc001gsl.2,uc001hfg.2,uc001hzw.2,uc001iol.2,uc001ioo.2,uc001iux.2,uc001jbi.2,uc001jje.2,uc001jrb.2,uc001jsv.2,uc001ldj.1,uc001llp.2,uc001meo.3,uc001mhl.2,uc001mkg.1,uc001nop.2,uc001ohr.2,uc001pao.2,uc001pku.2,uc001qan.2,uc001qav.3,uc001qnm.2,uc001rmi.2,uc001rxb.2,uc001rzt.2,uc001tay.2,uc001tmi.3,uc001toi.1,uc001tps.2,uc001tst.2,uc001unq.3,uc001usp.2,uc001vcm.2,uc001vdl.2,uc001vqq.2,uc001vqy.2,uc001vxz.2,uc001wrq.2,uc001wvk.2,uc001xgb.1,uc001xlp.2,uc001xqa.2,uc001xrn.2,uc001xzx.3,uc001yxc.2,uc001zks.1,uc001zng.1,uc001zni.2,uc001zot.2,uc001zxn.2,uc001zyy.2,uc002alz.2,uc002amv.2,uc002aqf.2,uc002czx.2,uc002dme.2,uc002eqb.1,uc002evr.2,uc002fjx.2,uc002gbm.3,uc002gif.1,uc002gll.2,uc002gph.1,uc002hzo.2,uc002ied.3,uc002ixm.1,uc002iyt.1,uc002jhg.2,uc002jps.2,uc002jvl.2,uc002kkm.2,uc002kln.2,uc002klo.2,uc002pii.3,uc002pod.2,uc002rut.2,uc002rzn.2,uc002tyc.3,uc002utb.2,uc002uwy.2,uc002uzt.3,uc002vcl.2,uc002wjb.1,uc002wsv.2,uc002xgh.1,uc002xhr.2,uc002xtw.1,uc002xvl.2,uc002yai.2,uc002yly.3,uc002ymd.2,uc002yzy.3,uc003ceb.2,uc003cos.2,uc003cwu.2,uc003cyq.1,uc003dmn.2,uc003dpe.2,uc003drw.2,uc003dwx.3,uc003eqg.1,uc003evd.2,uc003eyv.2,uc003fav.2,uc003flh.3,uc003gpa.2,uc003gsq.1,uc003guo.2,uc003hhm.3,uc003hrm.3,uc003hwl.2,uc003hwz.2,uc003iab.3,uc003iam.2,uc003idq.1,uc003iev.1,uc003igm.2,uc003iqg.3,uc003isa.1,uc003itp.2,uc003jeg.3,uc003jou.2,uc003jty.2,uc003kgq.3,uc003klo.3,uc003kos.3,uc003kxr.2,uc003kzu.2,uc003ldh.2,uc003lfa.2,uc003lpf.1,uc003lpr.1,uc003lsp.2,uc003lvg.1,uc003lzk.2,uc003mbo.1,uc003mch.2,uc003mma.3,uc003ncs.2,uc003nhv.2,uc003obb.2,uc003piz.1,uc003pss.3,uc003qch.2,uc003qhu.2,uc003qkt.2,uc003qol.2,uc003qpc.3,uc003qwd.2,uc003svg.2,uc003syn.1,uc003tar.1,uc003vjq.3,uc003wyl.2,uc003xfb.1,uc003xik.2,uc003ykn.2,uc003zij.1,uc003zys.1,uc003zyv.2,uc004aht.2,uc004awm.2,uc004ben.2,uc004bgq.2,uc004bkv.2,uc004blc.2,uc004bpg.3,uc004brl.2,uc004cwi.2,uc004cxe.2,uc004cxi.2,uc004dez.1,uc004eef.2,uc004eus.2,uc004eyp.2,uc004fef.3,uc009wve.2,uc010hlj.2,uc010ioj.2,uc010pbh.1,uc010rgn.1,uc010udd.1,uc011awd.1,uc011ayi.1,uc011bfn.1,uc011cvc.1,uc011cze.1,uc011dpt.1,uc011egn.1,uc011mvs.1 | K7: 5.61 | L7: 1.37e-64 | M7: 4.99e-30 | N7: 4.28e-89 | O7: 9.98e-88 | P7: 8.98e-87
A8: MIMAT0000691 | B8: hsa-miR-130b-3p | C8: 2.4418613 | D8: =IF(COUNTIF('TDP-43 miRNAs'!A$2:A$86,A8)>0,"yes","") | E8: =IF(COUNTIF('LUSC TDP-43 Correlations'!$A$2:$A$1038,$A8)>0,LOOKUP($A8,'LUSC TDP-43 Correlations'!$A$2:$A$1038,'LUSC TDP-43 Correlations'!C$2:C$1038),"n/a") -> 0.090826585 | F8: =IF(COUNTIF('LUSC TDP-43 Correlations'!$A$2:$A$1038,$A8)>0,LOOKUP($A8,'LUSC TDP-43 Correlations'!$A$2:$A$1038,'LUSC TDP-43 Correlations'!E$2:E$1038),"n/a") -> 8.71124e-08 | G8: -1.2860262 | H8: 1511 | I8: 233 | J8: uc001bdh.2,uc001bjo.2,uc001bou.3,uc001bzj.1,uc001cqk.3,uc001csi.3,uc001ctq.1,uc001dhk.2,uc001dmo.3,uc001dqj.3,uc001dtg.3,uc001dyu.2,uc001dyw.3,uc001enn.3,uc001fvk.2,uc001gcn.2,uc001hav.3,uc001hdx.2,uc001hif.2,uc001hzy.1,uc001iha.2,uc001irr.1,uc001iup.2,uc001iux.2,uc001ize.1,uc001jbf.2,uc001jbi.2,uc001jha.3,uc001jje.2,uc001jlx.2,uc001kjr.2,uc001kxm.2,uc001led.2,uc001mhe.1,uc001mod.1,uc001mrd.2,uc001ngp.3,uc001oyw.3,uc001pce.2,uc001pgf.2,uc001pku.2,uc001pxl.1,uc001pzt.2,uc001qwk.2,uc001rap.1,uc001rba.2,uc001rmi.2,uc001rxb.2,uc001tmi.3,uc001toi.1,uc001tps.2,uc001txb.2,uc001txg.2,uc001uqf.3,uc001uqy.2,uc001url.3,uc001uuk.3,uc001uxs.2,uc001vbl.3,uc001vcm.2,uc001vcu.2,uc001vdl.2,uc001vsj.3,uc001wrq.2,uc001wsq.2,uc001wvo.2,uc001wzr.2,uc001xdp.2,uc001xjc.2,uc001xlp.2,uc001yxc.2,uc001zka.3,uc001zni.2,uc001znl.2,uc001zpz.1,uc001zqq.2,uc001ztp.2,uc001zuc.2,uc001zxd.1,uc002anv.2,uc002bcj.2,uc002eqb.1,uc002ete.1,uc002evr.2,uc002fjl.2,uc002frj.2,uc002fsv.2,uc002grz.3,uc002hgm.2,uc002jhg.2,uc002jvl.2,uc002klr.2,uc002kte.2,uc002ldg.2,uc002lwb.1,uc002mgt.1,uc002mjw.2,uc002mnl.2,uc002mnq.2,uc002nfp.2,uc002ohq.2,uc002rdl.2,uc002rdv.2,uc002rxy.2,uc002rzn.2,uc002sfr.3,uc002sgn.3,uc002tsg.3,uc002tyc.3,uc002ucg.2,uc002ugy.3,uc002uni.3,uc002uyb.3,uc002uzf.3,uc002vad.2,uc002vtb.1,uc002xnu.2,uc002xui.2,uc002yrt.1,uc002yzy.3,uc003bun.2,uc003cbn.2,uc003cbq.2,uc003cfi.1,uc003cfu.2,uc003clu.1,uc003cos.2,uc003cpb.3,uc003csa.3,uc003cxm.1,uc003dge.2,uc003dio.2,uc003dmf.2,uc003dqt.2,uc003dwv.1,uc003eqa.3,uc003eqg.1,uc003ewm.2,uc003goc.1,uc003gpd.2,uc003gsq.1,uc003hbz.2,uc003hqp.2,uc003hqs.3,uc003hre.2,uc003hrw.1,uc003hyp.2,uc003iah.2,uc003ihv.2,uc003iiq.3,uc003iqe.3,uc003iqg.3,uc003iqz.3,uc003ire.2,uc003itp.2,uc003jho.2,uc003jno.2,uc003jti.2,uc003jty.2,uc003jud.2,uc003kjr.2,uc003kjz.2,uc003krb.1,uc003kte.2,uc003ktk.2,uc003kzh.2,uc003lsp.2,uc003lzk.2,uc003man.1,uc003mbw.3,uc003mch.2,uc003mzv.2,uc003owr.2,uc003oxy.2,uc003pmv.2,uc003qcz.2,uc003qdg.2,uc003qhu.2,uc003qkt.2,uc003qme.1,uc003qok.1,uc003qpc.3,uc003qug.2,uc003syn.1,uc003uhf.3,uc003uni.3,uc003vid.2,uc003whq.2,uc003wpw.3,uc003wzp.2,uc003xfb.1,uc003xhw.3,uc003xnq.1,uc003xyo.1,uc003ydg.2,uc003ykn.2,uc003yrx.2,uc003zle.2,uc003znq.2,uc004arf.3,uc004axl.1,uc004bkv.2,uc004blc.2,uc004blh.2,uc004brl.2,uc004csx.3,uc004cvc.2,uc004cvf.2,uc004cwi.2,uc004cwr.2,uc004czu.2,uc004ddo.2,uc004deb.2,uc004dgw.3,uc004drw.2,uc009xpd.2,uc010ago.2,uc010ayu.2,uc010dhc.2,uc010drt.1,uc010dxu.2,uc010dyj.2,uc010mdg.2,uc010msg.2,uc010ndt.2,uc010pbh.1,uc010qji.1,uc010rgn.1,uc010zlt.1,uc011awd.1,uc011cvc.1,uc011lhk.1,uc011lsa.1 | K8: 6.31 | L8: 7.81e-59 | M8: 5.58e-52 | N8: 1.56e-108 | O8: 1.09e-106 | P8: 3.28e-106
A9: MIMAT0000261 | B9: hsa-miR-183-5p | C9: 2.8608832 | D9: =IF(COUNTIF('TDP-43 miRNAs'!A$2:A$86,A9)>0,"yes","") -> yes | E9: =IF(COUNTIF('LUSC TDP-43 Correlations'!$A$2:$A$1038,$A9)>0,LOOKUP($A9,'LUSC TDP-43 Correlations'!$A$2:$A$1038,'LUSC TDP-43 Correlations'!C$2:C$1038),"n/a") -> 0.064694808 | F9: =IF(COUNTIF('LUSC TDP-43 Correlations'!$A$2:$A$1038,$A9)>0,LOOKUP($A9,'LUSC TDP-43 Correlations'!$A$2:$A$1038,'LUSC TDP-43 Correlations'!E$2:E$1038),"n/a") -> 9.5419734e-06 | G9: -1.1060906 | H9: 1162 | I9: 156 | J9: uc001bdh.2,uc001bjo.2,uc001bld.3,uc001bmc.2,uc001bzj.1,uc001cyc.1,uc001dlw.2,uc001gsl.2,uc001gun.3,uc001hif.2,uc001hpm.1,uc001htf.2,uc001iol.2,uc001ivi.1,uc001ize.1,uc001jce.2,uc001jje.2,uc001jtb.1,uc001kjr.2,uc001knc.1,uc001kvv.2,uc001kwi.2,uc001kzl.3,uc001mem.1,uc001mod.1,uc001oij.1,uc001pgf.2,uc001pio.1,uc001pku.2,uc001pzt.2,uc001tdm.3,uc001tps.2,uc001uqf.3,uc001uqy.2,uc001uwu.2,uc001uys.1,uc001vbl.3,uc001vcm.2,uc001wob.3,uc001wvo.2,uc001xhd.3,uc001xhw.1,uc001xqa.2,uc001ygc.2,uc001zks.1,uc001zxc.1,uc002aly.2,uc002alz.2,uc002czx.2,uc002dhz.2,uc002dme.2,uc002dtp.2,uc002fsm.2,uc002fxx.2,uc002fyp.2,uc002gif.1,uc002guy.2,uc002hkw.1,uc002htw.2,uc002icm.1,uc002igp.1,uc002ixm.1,uc002jhg.2,uc002jtr.2,uc002kkm.2,uc002klo.2,uc002kte.2,uc002nvd.3,uc002rdl.2,uc002rmz.3,uc002rut.2,uc002tsg.3,uc002ucg.2,uc002ugy.3,uc002utb.2,uc002vhy.2,uc002wjb.1,uc002wpr.2,uc002wsv.2,uc002ymd.2,uc002yrt.1,uc003bqi.2,uc003cpb.3,uc003cwu.2,uc003cxh.2,uc003dpe.2,uc003evd.2,uc003gmu.2,uc003goc.1,uc003hqp.2,uc003hre.2,uc003hsy.2,uc003hwl.2,uc003idq.1,uc003iqe.3,uc003itp.2,uc003jli.2,uc003jtk.2,uc003kgq.3,uc003kjc.2,uc003kos.3,uc003kxr.2,uc003kzh.2,uc003kzu.2,uc003ldb.1,uc003lfi.2,uc003lpf.1,uc003lsp.2,uc003nbi.2,uc003ocl.1,uc003oxy.2,uc003phn.3,uc003piz.1,uc003puy.3,uc003pym.1,uc003pyy.1,uc003qbr.2,uc003qcz.2,uc003qdg.2,uc003qme.1,uc003qrt.3,uc003syc.2,uc003syn.1,uc003tvm.1,uc003veb.1,uc003xez.2,uc003xik.2,uc003xyo.1,uc003znq.2,uc003zwq.2,uc004akw.2,uc004bga.1,uc004bpg.3,uc004cei.2,uc004cvc.2,uc004cvf.2,uc004cwr.2,uc004czu.2,uc004dpe.2,uc004dwf.2,uc004eon.1,uc004eyp.2,uc009wgo.2,uc009xpd.2,uc010jcm.1,uc010vzx.1,uc011bkt.1,uc011cqs.1,uc011cwo.1,uc011dzj.1,uc011edo.1,uc011jxf.1,uc011kvr.1,uc011lhk.1,uc011lsa.1,uc011lxf.1 | K9: 4.23 | L9: 2.09e-57 | M9: 2.03e-28 | N9: 4.32e-81 | O9: 7.56e-80 | P9: 9.07e-79
A10: MIMAT0000450 | B10: hsa-miR-149-5p | C10: 3.2487706 | D10: =IF(COUNTIF('TDP-43 miRNAs'!A$2:A$86,A10)>0,"yes","") | E10: =IF(COUNTIF('LUSC TDP-43 Correlations'!$A$2:$A$1038,$A10)>0,LOOKUP($A10,'LUSC TDP-43 Correlations'!$A$2:$A$1038,'LUSC TDP-43 Correlations'!C$2:C$1038),"n/a") -> 0.005743028 | F10: =IF(COUNTIF('LUSC TDP-43 Correlations'!$A$2:$A$1038,$A10)>0,LOOKUP($A10,'LUSC TDP-43 Correlations'!$A$2:$A$1038,'LUSC TDP-43 Correlations'!E$2:E$1038),"n/a") -> 0.24915952 | G10: -0.91469532 | H10: 1236 | I10: 141 | J10: uc001ayo.2,uc001bzj.1,uc001cmo.2,uc001cqk.3,uc001csi.3,uc001cvd.2,uc001cyc.1,uc001cyj.1,uc001dyw.3,uc001ebe.2,uc001evz.2,uc001ewx.2,uc001fvk.2,uc001gge.3,uc001ghk.1,uc001gzq.2,uc001hgw.1,uc001hsk.2,uc001hzy.1,uc001ioo.2,uc001jbi.2,uc001jbv.1,uc001jsd.2,uc001knv.1,uc001llp.2,uc001mod.1,uc001osu.2,uc001ozx.3,uc001pfw.1,uc001qil.2,uc001qnm.2,uc001rap.1,uc001rsn.2,uc001spt.2,uc001stc.2,uc001tay.2,uc001tep.1,uc001une.2,uc001unq.3,uc001vkc.2,uc001vqq.2,uc001wvk.2,uc001wzr.2,uc001xgb.1,uc001xjc.2,uc001xou.2,uc001xrn.2,uc002alz.2,uc002amr.2,uc002bop.3,uc002egg.1,uc002fax.2,uc002fen.2,uc002fjl.2,uc002frj.2,uc002fsr.2,uc002fxe.2,uc002gbm.3,uc002ghv.2,uc002gpf.2,uc002gzd.1,uc002ibg.2,uc002ivf.1,uc002iyt.1,uc002kkm.2,uc002mdt.2,uc002mgt.1,uc002mjw.2,uc002nhv.2,uc002nqd.1,uc002pex.2,uc002rdl.2,uc002ugy.3,uc002utb.2,uc002utk.2,uc002vcj.2,uc002xli.1,uc002yrn.2,uc002yrt.1,uc003anb.2,uc003bqi.2,uc003bqq.2,uc003bsc.2,uc003cco.2,uc003cew.2,uc003cgj.2,uc003cox.1,uc003cwv.3,uc003dnn.2,uc003dwv.1,uc003eqg.1,uc003flh.3,uc003goc.1,uc003has.2,uc003hre.2,uc003hxv.1,uc003iam.2,uc003ifa.2,uc003jtk.2,uc003ktk.2,uc003kzh.2,uc003len.2,uc003lgg.1,uc003ner.3,uc003nhv.2,uc003nqg.2,uc003nuy.2,uc003nye.3,uc003phn.3,uc003psd.2,uc003qcz.2,uc003svj.3,uc003tav.2,uc003who.2,uc003wzk.3,uc003xez.2,uc003xhh.3,uc003xkm.1,uc003yrx.2,uc003zys.1,uc004ben.2,uc004blc.2,uc004caa.1,uc004ckt.2,uc004dgg.2,uc004dgi.3,uc004dys.1,uc004euu.2,uc004eyp.2,uc009zdl.1,uc010cnt.1,uc010dyt.2,uc010hci.2,uc010jsy.2,uc010qji.1,uc010tup.1,uc010yny.1,uc011adw.1,uc011awd.1,uc011bkk.1,uc011cvc.1 | K10: 3.82 | L10: 1.4e-52 | M10: 2.68e-19 | N10: 1.59e-65 | O10: 1.12e-64 | P10: 3.35e-63
A11: MIMAT0000095 | B11: hsa-miR-96-5p | C11: 2.8010622 | D11: =IF(COUNTIF('TDP-43 miRNAs'!A$2:A$86,A11)>0,"yes","") | E11: =IF(COUNTIF('LUSC TDP-43 Correlations'!$A$2:$A$1038,$A11)>0,LOOKUP($A11,'LUSC TDP-43 Correlations'!$A$2:$A$1038,'LUSC TDP-43 Correlations'!C$2:C$1038),"n/a") -> 0.049251519 | F11: =IF(COUNTIF('LUSC TDP-43 Correlations'!$A$2:$A$1038,$A11)>0,LOOKUP($A11,'LUSC TDP-43 Correlations'!$A$2:$A$1038,'LUSC TDP-43 Correlations'!E$2:E$1038),"n/a") -> 0.00015657912 | G11: -1.1143051 | H11: 1116 | I11: 151 | J11: uc001aky.2,uc001aol.2,uc001bdh.2,uc001bou.3,uc001bpc.3,uc001cyc.1,uc001diq.3,uc001dnb.2,uc001drv.2,uc001dyn.2,uc001enn.3,uc001fyt.3,uc001gcn.2,uc001gsl.2,uc001gun.3,uc001hfg.2,uc001hfq.3,uc001jlx.2,uc001kxm.2,uc001kzl.3,uc001lgz.2,uc001llp.2,uc001mhl.2,uc001nnu.3,uc001pgf.2,uc001qwk.2,uc001tep.1,uc001url.3,uc001vcm.2,uc001vkc.2,uc001vqq.2,uc001wvk.2,uc001xdp.2,uc001ywy.1,uc001zka.3,uc001zni.2,uc001zpi.2,uc002alz.2,uc002chl.2,uc002dhz.2,uc002djg.1,uc002elu.1,uc002eqb.1,uc002gpf.2,uc002gys.2,uc002heo.1,uc002icm.1,uc002jhg.2,uc002jmq.2,uc002joc.2,uc002ldg.2,uc002mgt.1,uc002mnl.2,uc002olh.1,uc002pop.1,uc002rut.2,uc002ruv.2,uc002rxu.2,uc002sfr.3,uc002spu.1,uc002tsg.3,uc002utk.2,uc002uyb.3,uc002vhy.2,uc002wpr.2,uc002xvo.2,uc002ymd.2,uc003bqi.2,uc003bwc.2,uc003bxu.3,uc003cay.2,uc003ceb.2,uc003cfi.1,uc003cfu.2,uc003cgj.2,uc003ciu.2,uc003cwu.2,uc003dio.2,uc003dmn.2,uc003dna.3,uc003dpe.2,uc003drw.2,uc003eqg.1,uc003fwv.2,uc003gpa.2,uc003hmr.2,uc003hqp.2,uc003hsy.2,uc003hwl.2,uc003hxv.1,uc003iah.2,uc003ics.3,uc003iiq.3,uc003iqg.3,uc003jeg.3,uc003jlx.2,uc003jvq.2,uc003kgq.3,uc003kxr.2,uc003kzh.2,uc003lac.1,uc003lfi.2,uc003llt.2,uc003lna.2,uc003lpf.1,uc003lvk.2,uc003lzb.2,uc003mll.1,uc003nbi.2,uc003ojx.3,uc003omw.2,uc003oqf.1,uc003pao.3,uc003pmv.2,uc003qal.3,uc003qch.2,uc003qdg.2,uc003qrt.3,uc003syn.1,uc003tav.2,uc003xhs.2,uc003xik.2,uc003xyo.1,uc003zij.1,uc003zwq.2,uc003zyv.2,uc004bgq.2,uc004bpg.3,uc004cvf.2,uc004cxi.2,uc004ddo.2,uc004dez.1,uc004dop.2,uc004dwf.2,uc004dys.1,uc004eef.2,uc009wgo.2,uc009xpd.2,uc009zdl.1,uc009zgj.1,uc010hci.2,uc010jcm.1,uc010jpa.2,uc010mdg.2,uc010pha.1,uc010rgn.1,uc010snd.1,uc011bkk.1,uc011dzj.1,uc011edo.1,uc011jxf.1 | K11: 4.09 | L11: 1.32e-49 | M11: 6.53e-28 | N11: 8.2e-74 | O11: 7.82e-73 | P11: 1.72e-71
A12: MIMAT0003298 | B12: hsa-miR-629-3p | C12: 2.229458 | D12: =IF(COUNTIF('TDP-43 miRNAs'!A$2:A$86,A12)>0,"yes","") | E12: =IF(COUNTIF('LUSC TDP-43 Correlations'!$A$2:$A$1038,$A12)>0,LOOKUP($A12,'LUSC TDP-43 Correlations'!$A$2:$A$1038,'LUSC TDP-43 Correlations'!C$2:C$1038),"n/a") -> 0.039640038 | F12: =IF(COUNTIF('LUSC TDP-43 Correlations'!$A$2:$A$1038,$A12)>0,LOOKUP($A12,'LUSC TDP-43 Correlations'!$A$2:$A$1038,'LUSC TDP-43 Correlations'!E$2:E$1038),"n/a") -> 0.00080860221 | G12: -1.1079875 | H12: 1498 | I12: 200 | J12: uc001aol.2,uc001big.2,uc001bjh.2,uc001bld.3,uc001cqk.3,uc001csi.3,uc001ctq.1,uc001cyj.1,uc001dle.2,uc001drv.2,uc001dtg.3,uc001eer.1,uc001enn.3,uc001enp.1,uc001fvk.2,uc001fyt.3,uc001fyz.1,uc001hfq.3,uc001hpm.1,uc001hub.2,uc001iha.2,uc001ihb.2,uc001iol.2,uc001iup.2,uc001ize.1,uc001jbf.2,uc001jje.2,uc001jrd.3,uc001kvo.1,uc001llp.2,uc001mdn.3,uc001mem.1,uc001mkg.1,uc001mod.1,uc001ngp.3,uc001nog.2,uc001nor.2,uc001oij.1,uc001pce.2,uc001rsn.2,uc001rxb.2,uc001rzo.1,uc001tay.2,uc001tbt.2,uc001tvs.1,uc001uey.1,uc001uwu.2,uc001uxf.2,uc001uyi.2,uc001uys.1,uc001vqq.2,uc001wum.1,uc001wzr.2,uc001xpo.2,uc001yda.1,uc001yeh.3,uc001ygc.2,uc001ywy.1,uc001zka.3,uc001zpi.2,uc001zuc.2,uc001zyy.2,uc002ama.2,uc002czx.2,uc002dwm.2,uc002ebu.1,uc002ehi.3,uc002fjx.2,uc002fsr.2,uc002gbm.3,uc002ghv.2,uc002giw.1,uc002gph.1,uc002hgm.2,uc002htv.2,uc002icm.1,uc002ied.3,uc002iyt.1,uc002jdz.2,uc002jhg.2,uc002jky.1,uc002lli.2,uc002mdt.2,uc002nhv.2,uc002pcm.2,uc002pgj.1,uc002pii.3,uc002pod.2,uc002pxq.2,uc002rne.2,uc002rpd.2,uc002rql.2,uc002ruv.2,uc002rxu.2,uc002sgn.3,uc002tnq.2,uc002txh.2,uc002ugy.3,uc002uni.3,uc002uwy.2,uc002uyb.3,uc002vad.2,uc002viz.3,uc002vrr.1,uc002vrs.2,uc002wfl.3,uc002ymd.2,uc002ymf.2,uc002yrt.1,uc002yzy.3,uc003bqi.2,uc003byw.2,uc003cbn.2,uc003ckc.2,uc003clh.2,uc003coq.2,uc003dmn.2,uc003drw.2,uc003dwv.1,uc003fav.2,uc003goc.1,uc003gsq.1,uc003has.2,uc003hbz.2,uc003hly.3,uc003hmr.2,uc003hre.2,uc003iam.2,uc003jli.2,uc003jlx.2,uc003jtk.2,uc003jud.2,uc003koa.1,uc003kpv.1,uc003kqe.1,uc003kzh.2,uc003ldb.1,uc003len.2,uc003lna.2,uc003lsc.2,uc003lsf.1,uc003lvk.2,uc003mch.2,uc003nbi.2,uc003ncc.2,uc003ncs.2,uc003ocl.1,uc003srk.2,uc003svg.2,uc003svj.3,uc003uio.2,uc003und.2,uc003wyi.3,uc003xhh.3,uc003xjo.1,uc003ykn.2,uc003yrx.2,uc003ywa.1,uc003zij.1,uc003zyv.2,uc003zyz.2,uc004bgj.3,uc004bgq.2,uc004bsj.3,uc004cvc.2,uc004cwi.2,uc004dgi.3,uc004dop.2,uc004dpe.2,uc004dys.1,uc004eef.2,uc004eon.1,uc004eus.2,uc004eyp.2,uc009wmw.2,uc009wve.2,uc009xwy.1,uc009zdl.1,uc010aeu.1,uc010ayu.2,uc010dag.2,uc010dxu.2,uc010flk.2,uc010ioj.2,uc010juk.2,uc010miq.1,uc010oiu.1,uc010pps.1,uc010qnh.1,uc010vzy.1,uc010zlt.1,uc011ave.1,uc011awd.1,uc011bfn.1,uc011dkv.1,uc011kzp.1,uc011lhk.1,uc011ljd.1,uc011lsa.1,uc011lxf.1 | K12: 5.42 | L12: 4.35e-45 | M12: 9.54e-36 | N12: 1.88e-78 | O12: 2.82e-77 | P12: 3.94e-76
A13: MIMAT0003880 | B13: hsa-miR-671-5p | C13: 2.0765576 | D13: =IF(COUNTIF('TDP-43 miRNAs'!A$2:A$86,A13)>0,"yes","") | E13: =IF(COUNTIF('LUSC TDP-43 Correlations'!$A$2:$A$1038,$A13)>0,LOOKUP($A13,'LUSC TDP-43 Correlations'!$A$2:$A$1038,'LUSC TDP-43 Correlations'!C$2:C$1038),"n/a") -> 0.037469354 | F13: =IF(COUNTIF('LUSC TDP-43 Correlations'!$A$2:$A$1038,$A13)>0,LOOKUP($A13,'LUSC TDP-43 Correlations'!$A$2:$A$1038,'LUSC TDP-43 Correlations'!E$2:E$1038),"n/a") -> 0.0011433834 | G13: -1.0064299 | H13: 919 | I13: 114 | J13: uc001bfy.2,uc001bya.2,uc001dnb.2,uc001dyn.2,uc001ewx.2,uc001hgw.1,uc001iha.2,uc001jbv.1,uc001jsd.2,uc001kea.2,uc001knc.1,uc001knv.1,uc001lss.2,uc001lyy.1,uc001mod.1,uc001mrd.2,uc001nnu.3,uc001nor.2,uc001ntl.2,uc001pwf.2,uc001qta.3,uc001quo.1,uc001rap.1,uc001rmi.2,uc001tst.2,uc001uip.2,uc001ush.2,uc001uus.2,uc001wsq.2,uc001wvo.2,uc001xou.2,uc001yeh.3,uc001ygc.2,uc001ywy.1,uc001zmp.1,uc001zng.1,uc001zpi.2,uc002aly.2,uc002cxn.2,uc002dlq.2,uc002dwm.2,uc002egg.1,uc002eqb.1,uc002fsr.2,uc002ivf.1,uc002jdz.2,uc002jps.2,uc002obn.1,uc002ont.3,uc002pcm.2,uc002pod.2,uc002rmz.3,uc002rxy.2,uc002soz.2,uc002tsg.3,uc002ucg.2,uc002ugy.3,uc002wah.1,uc002wpr.2,uc002xbu.2,uc002xui.2,uc002yly.3,uc002ymf.2,uc002yrn.2,uc003bqi.2,uc003cbq.2,uc003czy.1,uc003dcl.1,uc003dea.1,uc003dwv.1,uc003fav.2,uc003gjv.2,uc003gpa.2,uc003guo.2,uc003hmr.2,uc003hxv.1,uc003hyp.2,uc003ipg.2,uc003iqg.3,uc003iyx.1,uc003kos.3,uc003kpx.1,uc003kqe.1,uc003lfi.2,uc003lpf.1,uc003man.1,uc003mbo.1,uc003mux.2,uc003obh.2,uc003obj.2,uc003obp.3,uc003ojx.3,uc003qch.2,uc003vsi.2,uc003whj.2,uc003wpw.3,uc003yee.2,uc004arf.3,uc004bsm.3,uc004bwp.2,uc004dgg.2,uc004eon.1,uc004euu.2,uc004fef.3,uc009xpd.2,uc009zme.1,uc010cnt.1,uc010dag.2,uc010hci.2,uc010hcz.2,uc010mwl.2,uc010rgn.1,uc010uek.1,uc011cwo.1 | K13: 3.09 | L13: 1.97e-43 | M13: 1.63e-18 | N13: 3.76e-57 | O13: 1.88e-56 | P13: 7.9e-55
A14: MIMAT0004509 | B14: hsa-miR-93-3p | C14: 1.7146796 | D14: =IF(COUNTIF('TDP-43 miRNAs'!A$2:A$86,A14)>0,"yes","") -> yes | E14: =IF(COUNTIF('LUSC TDP-43 Correlations'!$A$2:$A$1038,$A14)>0,LOOKUP($A14,'LUSC TDP-43 Correlations'!$A$2:$A$1038,'LUSC TDP-43 Correlations'!C$2:C$1038),"n/a") -> 0.12695905 | F14: =IF(COUNTIF('LUSC TDP-43 Correlations'!$A$2:$A$1038,$A14)>0,LOOKUP($A14,'LUSC TDP-43 Correlations'!$A$2:$A$1038,'LUSC TDP-43 Correlations'!E$2:E$1038),"n/a") -> 9.398805e-11 | G14: -0.99406132 | H14: 1229 | I14: 150 | J14: uc001bie.2,uc001bjo.2,uc001bkq.3,uc001bss.1,uc001cmo.2,uc001csi.3,uc001dbh.2,uc001dcf.2,uc001dhk.2,uc001dnl.3,uc001dqj.3,uc001dyn.2,uc001evz.2,uc001fvk.2,uc001hjf.2,uc001hzy.1,uc001iha.2,uc001jje.2,uc001mdn.3,uc001mkg.1,uc001mod.1,uc001mvm.2,uc001ozh.2,uc001pio.1,uc001plt.2,uc001pxl.1,uc001qnm.2,uc001rap.1,uc001tay.2,uc001tin.2,uc001unq.3,uc001ush.2,uc001usp.2,uc001uuk.3,uc001uys.1,uc001vgs.2,uc001vkc.2,uc001wrq.2,uc001wzr.2,uc001xdp.2,uc001xgb.1,uc001xhd.3,uc001xhw.1,uc001xqa.2,uc001yeh.3,uc001zka.3,uc001zni.2,uc001zph.2,uc001zpi.2,uc001zpz.1,uc001zqq.2,uc001ztp.2,uc001zxc.1,uc001zxn.2,uc002aly.2,uc002amp.2,uc002anv.2,uc002ble.2,uc002bop.3,uc002chn.2,uc002dbb.2,uc002dvf.2,uc002ehi.3,uc002eqb.1,uc002fax.2,uc002fjx.2,uc002gbm.3,uc002gif.1,uc002gzd.1,uc002htw.2,uc002iin.2,uc002ivf.1,uc002iyt.1,uc002jmq.2,uc002nhv.2,uc002nvd.3,uc002pah.2,uc002pii.3,uc002soz.2,uc002txh.2,uc002uqp.3,uc002uyb.3,uc002vcj.2,uc002vrs.2,uc002wsv.2,uc002yai.2,uc002ymd.2,uc002ymf.2,uc002yzy.3,uc003bsc.2,uc003cbq.2,uc003cew.2,uc003cht.2,uc003ciu.2,uc003clh.2,uc003cwu.2,uc003cxm.1,uc003dcl.1,uc003ddd.2,uc003dnr.2,uc003drw.2,uc003fav.2,uc003hrm.3,uc003hwl.2,uc003iqe.3,uc003iqz.3,uc003jeg.3,uc003jro.1,uc003jti.2,uc003ktk.2,uc003kxr.2,uc003kzu.2,uc003lgg.1,uc003llp.2,uc003lsp.2,uc003lvk.2,uc003man.1,uc003oxy.2,uc003psd.2,uc003pss.3,uc003pym.1,uc003qdg.2,uc003qkt.2,uc003srk.2,uc003wsi.2,uc003wyl.2,uc003xik.2,uc003xkm.1,uc003xyo.1,uc004aht.2,uc004axl.1,uc004bpg.3,uc004brl.2,uc004caa.1,uc004dgg.2,uc004eus.2,uc009vvt.1,uc009xwy.1,uc009zgj.1,uc010hci.2,uc010jpa.2,uc010pbh.1,uc010pps.1,uc010pvb.1,uc010qnh.1,uc011ayi.1,uc011cvc.1,uc011dzj.1,uc011kzp.1,uc011mvs.1 | K14: 4.06 | L14: 1.68e-39 | M14: 4.77e-23 | N14: 2.38e-59 | O14: 1.28e-58 | P14: 5e-57
... A105: MIMAT0004702 | B105: hsa-miR-339-3p | C105: 0.20959548 | D105: =IF(COUNTIF('TDP-43 miRNAs'!A$2:A$86,A105)>0,"yes","") | E105: =IF(COUNTIF('LUSC TDP-43 Correlations'!$A$2:$A$1038,$A105)>0,LOOKUP($A105,'LUSC TDP-43 Correlations'!$A$2:$A$1038,'LUSC TDP-43 Correlations'!C$2:C$1038),"n/a") -> 0.00032925714 | F105: =IF(COUNTIF('LUSC TDP-43 Correlations'!$A$2:$A$1038,$A105)>0,LOOKUP($A105,'LUSC TDP-43 Correlations'!$A$2:$A$1038,'LUSC TDP-43 Correlations'!E$2:E$1038),"n/a") -> 0.83073671 | G105: -1.0058136 | H105: 167 | I105: 21 | J105: uc001ayo.2,uc001fyt.3,uc001hdx.2,uc001hmp.1,uc001tdm.3,uc001ygc.2,uc001zni.2,uc002lli.2,uc002mqo.3,uc002rut.2,uc002wwa.2,uc002yjy.1,uc003cwu.2,uc003gqz.2,uc003hsm.1,uc003lna.2,uc003lvk.2,uc003pap.3,uc003tvm.1,uc003twg.2,uc004dcg.1 | K105: 0.57 | L105: 0.095355564 | M105: 0.000107 | N105: 0.000197903 | O105: 0.000200771 | P105: 0.041559569
A107: Not Differentially Expressed miRNAs
A108: miRBaseAccension | B108: ID | C108: log2FoldChange | D108: Regulated by TDP-43? | E108: R2 TDP-43 Correlation | F108: Correlation Adjusted P-value | G108: odds_ratio_log | H108: numPredictedTargets | I108: numDEgenes | J108: DEgeneList | K108: percentDEgenes | L108: pDESeq2 | M108: pFatiscan | N108: pCombined | O108: pCombinedFDR | P108: pCombinedFWER
A109: MIMAT0004799 | B109: hsa-miR-589-5p | C109: 0.17070914 | D109: =IF(COUNTIF('TDP-43 miRNAs'!A$2:A$86,A109)>0,"yes","") | E109: =IF(COUNTIF('LUSC TDP-43 Correlations'!$A$2:$A$1038,$A109)>0,LOOKUP($A109,'LUSC TDP-43 Correlations'!$A$2:$A$1038,'LUSC TDP-43 Correlations'!C$2:C$1038),"n/a") -> 0.0025199792 | F109: =IF(COUNTIF('LUSC TDP-43 Correlations'!$A$2:$A$1038,$A109)>0,LOOKUP($A109,'LUSC TDP-43 Correlations'!$A$2:$A$1038,'LUSC TDP-43 Correlations'!E$2:E$1038),"n/a") -> 0.47560072 | G109: -0.94790548 | H109: 898 | I109: 106 | J109: uc001bou.3,uc001bpc.3,uc001csi.3,uc001dqj.3,uc001evz.2,uc001gcn.2,uc001gsl.2,uc001gzq.2,uc001hfg.2,uc001ivi.1,uc001jrd.3,uc001jtb.1,uc001lgz.2,uc001mvm.2,uc001ngp.3,uc001nun.2,uc001ohr.2,uc001qtv.1,uc001rmi.2,uc001sef.2,uc001toi.1,uc001tvs.1,uc001uey.1,uc001utf.1,uc001vdl.2,uc001vkd.2,uc001wrq.2,uc001wzr.2,uc001xmc.3,uc001xpy.2,uc001xrn.2,uc001yeh.3,uc001zot.2,uc001zpi.2,uc001ztp.2,uc001zxd.1,uc002alw.2,uc002cvx.2,uc002dcu.2,uc002dlq.2,uc002efp.2,uc002egg.1,uc002elu.1,uc002fxe.2,uc002ghk.2,uc002giw.1,uc002hzo.2,uc002ixm.1,uc002jvl.2,uc002nvd.3,uc002ohq.2,uc002pex.2,uc002rne.2,uc002rut.2,uc002rxy.2,uc002spd.2,uc002ugy.3,uc002utk.2,uc002xnu.2,uc002xui.2,uc002yak.2,uc002yjy.1,uc003bwc.2,uc003cfu.2,uc003cgj.2,uc003ciu.2,uc003ckc.2,uc003ddo.2,uc003dmf.2,uc003dna.3,uc003ejx.2,uc003eyv.2,uc003goc.1,uc003iam.2,uc003jli.2,uc003klo.3,uc003kpv.1,uc003kqe.1,uc003kyd.2,uc003ldb.1,uc003lna.2,uc003lvc.2,uc003lvk.2,uc003lzk.2,uc003mbo.1,uc003ner.3,uc003pao.3,uc003qal.3,uc003qkt.2,uc003qme.1,uc003svj.3,uc003wyi.3,uc003wyl.2,uc003xcd.1,uc003xfb.1,uc003xyo.1,uc003yrx.2,uc003zgt.1,uc009wgo.2,uc009xwy.1,uc010pbh.1,uc010pha.1,uc010qji.1,uc010qng.1,uc010qnh.1,uc011edo.1 | K109: 2.87 | L109: 0.15040032 | M109: 8.25e-16 | N109: 9.84e-11 | O109: 1.1e-10 | P109: 2.07e-08
A110: MIMAT0004585 | B110: hsa-let-7i-3p | C110: 0.21335155 | D110: =IF(COUNTIF('TDP-43 miRNAs'!A$2:A$86,A110)>0,"yes","") -> yes | E110: =IF(COUNTIF('LUSC TDP-43 Correlations'!$A$2:$A$1038,$A110)>0,LOOKUP($A110,'LUSC TDP-43 Correlations'!$A$2:$A$1038,'LUSC TDP-43 Correlations'!C$2:C$1038),"n/a") -> 0.010993318 | F110: =IF(COUNTIF('LUSC TDP-43 Correlations'!$A$2:$A$1038,$A110)>0,LOOKUP($A110,'LUSC TDP-43 Correlations'!$A$2:$A$1038,'LUSC TDP-43 Correlations'!E$2:E$1038),"n/a") -> 0.098454487 | G110: -1.7678534 | H110: 153 | I110: 13 | J110: uc001bya.2,uc001iup.2,uc001jsp.2,uc001wtm.2,uc002czx.2,uc002rut.2,uc003axb.2,uc003cbq.2,uc003qdg.2,uc003qpc.3,uc003xik.2,uc010aeu.1,uc010sxc.1 | K110: 1.12 | L110: 0.16385756 | M110: 1.39e-06 | N110: 3.09e-05 | O110: 3.15e-05 | P110: 0.006487725
A111: MIMAT0000752 | B111: hsa-miR-328-3p | C111: 0.20227764 | D111: =IF(COUNTIF('TDP-43 miRNAs'!A$2:A$86,A111)>0,"yes","") | E111: =IF(COUNTIF('LUSC TDP-43 Correlations'!$A$2:$A$1038,$A111)>0,LOOKUP($A111,'LUSC TDP-43 Correlations'!$A$2:$A$1038,'LUSC TDP-43 Correlations'!C$2:C$1038),"n/a") -> 0.011260627 | F111: =IF(COUNTIF('LUSC TDP-43 Correlations'!$A$2:$A$1038,$A111)>0,LOOKUP($A111,'LUSC TDP-43 Correlations'!$A$2:$A$1038,'LUSC TDP-43 Correlations'!E$2:E$1038),"n/a") -> 0.094384085 | G111: -0.97513463 | H111: 701 | I111: 85 | J111: uc001bdh.2,uc001bno.2,uc001evz.2,uc001ghk.1,uc001gzq.2,uc001hej.2,uc001hif.2,uc001hub.2,uc001jbr.3,uc001jbv.1,uc001jsp.2,uc001knc.1,uc001knv.1,uc001mdn.3,uc001mhw.2,uc001mrd.2,uc001ngp.3,uc001odl.2,uc001pio.1,uc001pzt.2,uc001rap.1,uc001rcq.1,uc001rmi.2,uc001spt.2,uc001tvs.1,uc001url.3,uc001uxs.2,uc001vfq.2,uc001vfr.1,uc001wob.3,uc001wzr.2,uc001zpz.1,uc002bop.3,uc002dcu.2,uc002fax.2,uc002fsm.2,uc002gbm.3,uc002hzh.2,uc002jdz.2,uc002kxf.1,uc002mdt.2,uc002ndw.2,uc002pah.2,uc002pex.2,uc002pxe.2,uc002tnq.2,uc002uyb.3,uc002wjb.1,uc002xui.2,uc003axf.2,uc003cmx.2,uc003csa.3,uc003cxh.2,uc003cxm.1,uc003ddo.2,uc003dmn.2,uc003dwv.1,uc003ecj.3,uc003ejt.2,uc003gmu.2,uc003hwz.2,uc003kgq.3,uc003lpf.1,uc003lsc.2,uc003lsf.1,uc003phn.3,uc003pss.3,uc003qip.1,uc003uuo.1,uc003wzp.2,uc003zwq.2,uc004bgj.3,uc004cwr.2,uc004dcg.1,uc004drw.2,uc004dys.1,uc004eon.1,uc010dag.2,uc010nko.2,uc010qfb.1,uc011cwo.1,uc011dcm.1,uc011edo.1,uc011lsa.1,uc011lxf.1 | K111: 2.3 | L111: 0.17070293 | M111: 1.17e-13 | N111: 2.4e-09 | O111: 2.57e-09 | P111: 5.03e-07
A112: MIMAT0004518 | B112: hsa-miR-16-2-3p | C112: 0.19442304 | D112: =IF(COUNTIF('TDP-43 miRNAs'!A$2:A$86,A112)>0,"yes","") | E112: =IF(COUNTIF('LUSC TDP-43 Correlations'!$A$2:$A$1038,$A112)>0,LOOKUP($A112,'LUSC TDP-43 Correlations'!$A$2:$A$1038,'LUSC TDP-43 Correlations'!C$2:C$1038),"n/a") -> 0.031056734 | F112: =IF(COUNTIF('LUSC TDP-43 Correlations'!$A$2:$A$1038,$A112)>0,LOOKUP($A112,'LUSC TDP-43 Correlations'!$A$2:$A$1038,'LUSC TDP-43 Correlations'!E$2:E$1038),"n/a") -> 0.0034209131 | G112: -1.1018012 | H112: 2563 | I112: 333 | J112: uc001aol.2,uc001ayo.2,uc001bdh.2,uc001big.2,uc001bjo.2,uc001bou.3,uc001bzj.1,uc001csi.3,uc001cyj.1,uc001cze.2,uc001dhk.2,uc001diq.3,uc001dle.2,uc001dlw.2,uc001dnl.3,uc001dpn.2,uc001dqj.3,uc001drv.2,uc001dsg.2,uc001dtg.3,uc001edq.2,uc001evz.2,uc001gcn.2,uc001gge.3,uc001gnq.2,uc001gsg.2,uc001gsl.2,uc001gun.3,uc001hfq.3,uc001hif.2,uc001hjf.2,uc001hmq.2,uc001hob.3,uc001hub.2,uc001hzy.1,uc001ivi.1,uc001ize.1,uc001jbf.2,uc001jlx.2,uc001jrd.3,uc001kjr.2,uc001kwi.2,uc001kzl.3,uc001laz.2,uc001ldj.1,uc001lgz.2,uc001llp.2,uc001meo.3,uc001mkg.1,uc001nym.2,uc001oyw.3,uc001ozx.3,uc001pfw.1,uc001pku.2,uc001pxl.1,uc001pzt.2,uc001qta.3,uc001quo.1,uc001qwk.2,uc001rff.2,uc001rmi.2,uc001rxb.2,uc001rzt.2,uc001smg.1,uc001stc.2,uc001tay.2,uc001tbt.2,uc001tep.1,uc001tin.2,uc001tln.2,uc001tmi.3,uc001tpx.2,uc001uip.2,uc001une.2,uc001uof.2,uc001uqf.3,uc001url.3,uc001usp.2,uc001uus.2,uc001uwu.2,uc001uxf.2,uc001uxt.2,uc001uyi.2,uc001uys.1,uc001vbl.3,uc001vcm.2,uc001vcu.2,uc001vkd.2,uc001vqq.2,uc001vud.2,uc001wob.3,uc001wtm.2,uc001xbr.2,uc001xdp.2,uc001xhd.3,uc001xjc.2,uc001xlp.2,uc001xou.2,uc001xqa.2,uc001ybj.2,uc001zot.2,uc001zph.2,uc001zpi.2,uc001zqq.2,uc001ztp.2,uc001zuc.2,uc001zxd.1,uc001zxn.2,uc002acv.1,uc002alw.2,uc002ama.2,uc002amp.2,uc002bcj.2,uc002cvx.2,uc002dhz.2,uc002efp.2,uc002ehi.3,uc002eom.3,uc002fen.2,uc002fjl.2,uc002frj.2,uc002fxe.2,uc002fyr.3,uc002ghg.2,uc002giw.1,uc002gll.2,uc002gpc.2,uc002gpf.2,uc002gzd.1,uc002heo.1,uc002hgm.2,uc002htw.2,uc002ibv.2,uc002iso.2,uc002ivf.1,uc002ixm.1,uc002jek.2,uc002jhg.2,uc002kkm.2,uc002mfp.2,uc002mqo.3,uc002ndw.2,uc002nvd.3,uc002olh.1,uc002pdv.2,uc002pgj.1,uc002rdv.2,uc002rmz.3,uc002rpd.2,uc002rql.2,uc002rxu.2,uc002rzn.2,uc002sgn.3,uc002txh.2,uc002tyc.3,uc002ucg.2,uc002utb.2,uc002uzt.3,uc002wmu.1,uc002wpr.2,uc002xgh.1,uc002yhs.2,uc002yju.1,uc002yjy.1,uc002yly.3,uc002yrt.1,uc002yxs.2,uc002yzy.3,uc003anb.2,uc003axf.2,uc003bne.1,uc003bxt.2,uc003bxu.3,uc003cbn.2,uc003cbq.2,uc003ceb.2,uc003cex.2,uc003cfu.2,uc003ciu.2,uc003cjl.2,uc003ckc.2,uc003cos.2,uc003cqs.2,uc003dgm.2,uc003dio.2,uc003dmf.2,uc003dmn.2,uc003dna.3,uc003dnn.2,uc003dpe.2,uc003dqp.3,uc003dqt.2,uc003drw.2,uc003dwv.1,uc003ecj.3,uc003eqa.3,uc003eqg.1,uc003evd.2,uc003fwv.2,uc003gmu.2,uc003gpa.2,uc003gsq.1,uc003gxz.2,uc003hcn.2,uc003hhm.3,uc003hka.2,uc003hqs.3,uc003hre.2,uc003hsm.1,uc003hwz.2,uc003iab.3,uc003iah.2,uc003ieu.2,uc003iev.1,uc003ifa.2,uc003ihv.2,uc003iiq.3,uc003iqe.3,uc003iqg.3,uc003itp.2,uc003ixh.2,uc003jlx.2,uc003jou.2,uc003jro.1,uc003jtk.2,uc003jty.2,uc003jvq.2,uc003kgq.3,uc003kjc.2,uc003kjr.2,uc003kjz.2,uc003koa.1,uc003kos.3,uc003kte.2,uc003kyd.2,uc003kzh.2,uc003lfa.2,uc003lfi.2,uc003lmi.3,uc003lml.2,uc003lna.2,uc003lvg.1,uc003lyg.2,uc003lzb.2,uc003lzk.2,uc003mlz.3,uc003mzv.2,uc003ncs.2,uc003nye.3,uc003opy.2,uc003oxy.2,uc003psd.2,uc003puy.3,uc003pxh.2,uc003pyy.1,uc003qbr.2,uc003qch.2,uc003qcz.2,uc003qkt.2,uc003qme.1,uc003qok.1,uc003qol.2,uc003qpc.3,uc003que.2,uc003qug.2,uc003qwd.2,uc003srk.2,uc003stq.2,uc003svj.3,uc003syc.2,uc003tfr.2,uc003ugb.2,uc003uhf.3,uc003uio.2,uc003uni.3,uc003vid.2,uc003vil.2,uc003vjq.3,uc003who.2,uc003wpw.3,uc003wsi.2,uc003wxd.2,uc003wyi.3,uc003wzk.3,uc003xhs.2,uc003xyo.1,uc003ydg.2,uc003ykn.2,uc003zgt.1,uc003zij.1,uc003znq.2,uc003zyv.2,uc004arf.3,uc004axl.1,uc004bdo.1,uc004ben.2,uc004bga.1,uc004blc.2,uc004bpg.3,uc004csf.2,uc004cwi.2,uc004cwr.2,uc004ddo.2,uc004deb.2,uc004dez.1,uc004dgw.3,uc004dwf.2,uc004eef.2,uc004fef.3,uc009wgo.2,uc009wmw.2,uc009zgj.1,uc010ayu.2,uc010cnt.1,uc010eyh.2,uc010hci.2,uc010ioj.2,uc010jcm.1,uc010jpa.2,uc010mdg.2,uc010oiu.1,uc010pvb.1,uc010qlr.1,uc010qng.1,uc010udd.1,uc011bfn.1,uc011cqs.1,uc011cvc.1,uc011cwo.1,uc011egn.1,uc011lhk.1,uc011lsa.1,uc011mvs.1 | K112: 9.02 | L112: 0.17699584 | M112: 1.63e-56 | N112: 1.44e-32 | O112: 3.39e-32 | P112: 3.02e-30
A113: MIMAT0016925 | B113: hsa-miR-500b-5p | C113: 0.19320464 | D113: =IF(COUNTIF('TDP-43 miRNAs'!A$2:A$86,A113)>0,"yes","") | E113: =IF(COUNTIF('LUSC TDP-43 Correlations'!$A$2:$A$1038,$A113)>0,LOOKUP($A113,'LUSC TDP-43 Correlations'!$A$2:$A$1038,'LUSC TDP-43 Correlations'!C$2:C$1038),"n/a") -> 0.011935528 | F113: =IF(COUNTIF('LUSC TDP-43 Correlations'!$A$2:$A$1038,$A113)>0,LOOKUP($A113,'LUSC TDP-43 Correlations'!$A$2:$A$1038,'LUSC TDP-43 Correlations'!E$2:E$1038),"n/a") -> 0.085266181 | G113: -0.98166081 | H113: 872 | I113: 106 | J113: uc001big.2,uc001bjo.2,uc001cyj.1,uc001cze.2,uc001dnl.3,uc001drv.2,uc001gnq.2,uc001hdx.2,uc001hub.2,uc001ipk.2,uc001ivi.1,uc001kee.2,uc001kzl.3,uc001mel.1,uc001nop.2,uc001qan.2,uc001qqv.1,uc001stc.2,uc001uof.2,uc001wum.1,uc001xhw.1,uc001xvv.2,uc001yeh.3,uc001yxc.2,uc001zxn.2,uc002ama.2,uc002anv.2,uc002ble.2,uc002cun.1,uc002dhz.2,uc002evr.2,uc002fyr.3,uc002hgm.2,uc002iso.2,uc002jmq.2,uc002sgn.3,uc002uuo.3,uc002vrr.1,uc002xhr.2,uc002xnv.2,uc002yak.2,uc003bqi.2,uc003bsc.2,uc003cfi.1,uc003chd.2,uc003cmx.2,uc003cos.2,uc003cwu.2,uc003dan.1,uc003dax.2,uc003dmn.2,uc003drw.2,uc003dwx.3,uc003evd.2,uc003gph.1,uc003hmr.2,uc003isa.1,uc003jcm.2,uc003jeg.3,uc003jno.2,uc003jud.2,uc003kdn.2,uc003kgq.3,uc003kiz.1,uc003kjr.2,uc003ksj.2,uc003kwy.1,uc003lac.1,uc003lgq.2,uc003lsk.3,uc003lzc.2,uc003mbv.1,uc003onm.3,uc003pao.3,uc003psd.2,uc003puy.3,uc003pym.1,uc003qhu.2,uc003qie.2,uc003qks.3,uc003syc.2,uc003vjq.3,uc003wxd.2,uc003wzk.3,uc003xhw.3,uc003xnq.1,uc003yee.2,uc004akw.2,uc004ben.2,uc004bga.1,uc004brl.2,uc004ddo.2,uc004dgi.3,uc004dkm.3,uc009wve.2,uc010flk.2,uc010pps.1,uc010snd.1,uc010suz.1,uc010tup.1,uc011adw.1,uc011cwo.1,uc011cze.1,uc011jxf.1,uc011kvr.1,uc011mvs.1 | K113: 2.87 | L113: 0.24751302 | M113: 1.28e-16 | N113: 1.74e-10 | O113: 1.92e-10 | P113: 3.66e-08
A114: MIMAT0004773 | B114: hsa-miR-500a-5p | C114: 0.19275267 | D114: =IF(COUNTIF('TDP-43 miRNAs'!A$2:A$86,A114)>0,"yes","") | E114: =IF(COUNTIF('LUSC TDP-43 Correlations'!$A$2:$A$1038,$A114)>0,LOOKUP($A114,'LUSC TDP-43 Correlations'!$A$2:$A$1038,'LUSC TDP-43 Correlations'!C$2:C$1038),"n/a") -> 0.01192528 | F114: =IF(COUNTIF('LUSC TDP-43 Correlations'!$A$2:$A$1038,$A114)>0,LOOKUP($A114,'LUSC TDP-43 Correlations'!$A$2:$A$1038,'LUSC TDP-43 Correlations'!E$2:E$1038),"n/a") -> 0.085266181 | G114: -1.0732457 | H114: 1408 | I114: 183 | J114: uc001ayo.2,uc001bie.2,uc001big.2,uc001bjo.2,uc001cze.2,uc001dhk.2,uc001dle.2,uc001dpn.2,uc001fyt.3,uc001gcn.2,uc001gnq.2,uc001gun.3,uc001hdx.2,uc001hif.2,uc001htf.2,uc001iol.2,uc001ivi.1,uc001jlx.2,uc001joz.2,uc001jrb.2,uc001kee.2,uc001kzl.3,uc001led.2,uc001mel.1,uc001mhl.2,uc001ngp.3,uc001nun.2,uc001orr.2,uc001pjy.2,uc001pku.2,uc001qan.2,uc001qav.3,uc001qil.2,uc001stc.2,uc001tdm.3,uc001tep.1,uc001umh.2,uc001uqf.3,uc001uqy.2,uc001url.3,uc001uxf.2,uc001vdl.2,uc001vqy.2,uc001wrq.2,uc001wum.1,uc001wvk.2,uc001xdp.2,uc001xhd.3,uc001xqa.2,uc001zpi.2,uc001zqq.2,uc001zuc.2,uc002aly.2,uc002alz.2,uc002anc.1,uc002bop.3,uc002cun.1,uc002fyr.3,uc002gif.1,uc002gph.1,uc002gra.3,uc002gzd.1,uc002hgm.2,uc002iof.2,uc002iso.2,uc002jtr.2,uc002lyg.1,uc002mnl.2,uc002pii.3,uc002rut.2,uc002tsg.3,uc002uuo.3,uc002uyb.3,uc002vad.2,uc002vhy.2,uc002wmx.1,uc002wpr.2,uc002yak.2,uc002yly.3,uc002ymd.2,uc002ymf.2,uc002yzy.3,uc003bqi.2,uc003byk.2,uc003cau.2,uc003cbq.2,uc003cfi.1,uc003chd.2,uc003ciu.2,uc003cos.2,uc003cqs.2,uc003csa.3,uc003dan.1,uc003dna.3,uc003dqp.3,uc003evd.2,uc003eyv.2,uc003gjq.3,uc003goc.1,uc003gph.1,uc003has.2,uc003hmr.2,uc003hrw.1,uc003hyp.2,uc003iam.2,uc003igm.2,uc003ipg.2,uc003iqg.3,uc003isa.1,uc003itp.2,uc003iyx.1,uc003jeg.3,uc003jti.2,uc003jtk.2,uc003jud.2,uc003kgq.3,uc003kiz.1,uc003koa.1,uc003krb.1,uc003kvt.1,uc003kxr.2,uc003kzh.2,uc003len.2,uc003lfa.2,uc003lna.2,uc003mbv.1,uc003mbw.3,uc003mux.2,uc003mzv.2,uc003ncc.2,uc003ncs.2,uc003oxy.2,uc003pao.3,uc003piz.1,uc003psd.2,uc003pyy.1,uc003qal.3,uc003qhu.2,uc003qme.1,uc003que.2,uc003qug.2,uc003qwd.2,uc003srk.2,uc003tar.1,uc003tav.2,uc003vil.2,uc003vqx.3,uc003wxd.2,uc003wyi.3,uc003xfb.1,uc003xhw.3,uc003xnq.1,uc003ydg.2,uc003yee.2,uc003ykn.2,uc003zij.1,uc004aht.2,uc004akw.2,uc004blc.2,uc004bpg.3,uc004brl.2,uc004dgi.3,uc004dkm.3,uc004dop.2,uc004dys.1,uc009wve.2,uc009zdl.1,uc009zgj.1,uc010aeu.1,uc010flk.2,uc010hci.2,uc010jcm.1,uc010jpa.2,uc010miq.1,uc010oiu.1,uc010pvb.1,uc010qnh.1,uc010snd.1,uc010tup.1,uc010yvm.1,uc011awd.1,uc011cvc.1,uc011cwo.1 | K114: 4.96 | L114: 0.24846763 | M114: 2.89e-31 | N114: 2.31e-18 | O114: 3.28e-18 | P114: 4.86e-16
A115: MIMAT0000449 | B115: hsa-miR-146a-5p | C115: 0.21656195 | D115: =IF(COUNTIF('TDP-43 miRNAs'!A$2:A$86,A115)>0,"yes","") | E115: =IF(COUNTIF('LUSC TDP-43 Correlations'!$A$2:$A$1038,$A115)>0,LOOKUP($A115,'LUSC TDP-43 Correlations'!$A$2:$A$1038,'LUSC TDP-43 Correlations'!C$2:C$1038),"n/a") -> 0.00021469512 | F115: =IF(COUNTIF('LUSC TDP-43 Correlations'!$A$2:$A$1038,$A115)>0,LOOKUP($A115,'LUSC TDP-43 Correlations'!$A$2:$A$1038,'LUSC TDP-43 Correlations'!E$2:E$1038),"n/a") -> 0.86867144 | G115: -1.0291448 | H115: 1282 | I115: 161 | J115: uc001bsc.2,uc001bzj.1,uc001csi.3,uc001dhk.2,uc001dqj.3,uc001dtg.3,uc001evz.2,uc001gcn.2,uc001ghk.1,uc001gny.2,uc001gnz.2,uc001gzq.2,uc001iup.2,uc001jbr.3,uc001jha.3,uc001jlx.2,uc001jtb.1,uc001kea.2,uc001laz.2,uc001mvm.2,uc001ntl.2,uc001pxl.1,uc001qtv.1,uc001rap.1,uc001rxb.2,uc001tbt.2,uc001tdm.3,uc001tmi.3,uc001tps.2,uc001tvz.1,uc001umh.2,uc001url.3,uc001utf.1,uc001uxf.2,uc001uxs.2,uc001uxt.2,uc001uys.1,uc001vkc.2,uc001vkd.2,uc001wzr.2,uc001xhd.3,uc001xlp.2,uc001zqq.2,uc002alz.2,uc002amp.2,uc002anc.1,uc002cxa.2,uc002giy.2,uc002gzd.1,uc002heo.1,uc002ibv.2,uc002icm.1,uc002ivf.1,uc002ixm.1,uc002klo.2,uc002kxf.1,uc002mdt.2,uc002mhh.1,uc002nvd.3,uc002olh.1,uc002pxe.2,uc002rdv.2,uc002rut.2,uc002rxy.2,uc002rzn.2,uc002sgn.3,uc002soz.2,uc002tyc.3,uc002uni.3,uc002utk.2,uc002uuo.3,uc002uyb.3,uc002vcl.2,uc002wfl.3,uc002wsv.2,uc002xbu.2,uc002xvl.2,uc002yak.2,uc002yjy.1,uc002yly.3,uc003bsc.2,uc003bwc.2,uc003bxt.2,uc003cau.2,uc003cfu.2,uc003ciu.2,uc003ckc.2,uc003cqs.2,uc003cwu.2,uc003czy.1,uc003dan.1,uc003dcl.1,uc003dio.2,uc003dna.3,uc003eqg.1,uc003ewm.2,uc003gqz.2,uc003hbz.2,uc003hrm.3,uc003iah.2,uc003ieu.2,uc003igm.2,uc003ire.2,uc003isa.1,uc003itp.2,uc003jho.2,uc003kdn.2,uc003kjr.2,uc003klo.3,uc003koa.1,uc003kqe.1,uc003ktk.2,uc003kzu.2,uc003lpr.1,uc003lvc.2,uc003lzc.2,uc003mch.2,uc003ncs.2,uc003ner.3,uc003obb.2,uc003pao.3,uc003pap.3,uc003pss.3,uc003pym.1,uc003pyy.1,uc003qol.2,uc003srk.2,uc003svj.3,uc003twg.2,uc003uhf.3,uc003vej.2,uc003vil.2,uc003whl.2,uc003xez.2,uc003xhh.3,uc003xhs.2,uc003xyo.1,uc003ykn.2,uc003ywa.1,uc003zij.1,uc004blh.2,uc004bpg.3,uc004cvc.2,uc004ddo.2,uc004dkm.3,uc009wve.2,uc009xwy.1,uc009zdl.1,uc010dxu.2,uc010dye.1,uc010dyj.2,uc010hcz.2,uc010nko.2,uc010qji.1,uc010qng.1,uc010snd.1,uc011cvc.1,uc011dcm.1,uc011dpt.1,uc011edo.1,uc011jxf.1 | K115: 4.36 | L115: 0.25519079 | M115: 3.83e-26 | N115: 1.42e-15 | O115: 1.73e-15 | P115: 2.97e-13
A116: MIMAT0000731 | B116: hsa-miR-378a-5p | C116: 0.16744617 | D116: =IF(COUNTIF('TDP-43 miRNAs'!A$2:A$86,A116)>0,"yes","") | E116: =IF(COUNTIF('LUSC TDP-43 Correlations'!$A$2:$A$1038,$A116)>0,LOOKUP($A116,'LUSC TDP-43 Correlations'!$A$2:$A$1038,'LUSC TDP-43 Correlations'!C$2:C$1038),"n/a") -> 0.00022119263 | F116: =IF(COUNTIF('LUSC TDP-43 Correlations'!$A$2:$A$1038,$A116)>0,LOOKUP($A116,'LUSC TDP-43 Correlations'!$A$2:$A$1038,'LUSC TDP-43 Correlations'!E$2:E$1038),"n/a") -> 0.86670479 | G116: -0.99320921 | H116: 1021 | I116: 125 | J116: uc001bdh.2,uc001bdm.2,uc001cwp.2,uc001dqj.3,uc001dxx.3,uc001gcn.2,uc001gnq.2,uc001gws.2,uc001hav.3,uc001hjf.2,uc001hob.3,uc001iha.2,uc001ipk.2,uc001iux.2,uc001jbf.2,uc001jbv.1,uc001kvv.2,uc001lss.2,uc001meo.3,uc001mvs.2,uc001nun.2,uc001osu.2,uc001ozh.2,uc001pwf.2,uc001qav.3,uc001qnm.2,uc001rba.2,uc001txg.2,uc001url.3,uc001vkd.2,uc001vqy.2,uc001wob.3,uc001wvk.2,uc001wvo.2,uc001xpo.2,uc001zmp.1,uc001zxd.1,uc001zxn.2,uc002amp.2,uc002dhz.2,uc002dlq.2,uc002dtp.2,uc002eom.3,uc002gpc.2,uc002gpf.2,uc002hgk.2,uc002icm.1,uc002ied.3,uc002ixm.1,uc002jky.1,uc002jmq.2,uc002kln.2,uc002ldg.2,uc002nhv.2,uc002rne.2,uc002rxy.2,uc002soz.2,uc002tbr.2,uc002txh.2,uc002utb.2,uc002uwy.2,uc002vtb.1,uc002wah.1,uc002wmu.1,uc002wmx.1,uc002wpr.2,uc002xnu.2,uc002xnv.2,uc002yly.3,uc002yrn.2,uc002ywf.1,uc003bne.1,uc003bun.2,uc003byw.2,uc003cau.2,uc003cwv.3,uc003czy.1,uc003dan.1,uc003dax.2,uc003fav.2,uc003flh.3,uc003hrm.3,uc003hsm.1,uc003isa.1,uc003jud.2,uc003kdn.2,uc003koa.1,uc003ldb.1,uc003len.2,uc003lfi.2,uc003lyd.2,uc003lzk.2,uc003ner.3,uc003nqg.2,uc003onm.3,uc003pao.3,uc003phn.3,uc003piz.1,uc003psd.2,uc003tlz.2,uc003uds.1,uc003upi.2,uc003vej.2,uc003whj.2,uc003wpw.3,uc003xhw.3,uc003xnq.1,uc003ykn.2,uc003zwq.2,uc003zyv.2,uc004aht.2,uc004akw.2,uc004ben.2,uc004bga.1,uc004brl.2,uc004dcg.1,uc004dgg.2,uc004eon.1,uc010dxm.1,uc010dyj.2,uc010pbh.1,uc010uek.1,uc011ave.1,uc011ayi.1,uc011cvc.1 | K116: 3.39 | L116: 0.26957148 | M116: 1.24e-19 | N116: 5.57e-12 | O116: 6.39e-12 | P116: 1.17e-09
A117: MIMAT0000510 | B117: hsa-miR-320a | C117: 0.15863912 | D117: =IF(COUNTIF('TDP-43 miRNAs'!A$2:A$86,A117)>0,"yes","") | E117: =IF(COUNTIF('LUSC TDP-43 Correlations'!$A$2:$A$1038,$A117)>0,LOOKUP($A117,'LUSC TDP-43 Correlations'!$A$2:$A$1038,'LUSC TDP-43 Correlations'!C$2:C$1038),"n/a") -> 0.019172697 | F117: =IF(COUNTIF('LUSC TDP-43 Correlations'!$A$2:$A$1038,$A117)>0,LOOKUP($A117,'LUSC TDP-43 Correlations'!$A$2:$A$1038,'LUSC TDP-43 Correlations'!E$2:E$1038),"n/a") -> 0.024745613 | G117: -1.0618278 | H117: 1833 | I117: 234 | J117: uc001ayo.2,uc001big.2,uc001bno.2,uc001cmn.2,uc001cmo.2,uc001dhk.2,uc001dlw.2,uc001ebe.2,uc001edq.2,uc001enn.3,uc001fsz.1,uc001gun.3,uc001hdx.2,uc001hej.2,uc001hob.3,uc001ihb.2,uc001irr.1,uc001iux.2,uc001jbi.2,uc001jhf.2,uc001ldj.1,uc001lox.3,uc001lyu.2,uc001mdn.3,uc001mhe.1,uc001nkr.1,uc001nor.2,uc001otu.2,uc001rmi.2,uc001rxb.2,uc001rzo.1,uc001smg.1,uc001spt.2,uc001stc.2,uc001tbt.2,uc001tep.1,uc001toi.1,uc001tps.2,uc001tpx.2,uc001tvz.1,uc001txg.2,uc001une.2,uc001uqf.3,uc001uqy.2,uc001uwu.2,uc001uyi.2,uc001vcu.2,uc001vqq.2,uc001vsj.3,uc001vud.2,uc001wtm.2,uc001wvk.2,uc001xjc.2,uc001xlp.2,uc001xpo.2,uc001yaw.2,uc001yeh.3,uc001zks.1,uc001zmp.1,uc001zpc.2,uc001zph.2,uc001zxn.2,uc002acv.1,uc002aly.2,uc002ama.2,uc002amp.2,uc002amv.2,uc002aqz.2,uc002bcj.2,uc002bcm.2,uc002efp.2,uc002fjx.2,uc002fxx.2,uc002gll.2,uc002gpc.2,uc002gzd.1,uc002heo.1,uc002iso.2,uc002ivf.1,uc002ixm.1,uc002iyt.1,uc002jhg.2,uc002jtr.2,uc002kkm.2,uc002kln.2,uc002klr.2,uc002kxf.1,uc002nfp.2,uc002nvd.3,uc002pgj.1,uc002qza.2,uc002rne.2,uc002rxy.2,uc002soz.2,uc002spd.2,uc002ugy.3,uc002wsv.2,uc002xgh.1,uc002xhr.2,uc002xli.1,uc002xvo.2,uc002yjy.1,uc002ymd.2,uc002yzy.3,uc003bne.1,uc003bqi.2,uc003bwc.2,uc003bxt.2,uc003cau.2,uc003cay.2,uc003cew.2,uc003cfu.2,uc003cjl.2,uc003ckc.2,uc003cox.1,uc003cph.1,uc003cwu.2,uc003ddo.2,uc003dio.2,uc003dmn.2,uc003dnn.2,uc003dqt.2,uc003dwv.1,uc003dwx.3,uc003ecj.3,uc003emx.2,uc003eqg.1,uc003fav.2,uc003fwv.2,uc003gjq.3,uc003gpa.2,uc003hsm.1,uc003hwl.2,uc003hxv.1,uc003iam.2,uc003ipg.2,uc003iqe.3,uc003ire.2,uc003isa.1,uc003itp.2,uc003jeg.3,uc003jho.2,uc003jli.2,uc003jlx.2,uc003jou.2,uc003jro.1,uc003kdn.2,uc003kgq.3,uc003kiz.1,uc003kjr.2,uc003kjz.2,uc003kmz.2,uc003koa.1,uc003krb.1,uc003ktk.2,uc003kwy.1,uc003kyd.2,uc003lna.2,uc003lpr.1,uc003lsc.2,uc003lsf.1,uc003lsp.2,uc003lwm.3,uc003mbw.3,uc003mch.2,uc003miz.2,uc003mll.1,uc003ncc.2,uc003ncs.2,uc003obj.2,uc003obw.2,uc003ocs.1,uc003ojx.3,uc003onm.3,uc003phn.3,uc003piz.1,uc003pmv.2,uc003pym.1,uc003pyy.1,uc003qhu.2,uc003qip.1,uc003qme.1,uc003svg.2,uc003tfr.2,uc003tlz.2,uc003und.2,uc003uuo.1,uc003veb.1,uc003vej.2,uc003vid.2,uc003vil.2,uc003vjq.3,uc003wyi.3,uc003wzk.3,uc003xez.2,uc003xhw.3,uc003xjo.1,uc003xkm.1,uc003yee.2,uc003zgt.1,uc003zij.1,uc003zyv.2,uc003zyz.2,uc004akw.2,uc004axl.1,uc004bdo.1,uc004ben.2,uc004blc.2,uc004blh.2,uc004bpg.3,uc004csf.2,uc004cwi.2,uc004czu.2,uc004deb.2,uc004dez.1,uc004dgw.3,uc004dop.2,uc004eon.1,uc004fef.3,uc009vvt.1,uc009wmw.2,uc009wve.2,uc009xpd.2,uc010ago.2,uc010jcm.1,uc010mdg.2,uc010miq.1,uc010nko.2,uc010pbh.1,uc010tup.1,uc011bfn.1,uc011jxf.1,uc011lsa.1,uc011mvs.1 | K117: 6.34 | L117: 0.29653941 | M117: 1.56e-38 | N117: 8.7e-22 | O117: 1.36e-21 | P117: 1.83e-19
A118: MIMAT0000254 | B118: hsa-miR-10b-5p | C118: 0.24914633 | D118: =IF(COUNTIF('TDP-43 miRNAs'!A$2:A$86,A118)>0,"yes","") -> yes | E118: =IF(COUNTIF('LUSC TDP-43 Correlations'!$A$2:$A$1038,$A118)>0,LOOKUP($A118,'LUSC TDP-43 Correlations'!$A$2:$A$1038,'LUSC TDP-43 Correlations'!C$2:C$1038),"n/a") -> 0.03060697 | F118: =IF(COUNTIF('LUSC TDP-43 Correlations'!$A$2:$A$1038,$A118)>0,LOOKUP($A118,'LUSC TDP-43 Correlations'!$A$2:$A$1038,'LUSC TDP-43 Correlations'!E$2:E$1038),"n/a") -> 0.0036944732 | G118: -0.99923074 | H118: 900 | I118: 111 | J118: uc001aky.2,uc001dnl.3,uc001dtg.3,uc001evn.2,uc001fvk.2,uc001fyt.3,uc001hav.3,uc001hmq.2,uc001irr.1,uc001iux.2,uc001joz.2,uc001meo.3,uc001mhe.1,uc001mkg.1,uc001ohr.2,uc001pce.2,uc001pxl.1,uc001rap.1,uc001rxb.2,uc001spt.2,uc001tix.2,uc001tpx.2,uc001uqf.3,uc001uus.2,uc001uxt.2,uc001wvo.2,uc001xqa.2,uc001ybj.2,uc001znl.2,uc001zpz.1,uc002amr.2,uc002dtp.2,uc002eqb.1,uc002fax.2,uc002gbm.3,uc002iof.2,uc002ixm.1,uc002jek.2,uc002mjw.2,uc002mnl.2,uc002msc.1,uc002mst.3,uc002ont.3,uc002oot.2,uc002pcm.2,uc002pii.3,uc002rut.2,uc002ruv.2,uc002tyc.3,uc002ugy.3,uc002utb.2,uc002utk.2,uc002yjy.1,uc002ymf.2,uc002ywf.1,uc003axf.2,uc003bne.1,uc003brz.2,uc003bsc.2,uc003cco.2,uc003cqm.2,uc003csa.3,uc003dkf.3,uc003gsq.1,uc003iah.2,uc003iqz.3,uc003ire.2,uc003jfj.2,uc003jho.2,uc003jou.2,uc003kjc.2,uc003kjr.2,uc003kjz.2,uc003kos.3,uc003kzu.2,uc003ldh.2,uc003lsf.1,uc003lwk.1,uc003lyg.2,uc003lzc.2,uc003mbo.1,uc003nqg.2,uc003ocu.1,uc003ojx.3,uc003pap.3,uc003qdg.2,uc003qpc.3,uc003qwd.2,uc003uni.3,uc003whj.2,uc003wpw.3,uc003xyo.1,uc003ydg.2,uc003yrx.2,uc003zgt.1,uc003zle.2,uc003zyz.2,uc004axl.1,uc004csf.2,uc004cxe.2,uc004eon.1,uc004fef.3,uc010aeu.1,uc010dhc.2,uc010qfb.1,uc010uek.1,uc010vzy.1,uc010zlt.1,uc011bfn.1,uc011kvr.1,uc011mvs.1 | K118: 3.01 | L118: 0.30779326 | M118: 6.65e-18 | N118: 8.05e-11 | O118: 9.04e-11 | P118: 1.69e-08
A119: MIMAT0000081 | B119: hsa-miR-25-3p | C119: 0.11489138 | D119: =IF(COUNTIF('TDP-43 miRNAs'!A$2:A$86,A119)>0,"yes","") | E119: =IF(COUNTIF('LUSC TDP-43 Correlations'!$A$2:$A$1038,$A119)>0,LOOKUP($A119,'LUSC TDP-43 Correlations'!$A$2:$A$1038,'LUSC TDP-43 Correlations'!C$2:C$1038),"n/a") -> 0.11374945 | F119: =IF(COUNTIF('LUSC TDP-43 Correlations'!$A$2:$A$1038,$A119)>0,LOOKUP($A119,'LUSC TDP-43 Correlations'!$A$2:$A$1038,'LUSC TDP-43 Correlations'!E$2:E$1038),"n/a") -> 1.3509738e-09 | G119: -1.0725361 | H119: 1243 | I119: 162 | J119: uc001bjo.2,uc001csi.3,uc001cyj.1,uc001dcf.2,uc001dhk.2,uc001diq.3,uc001dqj.3,uc001edq.2,uc001fyt.3,uc001gun.3,uc001gzq.2,uc001hgw.1,uc001hzy.1,uc001iha.2,uc001ipk.2,uc001iux.2,uc001ize.1,uc001jje.2,uc001jsp.2,uc001jtb.1,uc001kjr.2,uc001kzl.3,uc001led.2,uc001mem.1,uc001ngp.3,uc001nop.2,uc001otu.2,uc001ozx.3,uc001qwk.2,uc001rxb.2,uc001tay.2,uc001tps.2,uc001tvz.1,uc001umh.2,uc001uus.2,uc001uxf.2,uc001uys.1,uc001vbl.3,uc001vgs.2,uc001wsq.2,uc001wvk.2,uc001wvo.2,uc001xdp.2,uc001xhd.3,uc001ybj.2,uc001yeh.3,uc001znl.2,uc002alz.2,uc002aqf.2,uc002bcm.2,uc002ehi.3,uc002fax.2,uc002gbm.3,uc002gra.3,uc002ibv.2,uc002iyt.1,uc002jhg.2,uc002jmq.2,uc002kln.2,uc002kte.2,uc002ldg.2,uc002lli.2,uc002ndw.2,uc002odm.1,uc002qza.2,uc002rut.2,uc002rzn.2,uc002thq.1,uc002tsg.3,uc002utb.2,uc002uyb.3,uc002uzf.3,uc002xli.1,uc002yjy.1,uc002ymd.2,uc002yrt.1,uc003bqi.2,uc003cbn.2,uc003cbq.2,uc003chd.2,uc003cht.2,uc003cos.2,uc003dio.2,uc003dnn.2,uc003dwx.3,uc003evd.2,uc003eyv.2,uc003gpa.2,uc003guo.2,uc003hrw.1,uc003hsm.1,uc003hxv.1,uc003iah.2,uc003iev.1,uc003iqe.3,uc003iqr.1,uc003iqz.3,uc003itp.2,uc003ixh.2,uc003jeg.3,uc003jho.2,uc003jlx.2,uc003jti.2,uc003jvq.2,uc003kjz.2,uc003koa.1,uc003kos.3,uc003kpv.1,uc003kpx.1,uc003kte.2,uc003ktk.2,uc003kvt.1,uc003kxr.2,uc003kzh.2,uc003ldb.1,uc003lfi.2,uc003llt.2,uc003lmi.3,uc003lzb.2,uc003mzv.2,uc003pfa.2,uc003pss.3,uc003puy.3,uc003qie.2,uc003srk.2,uc003syc.2,uc003tfr.2,uc003uni.3,uc003whl.2,uc003wzp.2,uc003xkm.1,uc003zle.2,uc003zyv.2,uc003zyz.2,uc004axl.1,uc004ben.2,uc004bfu.2,uc004bgq.2,uc004blc.2,uc004blh.2,uc004bpg.3,uc004brl.2,uc004cig.2,uc004cwr.2,uc004deb.2,uc004dgi.3,uc004euu.2,uc009xgp.2,uc010dia.2,uc010eyh.2,uc010jcm.1,uc010mdg.2,uc010miq.1,uc010udd.1,uc010yny.1,uc010zlt.1,uc011awd.1,uc011bac.1,uc011bfn.1,uc011edo.1,uc011egn.1,uc011mvs.1 | K119: 4.39 | L119: 0.34832258 | M119: 7.03e-28 | N119: 7.91e-16 | O119: 9.83e-16 | P119: 1.66e-13
A120: MIMAT0000757 | B120: hsa-miR-151a-3p | C120: 0.093787607 | D120: =IF(COUNTIF('TDP-43 miRNAs'!A$2:A$86,A120)>0,"yes","") -> yes | E120: =IF(COUNTIF('LUSC TDP-43 Correlations'!$A$2:$A$1038,$A120)>0,LOOKUP($A120,'LUSC TDP-43 Correlations'!$A$2:$A$1038,'LUSC TDP-43 Correlations'!C$2:C$1038),"n/a") -> 0.018904949 | F120: =IF(COUNTIF('LUSC TDP-43 Correlations'!$A$2:$A$1038,$A120)>0,LOOKUP($A120,'LUSC TDP-43 Correlations'!$A$2:$A$1038,'LUSC TDP-43 Correlations'!E$2:E$1038),"n/a") -> 0.025924748 | G120: -1.0228518 | H120: 785 | I120: 99 | J120: uc001bdm.2,uc001bfy.2,uc001bou.3,uc001bsc.2,uc001dle.2,uc001dlw.2,uc001gge.3,uc001ghk.1,uc001hgw.1,uc001jbr.3,uc001jbv.1,uc001jce.2,uc001laz.2,uc001lgz.2,uc001mvs.2,uc001pgf.2,uc001quo.1,uc001qwk.2,uc001tps.2,uc001uqy.2,uc001vbl.3,uc001vdl.2,uc001vkd.2,uc001wvk.2,uc001ybj.2,uc001zka.3,uc001zng.1,uc001zpc.2,uc001ztp.2,uc002bop.3,uc002czx.2,uc002frj.2,uc002fsm.2,uc002iyt.1,uc002jdz.2,uc002jhg.2,uc002klo.2,uc002mnq.2,uc002obn.1,uc002olh.1,uc002uyb.3,uc002wpr.2,uc002xgh.1,uc002yly.3,uc002yzy.3,uc003adp.3,uc003ceb.2,uc003cfu.2,uc003cjl.2,uc003ddo.2,uc003dpe.2,uc003ecj.3,uc003gft.3,uc003goc.1,uc003gxz.2,uc003hre.2,uc003hrw.1,uc003ixo.2,uc003jti.2,uc003kpv.1,uc003kqe.1,uc003krb.1,uc003ktk.2,uc003kzu.2,uc003lac.1,uc003ldb.1,uc003lpr.1,uc003lvg.1,uc003lvk.2,uc003mch.2,uc003mvt.2,uc003ncs.2,uc003piz.1,uc003pym.1,uc003stq.2,uc003syn.1,uc003uds.1,uc003uni.3,uc003vil.2,uc003vsi.2,uc003xfb.1,uc003xik.2,uc003ydg.2,uc003zij.1,uc003zwq.2,uc004blc.2,uc004brl.2,uc004eef.2,uc004eon.1,uc004euu.2,uc010hci.2,uc010pbh.1,uc010ryx.1,uc010wot.1,uc011awd.1,uc011bfn.1,uc011jxf.1,uc011ljd.1,uc011mvs.1 | K120: 2.68 | L120: 0.44981898 | M120: 8.75e-17 | N120: 1.67e-09 | O120: 1.79e-09 | P120: 3.5e-07
... A131: MIMAT0003249 | B131: hsa-miR-584-5p | C131: 0.017025179 | D131: =IF(COUNTIF('TDP-43 miRNAs'!A$2:A$86,A131)>0,"yes","") | E131: =IF(COUNTIF('LUSC TDP-43 Correlations'!$A$2:$A$1038,$A131)>0,LOOKUP($A131,'LUSC TDP-43 Correlations'!$A$2:$A$1038,'LUSC TDP-43 Correlations'!C$2:C$1038),"n/a") -> 0.00036251434 | F131: =IF(COUNTIF('LUSC TDP-43 Correlations'!$A$2:$A$1038,$A131)>0,LOOKUP($A131,'LUSC TDP-43 Correlations'!$A$2:$A$1038,'LUSC TDP-43 Correlations'!E$2:E$1038),"n/a") -> 0.81975918 | G131: -0.9086584 | H131: 1090 | I131: 124 | J131: uc001aky.2,uc001big.2,uc001bpc.3,uc001cqk.3,uc001csi.3,uc001cyj.1,uc001dhk.2,uc001dle.2,uc001edq.2,uc001gnq.2,uc001iha.2,uc001jbr.3,uc001jlx.2,uc001kee.2,uc001nor.2,uc001oij.1,uc001pku.2,uc001qan.2,uc001qnm.2,uc001rap.1,uc001tln.2,uc001tps.2,uc001uip.2,uc001url.3,uc001vdl.2,uc001vkc.2,uc001vkd.2,uc001vqq.2,uc001wrq.2,uc001wsq.2,uc001wzr.2,uc001xlp.2,uc001xqa.2,uc001xzx.3,uc001zpi.2,uc001zxc.1,uc002amv.2,uc002aqz.2,uc002ble.2,uc002ehi.3,uc002fsm.2,uc002gbm.3,uc002gph.1,uc002nvd.3,uc002pii.3,uc002rdl.2,uc002rpd.2,uc002sfr.3,uc002sgn.3,uc002vrr.1,uc002wmx.1,uc002xvl.2,uc002yrt.1,uc002zgb.1,uc003apy.3,uc003bqq.2,uc003cbn.2,uc003cbq.2,uc003ckc.2,uc003cmx.2,uc003czy.1,uc003dan.1,uc003dge.2,uc003dio.2,uc003dmn.2,uc003dnr.2,uc003dqt.2,uc003gjq.3,uc003gsq.1,uc003hbz.2,uc003hre.2,uc003hsm.1,uc003hxv.1,uc003idv.3,uc003ifa.2,uc003ipg.2,uc003iqz.3,uc003ire.2,uc003ixd.2,uc003jti.2,uc003jtk.2,uc003jud.2,uc003krb.1,uc003kte.2,uc003kwy.1,uc003kxr.2,uc003kyd.2,uc003kzh.2,uc003lfa.2,uc003lml.2,uc003mzv.2,uc003nhv.2,uc003nye.3,uc003ocu.1,uc003pfa.2,uc003piz.1,uc003puy.3,uc003pym.1,uc003qbr.2,uc003qcz.2,uc003qdg.2,uc003qkt.2,uc003qme.1,uc003uhf.3,uc003vil.2,uc003xhh.3,uc003yvx.2,uc003znq.2,uc004awm.2,uc004czu.2,uc004dez.1,uc004dgg.2,uc004fnf.2,uc009wgo.2,uc010aeu.1,uc010jcm.1,uc010mdg.2,uc010msg.2,uc010udd.1,uc010yvm.1,uc011awd.1,uc011dkv.1,uc011egn.1,uc011lxf.1 | K131: 3.36 | L131: 0.95178153 | M131: 6.56e-17 | N131: 1.48e-06 | O131: 1.52e-06 | P131: 0.000310086

Sheet LUSCupTranscriptsDownMiRNAs
A1: Supplemental Table10.LUSC pipeline Results
A2: Differentially Expressed miRNAs (pDESeq2 < 0.1)
