Workbook

Sheet LUSCdownTranscriptsUpMiRNAs
A1: Differentially Expressed miRNAs (pDESeq2 < 0.1)
A2: miRBaseAccension | B2: ID | C2: log2FoldChange | D2: Regulated by TDP-43? | E2: R2 TDP-43 Correlation | F2: Correlation Adjusted P-value | G2: odds_ratio_log | H2: numPredictedTargets | I2: numDEgenes | J2: DEgeneList | K2: percentDEgenes | L2: pDESeq2 | M2: pFatiscan | N2: pCombined | O2: pCombinedFDR | P2: pCombinedFWER
A3: MIMAT0001080 | B3: hsa-miR-196b-5p | C3: 5.2082709 | D3: =IF(COUNTIF('TDP-43 miRNAs'!A$2:A$86,A3)>0,"yes","") | E3: =IF(COUNTIF('LUSC TDP-43 Correlations'!$A$2:$A$1038,$A3)>0,LOOKUP($A3,'LUSC TDP-43 Correlations'!$A$2:$A$1038,'LUSC TDP-43 Correlations'!C$2:C$1038),"n/a") -> 0.089909098 | F3: =IF(COUNTIF('LUSC TDP-43 Correlations'!$A$2:$A$1038,$A3)>0,LOOKUP($A3,'LUSC TDP-43 Correlations'!$A$2:$A$1038,'LUSC TDP-43 Correlations'!E$2:E$1038),"n/a") -> 9.9965931e-08 | G3: -1.0893239 | H3: 848 | I3: 113 | J3: uc001bkq.3,uc001cmo.2,uc001dnl.3,uc001gsg.2,uc001hav.3,uc001hob.3,uc001hub.2,uc001hzy.1,uc001ipk.2,uc001irr.1,uc001jrd.3,uc001jsv.2,uc001kjr.2,uc001kvv.2,uc001laz.2,uc001ldj.1,uc001mdn.3,uc001mel.1,uc001pku.2,uc001quo.1,uc001rap.1,uc001tln.2,uc001tvz.1,uc001uuk.3,uc001uys.1,uc001vcm.2,uc001wtf.3,uc001wvo.2,uc001xmc.3,uc001xou.2,uc001xqa.2,uc001xrn.2,uc001yeh.3,uc001zka.3,uc001zks.1,uc001zng.1,uc001zph.2,uc002acv.1,uc002aqf.2,uc002bcj.2,uc002bcm.2,uc002cvx.2,uc002egg.1,uc002flj.2,uc002gbm.3,uc002gfb.2,uc002gzd.1,uc002jhg.2,uc002jmq.2,uc002jtr.2,uc002klo.2,uc002kte.2,uc002lwd.2,uc002txh.2,uc002uyb.3,uc002xvo.2,uc002yjy.1,uc002yrt.1,uc002zgb.1,uc003bsc.2,uc003ceb.2,uc003cew.2,uc003cgj.2,uc003dwx.3,uc003ecj.3,uc003ewm.2,uc003hly.3,uc003hxv.1,uc003iah.2,uc003idq.1,uc003ipg.2,uc003iqe.3,uc003kdn.2,uc003kjc.2,uc003koa.1,uc003kpv.1,uc003krb.1,uc003kvt.1,uc003lna.2,uc003lpr.1,uc003lvg.1,uc003lzc.2,uc003ojx.3,uc003onm.3,uc003pao.3,uc003psd.2,uc003qbr.2,uc003qch.2,uc003qhu.2,uc003qks.3,uc003que.2,uc003qug.2,uc003syn.1,uc003xhs.2,uc003xhw.3,uc003xkm.1,uc003zxt.2,uc003zyz.2,uc004arf.3,uc004csx.3,uc004dop.2,uc004eef.2,uc010eyh.2,uc010hci.2,uc010msg.2,uc010ndt.2,uc010nko.2,uc010udd.1,uc010zlt.1,uc011cwo.1,uc011dkv.1,uc011edo.1,uc011lsa.1 | K3: 3.06 | L3: 1.73e-101 | M3: 9.27e-21 | N3: 2.68e-104 | O3: 1.41e-102 | P3: 5.63e-102
A4: MIMAT0000266 | B4: hsa-miR-205-5p | C4: 5.1306219 | D4: =IF(COUNTIF('TDP-43 miRNAs'!A$2:A$86,A4)>0,"yes","") | E4: =IF(COUNTIF('LUSC TDP-43 Correlations'!$A$2:$A$1038,$A4)>0,LOOKUP($A4,'LUSC TDP-43 Correlations'!$A$2:$A$1038,'LUSC TDP-43 Correlations'!C$2:C$1038),"n/a") -> 0.017162085 | F4: =IF(COUNTIF('LUSC TDP-43 Correlations'!$A$2:$A$1038,$A4)>0,LOOKUP($A4,'LUSC TDP-43 Correlations'!$A$2:$A$1038,'LUSC TDP-43 Correlations'!E$2:E$1038),"n/a") -> 0.034875734 | G4: -1.3566357 | H4: 1229 | I4: 202 | J4: uc001bjo.2,uc001bkq.3,uc001cmo.2,uc001csi.3,uc001ctq.1,uc001cvd.2,uc001cyc.1,uc001dbh.2,uc001diq.3,uc001dpn.2,uc001drv.2,uc001dtg.3,uc001dyw.3,uc001enp.1,uc001gge.3,uc001gnq.2,uc001gun.3,uc001hav.3,uc001hmq.2,uc001hzy.1,uc001iol.2,uc001jbv.1,uc001jje.2,uc001knc.1,uc001kwi.2,uc001kzl.3,uc001mem.1,uc001mkg.1,uc001mvm.2,uc001ngp.3,uc001ohr.2,uc001owu.2,uc001ozx.3,uc001qta.3,uc001rmi.2,uc001rsn.2,uc001smg.1,uc001tay.2,uc001tbt.2,uc001tep.1,uc001tix.2,uc001txb.2,uc001uip.2,uc001unq.3,uc001uqf.3,uc001url.3,uc001uxt.2,uc001vcu.2,uc001vqq.2,uc001wsq.2,uc001wvk.2,uc001wvo.2,uc001xdp.2,uc001xou.2,uc001ybj.2,uc001ztp.2,uc001zuc.2,uc001zxc.1,uc002ama.2,uc002cxa.2,uc002czx.2,uc002dbg.1,uc002dlq.2,uc002dws.2,uc002dwt.2,uc002egg.1,uc002ehi.3,uc002elu.1,uc002fjl.2,uc002fxx.2,uc002fxy.2,uc002gbm.3,uc002gph.1,uc002hzo.2,uc002ivf.1,uc002jek.2,uc002jtr.2,uc002ldg.2,uc002mnl.2,uc002mqo.3,uc002ont.3,uc002pii.3,uc002qza.2,uc002rut.2,uc002rxu.2,uc002rxy.2,uc002sgn.3,uc002szf.1,uc002tbr.2,uc002ucg.2,uc002ugy.3,uc002uyb.3,uc002vrr.1,uc002wmu.1,uc002xnu.2,uc002xui.2,uc002xvl.2,uc002yly.3,uc003anb.2,uc003bne.1,uc003cau.2,uc003cbq.2,uc003ciu.2,uc003clu.1,uc003cmx.2,uc003cox.1,uc003czy.1,uc003dkf.3,uc003dmn.2,uc003dnr.2,uc003dqp.3,uc003ejx.2,uc003eqa.3,uc003flh.3,uc003gmu.2,uc003gsq.1,uc003guo.2,uc003hbz.2,uc003hqp.2,uc003hrw.1,uc003hwz.2,uc003ieu.2,uc003iev.1,uc003igm.2,uc003ihv.2,uc003ipg.2,uc003ixo.2,uc003jcm.2,uc003kgq.3,uc003kjr.2,uc003klb.2,uc003koa.1,uc003kos.3,uc003kpv.1,uc003kte.2,uc003kzh.2,uc003kzu.2,uc003ldh.2,uc003lfa.2,uc003lna.2,uc003lpf.1,uc003lpr.1,uc003lvc.2,uc003lzc.2,uc003mbw.3,uc003mll.1,uc003nhv.2,uc003obb.2,uc003omw.2,uc003oxy.2,uc003pao.3,uc003pss.3,uc003pym.1,uc003qbr.2,uc003qme.1,uc003qrt.3,uc003que.2,uc003qug.2,uc003syc.2,uc003syn.1,uc003twg.2,uc003uni.3,uc003veb.1,uc003vjq.3,uc003vqx.3,uc003wpw.3,uc003wxd.2,uc003xhs.2,uc003xhw.3,uc003xkm.1,uc003yee.2,uc003zle.2,uc003zyv.2,uc004akw.2,uc004bfu.2,uc004blc.2,uc004cig.2,uc004csx.3,uc004cwi.2,uc004czu.2,uc004dcg.1,uc004deb.2,uc009wve.2,uc010aeu.1,uc010ayu.2,uc010ioj.2,uc010jcm.1,uc010juk.2,uc010miq.1,uc010msg.2,uc010pvb.1,uc010rfl.1,uc010vzy.1,uc010yny.1,uc011awd.1,uc011bkk.1,uc011cvc.1,uc011dpt.1,uc011dzj.1,uc011edo.1,uc011jxf.1,uc011mvs.1 | K4: 5.47 | L4: 1.48e-97 | M4: 2.02e-49 | N4: 1.36e-140 | O4: 2.85e-138 | P4: 2.85e-138
A5: MIMAT0004926 | B5: hsa-miR-708-5p | C5: 3.4428139 | D5: =IF(COUNTIF('TDP-43 miRNAs'!A$2:A$86,A5)>0,"yes","") | E5: =IF(COUNTIF('LUSC TDP-43 Correlations'!$A$2:$A$1038,$A5)>0,LOOKUP($A5,'LUSC TDP-43 Correlations'!$A$2:$A$1038,'LUSC TDP-43 Correlations'!C$2:C$1038),"n/a") -> 0.0032655552 | F5: =IF(COUNTIF('LUSC TDP-43 Correlations'!$A$2:$A$1038,$A5)>0,LOOKUP($A5,'LUSC TDP-43 Correlations'!$A$2:$A$1038,'LUSC TDP-43 Correlations'!E$2:E$1038),"n/a") -> 0.41311277 | G5: -1.0143251 | H5: 978 | I5: 122 | J5: uc001aiq.2,uc001aol.2,uc001bld.3,uc001cqk.3,uc001dlw.2,uc001drv.2,uc001dxx.3,uc001eer.1,uc001fyt.3,uc001gny.2,uc001gnz.2,uc001gws.2,uc001hgw.1,uc001hub.2,uc001hzw.2,uc001iux.2,uc001ize.1,uc001jbf.2,uc001jbi.2,uc001jce.2,uc001knv.1,uc001lss.2,uc001mem.1,uc001mrd.2,uc001nop.2,uc001ntl.2,uc001oij.1,uc001oyw.3,uc001pku.2,uc001plt.2,uc001pwf.2,uc001rap.1,uc001rmi.2,uc001tep.1,uc001tps.2,uc001uqy.2,uc001uwu.2,uc001wvo.2,uc001xhd.3,uc001xlp.2,uc001xou.2,uc001xqa.2,uc001yda.1,uc001ygc.2,uc001zpc.2,uc001zpz.1,uc002alz.2,uc002amr.2,uc002bcm.2,uc002dwm.2,uc002eqb.1,uc002esl.2,uc002evr.2,uc002fax.2,uc002fjl.2,uc002gan.1,uc002ghg.2,uc002gll.2,uc002iof.2,uc002ivf.1,uc002jek.2,uc002jky.1,uc002jtr.2,uc002mgt.1,uc002nvd.3,uc002rne.2,uc002rpd.2,uc002rzn.2,uc002sgn.3,uc002uuo.3,uc002wfl.3,uc002wjb.1,uc002wsv.2,uc002xhr.2,uc003cos.2,uc003cph.1,uc003cwv.3,uc003dwv.1,uc003gmu.2,uc003hmr.2,uc003hrm.3,uc003hxv.1,uc003iab.3,uc003iqr.1,uc003jlx.2,uc003jty.2,uc003klo.3,uc003kpv.1,uc003krb.1,uc003kyd.2,uc003lfi.2,uc003lmi.3,uc003mbw.3,uc003nbi.2,uc003syc.2,uc003syn.1,uc003whj.2,uc003xyo.1,uc003ydg.2,uc003ykn.2,uc003zgt.1,uc003zij.1,uc003zle.2,uc003zys.1,uc004ben.2,uc004bfu.2,uc004bkv.2,uc004blc.2,uc004blh.2,uc004bpg.3,uc004cvc.2,uc004dpe.2,uc004dwf.2,uc004eef.2,uc009xpd.2,uc010dia.2,uc010hci.2,uc010oiu.1,uc010rfl.1,uc011dkv.1,uc011dqe.1,uc011edo.1 | K5: 3.31 | L5: 3.12e-80 | M5: 6.93e-20 | N5: 1.87e-87 | O5: 3.93e-86 | P5: 3.93e-85
A6: MIMAT0000441 | B6: hsa-miR-9-5p | C6: 4.979044 | D6: =IF(COUNTIF('TDP-43 miRNAs'!A$2:A$86,A6)>0,"yes","") -> yes | E6: =IF(COUNTIF('LUSC TDP-43 Correlations'!$A$2:$A$1038,$A6)>0,LOOKUP($A6,'LUSC TDP-43 Correlations'!$A$2:$A$1038,'LUSC TDP-43 Correlations'!C$2:C$1038),"n/a") -> 0.11088789 | F6: =IF(COUNTIF('LUSC TDP-43 Correlations'!$A$2:$A$1038,$A6)>0,LOOKUP($A6,'LUSC TDP-43 Correlations'!$A$2:$A$1038,'LUSC TDP-43 Correlations'!E$2:E$1038),"n/a") -> 2.3681205e-09 | G6: -1.0928705 | H6: 1588 | I6: 209 | J6: uc001aky.2,uc001aol.2,uc001bie.2,uc001bjo.2,uc001bno.2,uc001bzj.1,uc001ctq.1,uc001cyc.1,uc001cze.2,uc001dhk.2,uc001dnb.2,uc001dnl.3,uc001dsg.2,uc001dtg.3,uc001dyu.2,uc001ebe.2,uc001evz.2,uc001gge.3,uc001ghk.1,uc001gsg.2,uc001gun.3,uc001hdx.2,uc001hfq.3,uc001hgw.1,uc001hif.2,uc001hob.3,uc001hpm.1,uc001htf.2,uc001hub.2,uc001ivi.1,uc001jbf.2,uc001jje.2,uc001jlx.2,uc001joz.2,uc001jtb.1,uc001kwi.2,uc001laz.2,uc001lgz.2,uc001llp.2,uc001mkg.1,uc001mod.1,uc001ngp.3,uc001otu.2,uc001ozh.2,uc001pku.2,uc001plt.2,uc001qta.3,uc001rmi.2,uc001rxb.2,uc001stc.2,uc001tay.2,uc001tmi.3,uc001toi.1,uc001tpx.2,uc001tst.2,uc001tvz.1,uc001unq.3,uc001ush.2,uc001usp.2,uc001uty.2,uc001uul.1,uc001uwu.2,uc001uxf.2,uc001uxs.2,uc001uxt.2,uc001vbl.3,uc001vcm.2,uc001vcu.2,uc001vkd.2,uc001wsq.2,uc001wvo.2,uc001xdp.2,uc001xgb.1,uc001xlp.2,uc001xst.2,uc001ygc.2,uc001ywy.1,uc001zot.2,uc001zpi.2,uc001ztp.2,uc002bcm.2,uc002czx.2,uc002dtp.2,uc002eom.3,uc002eqb.1,uc002flj.2,uc002fxx.2,uc002fxy.2,uc002gan.1,uc002hgm.2,uc002hhy.2,uc002hkw.1,uc002hzo.2,uc002icm.1,uc002iof.2,uc002ixm.1,uc002jvl.2,uc002kkm.2,uc002kte.2,uc002mnq.2,uc002mqo.3,uc002mqs.3,uc002mst.3,uc002oot.2,uc002qeu.1,uc002rpd.2,uc002rql.2,uc002sfr.3,uc002vad.2,uc002vcj.2,uc002vrr.1,uc002wmx.1,uc002xhr.2,uc002xvo.2,uc002yju.1,uc002yzy.3,uc003axb.2,uc003axf.2,uc003bqq.2,uc003cbn.2,uc003cco.2,uc003ceb.2,uc003ciu.2,uc003cos.2,uc003cpb.3,uc003cvg.2,uc003cwu.2,uc003dpe.2,uc003dqp.3,uc003dwv.1,uc003hbz.2,uc003hre.2,uc003iab.3,uc003ics.3,uc003ihv.2,uc003ipg.2,uc003iqe.3,uc003iqg.3,uc003itp.2,uc003ixh.2,uc003jfj.2,uc003jlx.2,uc003jou.2,uc003jvq.2,uc003kev.1,uc003kjz.2,uc003klb.2,uc003kvt.1,uc003kyd.2,uc003ldb.1,uc003ldh.2,uc003lfa.2,uc003lfd.2,uc003lgq.2,uc003llp.2,uc003lsp.2,uc003lvk.2,uc003lzb.2,uc003mbv.1,uc003mch.2,uc003mll.1,uc003mma.3,uc003mzv.2,uc003ojx.3,uc003piz.1,uc003qkt.2,uc003srk.2,uc003syc.2,uc003twg.2,uc003ugb.2,uc003uni.3,uc003vej.2,uc003vid.2,uc003who.2,uc003xez.2,uc003xfb.1,uc003xhh.3,uc003xjo.1,uc003xnq.1,uc003xyo.1,uc003ywa.1,uc003zij.1,uc003zxt.2,uc003zys.1,uc004aht.2,uc004aku.2,uc004arf.3,uc004bgq.2,uc004cvc.2,uc004cxi.2,uc004dgi.3,uc004dgw.3,uc004dpe.2,uc004eon.1,uc004fnf.2,uc009vvt.1,uc009xpd.2,uc010aeu.1,uc010ayu.2,uc010nko.2,uc010tup.1,uc011ave.1,uc011bac.1,uc011dkv.1,uc011egn.1,uc011kvr.1,uc011ljd.1,uc011lxf.1,uc011mvs.1 | K6: 5.66 | L6: 8.97e-66 | M6: 2.02e-36 | N6: 8.1e-98 | O6: 2.84e-96 | P6: 1.7e-95
A7: MIMAT0004680 | B7: hsa-miR-130b-5p | C7: 2.5672489 | D7: =IF(COUNTIF('TDP-43 miRNAs'!A$2:A$86,A7)>0,"yes","") | E7: =IF(COUNTIF('LUSC TDP-43 Correlations'!$A$2:$A$1038,$A7)>0,LOOKUP($A7,'LUSC TDP-43 Correlations'!$A$2:$A$1038,'LUSC TDP-43 Correlations'!C$2:C$1038),"n/a") -> 0.09396087 | F7: =IF(COUNTIF('LUSC TDP-43 Correlations'!$A$2:$A$1038,$A7)>0,LOOKUP($A7,'LUSC TDP-43 Correlations'!$A$2:$A$1038,'LUSC TDP-43 Correlations'!E$2:E$1038),"n/a") -> 5.2037131e-08 | G7: -0.97523027 | H7: 1739 | I7: 207 | J7: uc001bdh.2,uc001big.2,uc001bjo.2,uc001bkq.3,uc001bzj.1,uc001csi.3,uc001cyj.1,uc001cze.2,uc001dcf.2,uc001dhk.2,uc001dle.2,uc001dmo.3,uc001dnl.3,uc001dsg.2,uc001enp.1,uc001fyt.3,uc001gsg.2,uc001gsl.2,uc001hfg.2,uc001hzw.2,uc001iol.2,uc001ioo.2,uc001iux.2,uc001jbi.2,uc001jje.2,uc001jrb.2,uc001jsv.2,uc001ldj.1,uc001llp.2,uc001meo.3,uc001mhl.2,uc001mkg.1,uc001nop.2,uc001ohr.2,uc001pao.2,uc001pku.2,uc001qan.2,uc001qav.3,uc001qnm.2,uc001rmi.2,uc001rxb.2,uc001rzt.2,uc001tay.2,uc001tmi.3,uc001toi.1,uc001tps.2,uc001tst.2,uc001unq.3,uc001usp.2,uc001vcm.2,uc001vdl.2,uc001vqq.2,uc001vqy.2,uc001vxz.2,uc001wrq.2,uc001wvk.2,uc001xgb.1,uc001xlp.2,uc001xqa.2,uc001xrn.2,uc001xzx.3,uc001yxc.2,uc001zks.1,uc001zng.1,uc001zni.2,uc001zot.2,uc001zxn.2,uc001zyy.2,uc002alz.2,uc002amv.2,uc002aqf.2,uc002czx.2,uc002dme.2,uc002eqb.1,uc002evr.2,uc002fjx.2,uc002gbm.3,uc002gif.1,uc002gll.2,uc002gph.1,uc002hzo.2,uc002ied.3,uc002ixm.1,uc002iyt.1,uc002jhg.2,uc002jps.2,uc002jvl.2,uc002kkm.2,uc002kln.2,uc002klo.2,uc002pii.3,uc002pod.2,uc002rut.2,uc002rzn.2,uc002tyc.3,uc002utb.2,uc002uwy.2,uc002uzt.3,uc002vcl.2,uc002wjb.1,uc002wsv.2,uc002xgh.1,uc002xhr.2,uc002xtw.1,uc002xvl.2,uc002yai.2,uc002yly.3,uc002ymd.2,uc002yzy.3,uc003ceb.2,uc003cos.2,uc003cwu.2,uc003cyq.1,uc003dmn.2,uc003dpe.2,uc003drw.2,uc003dwx.3,uc003eqg.1,uc003evd.2,uc003eyv.2,uc003fav.2,uc003flh.3,uc003gpa.2,uc003gsq.1,uc003guo.2,uc003hhm.3,uc003hrm.3,uc003hwl.2,uc003hwz.2,uc003iab.3,uc003iam.2,uc003idq.1,uc003iev.1,uc003igm.2,uc003iqg.3,uc003isa.1,uc003itp.2,uc003jeg.3,uc003jou.2,uc003jty.2,uc003kgq.3,uc003klo.3,uc003kos.3,uc003kxr.2,uc003kzu.2,uc003ldh.2,uc003lfa.2,uc003lpf.1,uc003lpr.1,uc003lsp.2,uc003lvg.1,uc003lzk.2,uc003mbo.1,uc003mch.2,uc003mma.3,uc003ncs.2,uc003nhv.2,uc003obb.2,uc003piz.1,uc003pss.3,uc003qch.2,uc003qhu.2,uc003qkt.2,uc003qol.2,uc003qpc.3,uc003qwd.2,uc003svg.2,uc003syn.1,uc003tar.1,uc003vjq.3,uc003wyl.2,uc003xfb.1,uc003xik.2,uc003ykn.2,uc003zij.1,uc003zys.1,uc003zyv.2,uc004aht.2,uc004awm.2,uc004ben.2,uc004bgq.2,uc004bkv.2,uc004blc.2,uc004bpg.3,uc004brl.2,uc004cwi.2,uc004cxe.2,uc004cxi.2,uc004dez.1,uc004eef.2,uc004eus.2,uc004eyp.2,uc004fef.3,uc009wve.2,uc010hlj.2,uc010ioj.2,uc010pbh.1,uc010rgn.1,uc010udd.1,uc011awd.1,uc011ayi.1,uc011bfn.1,uc011cvc.1,uc011cze.1,uc011dpt.1,uc011egn.1,uc011mvs.1 | K7: 5.61 | L7: 1.37e-64 | M7: 4.99e-30 | N7: 4.28e-89 | O7: 9.98e-88 | P7: 8.98e-87
A8: MIMAT0000691 | B8: hsa-miR-130b-3p | C8: 2.4418613 | D8: =IF(COUNTIF('TDP-43 miRNAs'!A$2:A$86,A8)>0,"yes","") | E8: =IF(COUNTIF('LUSC TDP-43 Correlations'!$A$2:$A$1038,$A8)>0,LOOKUP($A8,'LUSC TDP-43 Correlations'!$A$2:$A$1038,'LUSC TDP-43 Correlations'!C$2:C$1038),"n/a") -> 0.090826585 | F8: =IF(COUNTIF('LUSC TDP-43 Correlations'!$A$2:$A$1038,$A8)>0,LOOKUP($A8,'LUSC TDP-43 Correlations'!$A$2:$A$1038,'LUSC TDP-43 Correlations'!E$2:E$1038),"n/a") -> 8.71124e-08 | G8: -1.2860262 | H8: 1511 | I8: 233 | J8: uc001bdh.2,uc001bjo.2,uc001bou.3,uc001bzj.1,uc001cqk.3,uc001csi.3,uc001ctq.1,uc001dhk.2,uc001dmo.3,uc001dqj.3,uc001dtg.3,uc001dyu.2,uc001dyw.3,uc001enn.3,uc001fvk.2,uc001gcn.2,uc001hav.3,uc001hdx.2,uc001hif.2,uc001hzy.1,uc001iha.2,uc001irr.1,uc001iup.2,uc001iux.2,uc001ize.1,uc001jbf.2,uc001jbi.2,uc001jha.3,uc001jje.2,uc001jlx.2,uc001kjr.2,uc001kxm.2,uc001led.2,uc001mhe.1,uc001mod.1,uc001mrd.2,uc001ngp.3,uc001oyw.3,uc001pce.2,uc001pgf.2,uc001pku.2,uc001pxl.1,uc001pzt.2,uc001qwk.2,uc001rap.1,uc001rba.2,uc001rmi.2,uc001rxb.2,uc001tmi.3,uc001toi.1,uc001tps.2,uc001txb.2,uc001txg.2,uc001uqf.3,uc001uqy.2,uc001url.3,uc001uuk.3,uc001uxs.2,uc001vbl.3,uc001vcm.2,uc001vcu.2,uc001vdl.2,uc001vsj.3,uc001wrq.2,uc001wsq.2,uc001wvo.2,uc001wzr.2,uc001xdp.2,uc001xjc.2,uc001xlp.2,uc001yxc.2,uc001zka.3,uc001zni.2,uc001znl.2,uc001zpz.1,uc001zqq.2,uc001ztp.2,uc001zuc.2,uc001zxd.1,uc002anv.2,uc002bcj.2,uc002eqb.1,uc002ete.1,uc002evr.2,uc002fjl.2,uc002frj.2,uc002fsv.2,uc002grz.3,uc002hgm.2,uc002jhg.2,uc002jvl.2,uc002klr.2,uc002kte.2,uc002ldg.2,uc002lwb.1,uc002mgt.1,uc002mjw.2,uc002mnl.2,uc002mnq.2,uc002nfp.2,uc002ohq.2,uc002rdl.2,uc002rdv.2,uc002rxy.2,uc002rzn.2,uc002sfr.3,uc002sgn.3,uc002tsg.3,uc002tyc.3,uc002ucg.2,uc002ugy.3,uc002uni.3,uc002uyb.3,uc002uzf.3,uc002vad.2,uc002vtb.1,uc002xnu.2,uc002xui.2,uc002yrt.1,uc002yzy.3,uc003bun.2,uc003cbn.2,uc003cbq.2,uc003cfi.1,uc003cfu.2,uc003clu.1,uc003cos.2,uc003cpb.3,uc003csa.3,uc003cxm.1,uc003dge.2,uc003dio.2,uc003dmf.2,uc003dqt.2,uc003dwv.1,uc003eqa.3,uc003eqg.1,uc003ewm.2,uc003goc.1,uc003gpd.2,uc003gsq.1,uc003hbz.2,uc003hqp.2,uc003hqs.3,uc003hre.2,uc003hrw.1,uc003hyp.2,uc003iah.2,uc003ihv.2,uc003iiq.3,uc003iqe.3,uc003iqg.3,uc003iqz.3,uc003ire.2,uc003itp.2,uc003jho.2,uc003jno.2,uc003jti.2,uc003jty.2,uc003jud.2,uc003kjr.2,uc003kjz.2,uc003krb.1,uc003kte.2,uc003ktk.2,uc003kzh.2,uc003lsp.2,uc003lzk.2,uc003man.1,uc003mbw.3,uc003mch.2,uc003mzv.2,uc003owr.2,uc003oxy.2,uc003pmv.2,uc003qcz.2,uc003qdg.2,uc003qhu.2,uc003qkt.2,uc003qme.1,uc003qok.1,uc003qpc.3,uc003qug.2,uc003syn.1,uc003uhf.3,uc003uni.3,uc003vid.2,uc003whq.2,uc003wpw.3,uc003wzp.2,uc003xfb.1,uc003xhw.3,uc003xnq.1,uc003xyo.1,uc003ydg.2,uc003ykn.2,uc003yrx.2,uc003zle.2,uc003znq.2,uc004arf.3,uc004axl.1,uc004bkv.2,uc004blc.2,uc004blh.2,uc004brl.2,uc004csx.3,uc004cvc.2,uc004cvf.2,uc004cwi.2,uc004cwr.2,uc004czu.2,uc004ddo.2,uc004deb.2,uc004dgw.3,uc004drw.2,uc009xpd.2,uc010ago.2,uc010ayu.2,uc010dhc.2,uc010drt.1,uc010dxu.2,uc010dyj.2,uc010mdg.2,uc010msg.2,uc010ndt.2,uc010pbh.1,uc010qji.1,uc010rgn.1,uc010zlt.1,uc011awd.1,uc011cvc.1,uc011lhk.1,uc011lsa.1 | K8: 6.31 | L8: 7.81e-59 | M8: 5.58e-52 | N8: 1.56e-108 | O8: 1.09e-106 | P8: 3.28e-106
A9: MIMAT0000261 | B9: hsa-miR-183-5p | C9: 2.8608832 | D9: =IF(COUNTIF('TDP-43 miRNAs'!A$2:A$86,A9)>0,"yes","") -> yes | E9: =IF(COUNTIF('LUSC TDP-43 Correlations'!$A$2:$A$1038,$A9)>0,LOOKUP($A9,'LUSC TDP-43 Correlations'!$A$2:$A$1038,'LUSC TDP-43 Correlations'!C$2:C$1038),"n/a") -> 0.064694808 | F9: =IF(COUNTIF('LUSC TDP-43 Correlations'!$A$2:$A$1038,$A9)>0,LOOKUP($A9,'LUSC TDP-43 Correlations'!$A$2:$A$1038,'LUSC TDP-43 Correlations'!E$2:E$1038),"n/a") -> 9.5419734e-06 | G9: -1.1060906 | H9: 1162 | I9: 156 | J9: uc001bdh.2,uc001bjo.2,uc001bld.3,uc001bmc.2,uc001bzj.1,uc001cyc.1,uc001dlw.2,uc001gsl.2,uc001gun.3,uc001hif.2,uc001hpm.1,uc001htf.2,uc001iol.2,uc001ivi.1,uc001ize.1,uc001jce.2,uc001jje.2,uc001jtb.1,uc001kjr.2,uc001knc.1,uc001kvv.2,uc001kwi.2,uc001kzl.3,uc001mem.1,uc001mod.1,uc001oij.1,uc001pgf.2,uc001pio.1,uc001pku.2,uc001pzt.2,uc001tdm.3,uc001tps.2,uc001uqf.3,uc001uqy.2,uc001uwu.2,uc001uys.1,uc001vbl.3,uc001vcm.2,uc001wob.3,uc001wvo.2,uc001xhd.3,uc001xhw.1,uc001xqa.2,uc001ygc.2,uc001zks.1,uc001zxc.1,uc002aly.2,uc002alz.2,uc002czx.2,uc002dhz.2,uc002dme.2,uc002dtp.2,uc002fsm.2,uc002fxx.2,uc002fyp.2,uc002gif.1,uc002guy.2,uc002hkw.1,uc002htw.2,uc002icm.1,uc002igp.1,uc002ixm.1,uc002jhg.2,uc002jtr.2,uc002kkm.2,uc002klo.2,uc002kte.2,uc002nvd.3,uc002rdl.2,uc002rmz.3,uc002rut.2,uc002tsg.3,uc002ucg.2,uc002ugy.3,uc002utb.2,uc002vhy.2,uc002wjb.1,uc002wpr.2,uc002wsv.2,uc002ymd.2,uc002yrt.1,uc003bqi.2,uc003cpb.3,uc003cwu.2,uc003cxh.2,uc003dpe.2,uc003evd.2,uc003gmu.2,uc003goc.1,uc003hqp.2,uc003hre.2,uc003hsy.2,uc003hwl.2,uc003idq.1,uc003iqe.3,uc003itp.2,uc003jli.2,uc003jtk.2,uc003kgq.3,uc003kjc.2,uc003kos.3,uc003kxr.2,uc003kzh.2,uc003kzu.2,uc003ldb.1,uc003lfi.2,uc003lpf.1,uc003lsp.2,uc003nbi.2,uc003ocl.1,uc003oxy.2,uc003phn.3,uc003piz.1,uc003puy.3,uc003pym.1,uc003pyy.1,uc003qbr.2,uc003qcz.2,uc003qdg.2,uc003qme.1,uc003qrt.3,uc003syc.2,uc003syn.1,uc003tvm.1,uc003veb.1,uc003xez.2,uc003xik.2,uc003xyo.1,uc003znq.2,uc003zwq.2,uc004akw.2,uc004bga.1,uc004bpg.3,uc004cei.2,uc004cvc.2,uc004cvf.2,uc004cwr.2,uc004czu.2,uc004dpe.2,uc004dwf.2,uc004eon.1,uc004eyp.2,uc009wgo.2,uc009xpd.2,uc010jcm.1,uc010vzx.1,uc011bkt.1,uc011cqs.1,uc011cwo.1,uc011dzj.1,uc011edo.1,uc011jxf.1,uc011kvr.1,uc011lhk.1,uc011lsa.1,uc011lxf.1 | K9: 4.23 | L9: 2.09e-57 | M9: 2.03e-28 | N9: 4.32e-81 | O9: 7.56e-80 | P9: 9.07e-79
A10: MIMAT0000450 | B10: hsa-miR-149-5p | C10: 3.2487706 | D10: =IF(COUNTIF('TDP-43 miRNAs'!A$2:A$86,A10)>0,"yes","") | E10: =IF(COUNTIF('LUSC TDP-43 Correlations'!$A$2:$A$1038,$A10)>0,LOOKUP($A10,'LUSC TDP-43 Correlations'!$A$2:$A$1038,'LUSC TDP-43 Correlations'!C$2:C$1038),"n/a") -> 0.005743028 | F10: =IF(COUNTIF('LUSC TDP-43 Correlations'!$A$2:$A$1038,$A10)>0,LOOKUP($A10,'LUSC TDP-43 Correlations'!$A$2:$A$1038,'LUSC TDP-43 Correlations'!E$2:E$1038),"n/a") -> 0.24915952 | G10: -0.91469532 | H10: 1236 | I10: 141 | J10: uc001ayo.2,uc001bzj.1,uc001cmo.2,uc001cqk.3,uc001csi.3,uc001cvd.2,uc001cyc.1,uc001cyj.1,uc001dyw.3,uc001ebe.2,uc001evz.2,uc001ewx.2,uc001fvk.2,uc001gge.3,uc001ghk.1,uc001gzq.2,uc001hgw.1,uc001hsk.2,uc001hzy.1,uc001ioo.2,uc001jbi.2,uc001jbv.1,uc001jsd.2,uc001knv.1,uc001llp.2,uc001mod.1,uc001osu.2,uc001ozx.3,uc001pfw.1,uc001qil.2,uc001qnm.2,uc001rap.1,uc001rsn.2,uc001spt.2,uc001stc.2,uc001tay.2,uc001tep.1,uc001une.2,uc001unq.3,uc001vkc.2,uc001vqq.2,uc001wvk.2,uc001wzr.2,uc001xgb.1,uc001xjc.2,uc001xou.2,uc001xrn.2,uc002alz.2,uc002amr.2,uc002bop.3,uc002egg.1,uc002fax.2,uc002fen.2,uc002fjl.2,uc002frj.2,uc002fsr.2,uc002fxe.2,uc002gbm.3,uc002ghv.2,uc002gpf.2,uc002gzd.1,uc002ibg.2,uc002ivf.1,uc002iyt.1,uc002kkm.2,uc002mdt.2,uc002mgt.1,uc002mjw.2,uc002nhv.2,uc002nqd.1,uc002pex.2,uc002rdl.2,uc002ugy.3,uc002utb.2,uc002utk.2,uc002vcj.2,uc002xli.1,uc002yrn.2,uc002yrt.1,uc003anb.2,uc003bqi.2,uc003bqq.2,uc003bsc.2,uc003cco.2,uc003cew.2,uc003cgj.2,uc003cox.1,uc003cwv.3,uc003dnn.2,uc003dwv.1,uc003eqg.1,uc003flh.3,uc003goc.1,uc003has.2,uc003hre.2,uc003hxv.1,uc003iam.2,uc003ifa.2,uc003jtk.2,uc003ktk.2,uc003kzh.2,uc003len.2,uc003lgg.1,uc003ner.3,uc003nhv.2,uc003nqg.2,uc003nuy.2,uc003nye.3,uc003phn.3,uc003psd.2,uc003qcz.2,uc003svj.3,uc003tav.2,uc003who.2,uc003wzk.3,uc003xez.2,uc003xhh.3,uc003xkm.1,uc003yrx.2,uc003zys.1,uc004ben.2,uc004blc.2,uc004caa.1,uc004ckt.2,uc004dgg.2,uc004dgi.3,uc004dys.1,uc004euu.2,uc004eyp.2,uc009zdl.1,uc010cnt.1,uc010dyt.2,uc010hci.2,uc010jsy.2,uc010qji.1,uc010tup.1,uc010yny.1,uc011adw.1,uc011awd.1,uc011bkk.1,uc011cvc.1 | K10: 3.82 | L10: 1.4e-52 | M10: 2.68e-19 | N10: 1.59e-65 | O10: 1.12e-64 | P10: 3.35e-63
A11: MIMAT0000095 | B11: hsa-miR-96-5p | C11: 2.8010622 | D11: =IF(COUNTIF('TDP-43 miRNAs'!A$2:A$86,A11)>0,"yes","") | E11: =IF(COUNTIF('LUSC TDP-43 Correlations'!$A$2:$A$1038,$A11)>0,LOOKUP($A11,'LUSC TDP-43 Correlations'!$A$2:$A$1038,'LUSC TDP-43 Correlations'!C$2:C$1038),"n/a") -> 0.049251519 | F11: =IF(COUNTIF('LUSC TDP-43 Correlations'!$A$2:$A$1038,$A11)>0,LOOKUP($A11,'LUSC TDP-43 Correlations'!$A$2:$A$1038,'LUSC TDP-43 Correlations'!E$2:E$1038),"n/a") -> 0.00015657912 | G11: -1.1143051 | H11: 1116 | I11: 151 | J11: uc001aky.2,uc001aol.2,uc001bdh.2,uc001bou.3,uc001bpc.3,uc001cyc.1,uc001diq.3,uc001dnb.2,uc001drv.2,uc001dyn.2,uc001enn.3,uc001fyt.3,uc001gcn.2,uc001gsl.2,uc001gun.3,uc001hfg.2,uc001hfq.3,uc001jlx.2,uc001kxm.2,uc001kzl.3,uc001lgz.2,uc001llp.2,uc001mhl.2,uc001nnu.3,uc001pgf.2,uc001qwk.2,uc001tep.1,uc001url.3,uc001vcm.2,uc001vkc.2,uc001vqq.2,uc001wvk.2,uc001xdp.2,uc001ywy.1,uc001zka.3,uc001zni.2,uc001zpi.2,uc002alz.2,uc002chl.2,uc002dhz.2,uc002djg.1,uc002elu.1,uc002eqb.1,uc002gpf.2,uc002gys.2,uc002heo.1,uc002icm.1,uc002jhg.2,uc002jmq.2,uc002joc.2,uc002ldg.2,uc002mgt.1,uc002mnl.2,uc002olh.1,uc002pop.1,uc002rut.2,uc002ruv.2,uc002rxu.2,uc002sfr.3,uc002spu.1,uc002tsg.3,uc002utk.2,uc002uyb.3,uc002vhy.2,uc002wpr.2,uc002xvo.2,uc002ymd.2,uc003bqi.2,uc003bwc.2,uc003bxu.3,uc003cay.2,uc003ceb.2,uc003cfi.1,uc003cfu.2,uc003cgj.2,uc003ciu.2,uc003cwu.2,uc003dio.2,uc003dmn.2,uc003dna.3,uc003dpe.2,uc003drw.2,uc003eqg.1,uc003fwv.2,uc003gpa.2,uc003hmr.2,uc003hqp.2,uc003hsy.2,uc003hwl.2,uc003hxv.1,uc003iah.2,uc003ics.3,uc003iiq.3,uc003iqg.3,uc003jeg.3,uc003jlx.2,uc003jvq.2,uc003kgq.3,uc003kxr.2,uc003kzh.2,uc003lac.1,uc003lfi.2,uc003llt.2,uc003lna.2,uc003lpf.1,uc003lvk.2,uc003lzb.2,uc003mll.1,uc003nbi.2,uc003ojx.3,uc003omw.2,uc003oqf.1,uc003pao.3,uc003pmv.2,uc003qal.3,uc003qch.2,uc003qdg.2,uc003qrt.3,uc003syn.1,uc003tav.2,uc003xhs.2,uc003xik.2,uc003xyo.1,uc003zij.1,uc003zwq.2,uc003zyv.2,uc004bgq.2,uc004bpg.3,uc004cvf.2,uc004cxi.2,uc004ddo.2,uc004dez.1,uc004dop.2,uc004dwf.2,uc004dys.1,uc004eef.2,uc009wgo.2,uc009xpd.2,uc009zdl.1,uc009zgj.1,uc010hci.2,uc010jcm.1,uc010jpa.2,uc010mdg.2,uc010pha.1,uc010rgn.1,uc010snd.1,uc011bkk.1,uc011dzj.1,uc011edo.1,uc011jxf.1 | K11: 4.09 | L11: 1.32e-49 | M11: 6.53e-28 | N11: 8.2e-74 | O11: 7.82e-73 | P11: 1.72e-71
A12: MIMAT0003298 | B12: hsa-miR-629-3p | C12: 2.229458 | D12: =IF(COUNTIF('TDP-43 miRNAs'!A$2:A$86,A12)>0,"yes","") | E12: =IF(COUNTIF('LUSC TDP-43 Correlations'!$A$2:$A$1038,$A12)>0,LOOKUP($A12,'LUSC TDP-43 Correlations'!$A$2:$A$1038,'LUSC TDP-43 Correlations'!C$2:C$1038),"n/a") -> 0.039640038 | F12: =IF(COUNTIF('LUSC TDP-43 Correlations'!$A$2:$A$1038,$A12)>0,LOOKUP($A12,'LUSC TDP-43 Correlations'!$A$2:$A$1038,'LUSC TDP-43 Correlations'!E$2:E$1038),"n/a") -> 0.00080860221 | G12: -1.1079875 | H12: 1498 | I12: 200 | J12: uc001aol.2,uc001big.2,uc001bjh.2,uc001bld.3,uc001cqk.3,uc001csi.3,uc001ctq.1,uc001cyj.1,uc001dle.2,uc001drv.2,uc001dtg.3,uc001eer.1,uc001enn.3,uc001enp.1,uc001fvk.2,uc001fyt.3,uc001fyz.1,uc001hfq.3,uc001hpm.1,uc001hub.2,uc001iha.2,uc001ihb.2,uc001iol.2,uc001iup.2,uc001ize.1,uc001jbf.2,uc001jje.2,uc001jrd.3,uc001kvo.1,uc001llp.2,uc001mdn.3,uc001mem.1,uc001mkg.1,uc001mod.1,uc001ngp.3,uc001nog.2,uc001nor.2,uc001oij.1,uc001pce.2,uc001rsn.2,uc001rxb.2,uc001rzo.1,uc001tay.2,uc001tbt.2,uc001tvs.1,uc001uey.1,uc001uwu.2,uc001uxf.2,uc001uyi.2,uc001uys.1,uc001vqq.2,uc001wum.1,uc001wzr.2,uc001xpo.2,uc001yda.1,uc001yeh.3,uc001ygc.2,uc001ywy.1,uc001zka.3,uc001zpi.2,uc001zuc.2,uc001zyy.2,uc002ama.2,uc002czx.2,uc002dwm.2,uc002ebu.1,uc002ehi.3,uc002fjx.2,uc002fsr.2,uc002gbm.3,uc002ghv.2,uc002giw.1,uc002gph.1,uc002hgm.2,uc002htv.2,uc002icm.1,uc002ied.3,uc002iyt.1,uc002jdz.2,uc002jhg.2,uc002jky.1,uc002lli.2,uc002mdt.2,uc002nhv.2,uc002pcm.2,uc002pgj.1,uc002pii.3,uc002pod.2,uc002pxq.2,uc002rne.2,uc002rpd.2,uc002rql.2,uc002ruv.2,uc002rxu.2,uc002sgn.3,uc002tnq.2,uc002txh.2,uc002ugy.3,uc002uni.3,uc002uwy.2,uc002uyb.3,uc002vad.2,uc002viz.3,uc002vrr.1,uc002vrs.2,uc002wfl.3,uc002ymd.2,uc002ymf.2,uc002yrt.1,uc002yzy.3,uc003bqi.2,uc003byw.2,uc003cbn.2,uc003ckc.2,uc003clh.2,uc003coq.2,uc003dmn.2,uc003drw.2,uc003dwv.1,uc003fav.2,uc003goc.1,uc003gsq.1,uc003has.2,uc003hbz.2,uc003hly.3,uc003hmr.2,uc003hre.2,uc003iam.2,uc003jli.2,uc003jlx.2,uc003jtk.2,uc003jud.2,uc003koa.1,uc003kpv.1,uc003kqe.1,uc003kzh.2,uc003ldb.1,uc003len.2,uc003lna.2,uc003lsc.2,uc003lsf.1,uc003lvk.2,uc003mch.2,uc003nbi.2,uc003ncc.2,uc003ncs.2,uc003ocl.1,uc003srk.2,uc003svg.2,uc003svj.3,uc003uio.2,uc003und.2,uc003wyi.3,uc003xhh.3,uc003xjo.1,uc003ykn.2,uc003yrx.2,uc003ywa.1,uc003zij.1,uc003zyv.2,uc003zyz.2,uc004bgj.3,uc004bgq.2,uc004bsj.3,uc004cvc.2,uc004cwi.2,uc004dgi.3,uc004dop.2,uc004dpe.2,uc004dys.1,uc004eef.2,uc004eon.1,uc004eus.2,uc004eyp.2,uc009wmw.2,uc009wve.2,uc009xwy.1,uc009zdl.1,uc010aeu.1,uc010ayu.2,uc010dag.2,uc010dxu.2,uc010flk.2,uc010ioj.2,uc010juk.2,uc010miq.1,uc010oiu.1,uc010pps.1,uc010qnh.1,uc010vzy.1,uc010zlt.1,uc011ave.1,uc011awd.1,uc011bfn.1,uc011dkv.1,uc011kzp.1,uc011lhk.1,uc011ljd.1,uc011lsa.1,uc011lxf.1 | K12: 5.42 | L12: 4.35e-45 | M12: 9.54e-36 | N12: 1.88e-78 | O12: 2.82e-77 | P12: 3.94e-76
A13: MIMAT0003880 | B13: hsa-miR-671-5p | C13: 2.0765576 | D13: =IF(COUNTIF('TDP-43 miRNAs'!A$2:A$86,A13)>0,"yes","") | E13: =IF(COUNTIF('LUSC TDP-43 Correlations'!$A$2:$A$1038,$A13)>0,LOOKUP($A13,'LUSC TDP-43 Correlations'!$A$2:$A$1038,'LUSC TDP-43 Correlations'!C$2:C$1038),"n/a") -> 0.037469354 | F13: =IF(COUNTIF('LUSC TDP-43 Correlations'!$A$2:$A$1038,$A13)>0,LOOKUP($A13,'LUSC TDP-43 Correlations'!$A$2:$A$1038,'LUSC TDP-43 Correlations'!E$2:E$1038),"n/a") -> 0.0011433834 | G13: -1.0064299 | H13: 919 | I13: 114 | J13: uc001bfy.2,uc001bya.2,uc001dnb.2,uc001dyn.2,uc001ewx.2,uc001hgw.1,uc001iha.2,uc001jbv.1,uc001jsd.2,uc001kea.2,uc001knc.1,uc001knv.1,uc001lss.2,uc001lyy.1,uc001mod.1,uc001mrd.2,uc001nnu.3,uc001nor.2,uc001ntl.2,uc001pwf.2,uc001qta.3,uc001quo.1,uc001rap.1,uc001rmi.2,uc001tst.2,uc001uip.2,uc001ush.2,uc001uus.2,uc001wsq.2,uc001wvo.2,uc001xou.2,uc001yeh.3,uc001ygc.2,uc001ywy.1,uc001zmp.1,uc001zng.1,uc001zpi.2,uc002aly.2,uc002cxn.2,uc002dlq.2,uc002dwm.2,uc002egg.1,uc002eqb.1,uc002fsr.2,uc002ivf.1,uc002jdz.2,uc002jps.2,uc002obn.1,uc002ont.3,uc002pcm.2,uc002pod.2,uc002rmz.3,uc002rxy.2,uc002soz.2,uc002tsg.3,uc002ucg.2,uc002ugy.3,uc002wah.1,uc002wpr.2,uc002xbu.2,uc002xui.2,uc002yly.3,uc002ymf.2,uc002yrn.2,uc003bqi.2,uc003cbq.2,uc003czy.1,uc003dcl.1,uc003dea.1,uc003dwv.1,uc003fav.2,uc003gjv.2,uc003gpa.2,uc003guo.2,uc003hmr.2,uc003hxv.1,uc003hyp.2,uc003ipg.2,uc003iqg.3,uc003iyx.1,uc003kos.3,uc003kpx.1,uc003kqe.1,uc003lfi.2,uc003lpf.1,uc003man.1,uc003mbo.1,uc003mux.2,uc003obh.2,uc003obj.2,uc003obp.3,uc003ojx.3,uc003qch.2,uc003vsi.2,uc003whj.2,uc003wpw.3,uc003yee.2,uc004arf.3,uc004bsm.3,uc004bwp.2,uc004dgg.2,uc004eon.1,uc004euu.2,uc004fef.3,uc009xpd.2,uc009zme.1,uc010cnt.1,uc010dag.2,uc010hci.2,uc010hcz.2,uc010mwl.2,uc010rgn.1,uc010uek.1,uc011cwo.1 | K13: 3.09 | L13: 1.97e-43 | M13: 1.63e-18 | N13: 3.76e-57 | O13: 1.88e-56 | P13: 7.9e-55
A14: MIMAT0004509 | B14: hsa-miR-93-3p | C14: 1.7146796 | D14: =IF(COUNTIF('TDP-43 miRNAs'!A$2:A$86,A14)>0,"yes","") -> yes | E14: =IF(COUNTIF('LUSC TDP-43 Correlations'!$A$2:$A$1038,$A14)>0,LOOKUP($A14,'LUSC TDP-43 Correlations'!$A$2:$A$1038,'LUSC TDP-43 Correlations'!C$2:C$1038),"n/a") -> 0.12695905 | F14: =IF(COUNTIF('LUSC TDP-43 Correlations'!$A$2:$A$1038,$A14)>0,LOOKUP($A14,'LUSC TDP-43 Correlations'!$A$2:$A$1038,'LUSC TDP-43 Correlations'!E$2:E$1038),"n/a") -> 9.398805e-11 | G14: -0.99406132 | H14: 1229 | I14: 150 | J14: uc001bie.2,uc001bjo.2,uc001bkq.3,uc001bss.1,uc001cmo.2,uc001csi.3,uc001dbh.2,uc001dcf.2,uc001dhk.2,uc001dnl.3,uc001dqj.3,uc001dyn.2,uc001evz.2,uc001fvk.2,uc001hjf.2,uc001hzy.1,uc001iha.2,uc001jje.2,uc001mdn.3,uc001mkg.1,uc001mod.1,uc001mvm.2,uc001ozh.2,uc001pio.1,uc001plt.2,uc001pxl.1,uc001qnm.2,uc001rap.1,uc001tay.2,uc001tin.2,uc001unq.3,uc001ush.2,uc001usp.2,uc001uuk.3,uc001uys.1,uc001vgs.2,uc001vkc.2,uc001wrq.2,uc001wzr.2,uc001xdp.2,uc001xgb.1,uc001xhd.3,uc001xhw.1,uc001xqa.2,uc001yeh.3,uc001zka.3,uc001zni.2,uc001zph.2,uc001zpi.2,uc001zpz.1,uc001zqq.2,uc001ztp.2,uc001zxc.1,uc001zxn.2,uc002aly.2,uc002amp.2,uc002anv.2,uc002ble.2,uc002bop.3,uc002chn.2,uc002dbb.2,uc002dvf.2,uc002ehi.3,uc002eqb.1,uc002fax.2,uc002fjx.2,uc002gbm.3,uc002gif.1,uc002gzd.1,uc002htw.2,uc002iin.2,uc002ivf.1,uc002iyt.1,uc002jmq.2,uc002nhv.2,uc002nvd.3,uc002pah.2,uc002pii.3,uc002soz.2,uc002txh.2,uc002uqp.3,uc002uyb.3,uc002vcj.2,uc002vrs.2,uc002wsv.2,uc002yai.2,uc002ymd.2,uc002ymf.2,uc002yzy.3,uc003bsc.2,uc003cbq.2,uc003cew.2,uc003cht.2,uc003ciu.2,uc003clh.2,uc003cwu.2,uc003cxm.1,uc003dcl.1,uc003ddd.2,uc003dnr.2,uc003drw.2,uc003fav.2,uc003hrm.3,uc003hwl.2,uc003iqe.3,uc003iqz.3,uc003jeg.3,uc003jro.1,uc003jti.2,uc003ktk.2,uc003kxr.2,uc003kzu.2,uc003lgg.1,uc003llp.2,uc003lsp.2,uc003lvk.2,uc003man.1,uc003oxy.2,uc003psd.2,uc003pss.3,uc003pym.1,uc003qdg.2,uc003qkt.2,uc003srk.2,uc003wsi.2,uc003wyl.2,uc003xik.2,uc003xkm.1,uc003xyo.1,uc004aht.2,uc004axl.1,uc004bpg.3,uc004brl.2,uc004caa.1,uc004dgg.2,uc004eus.2,uc009vvt.1,uc009xwy.1,uc009zgj.1,uc010hci.2,uc010jpa.2,uc010pbh.1,uc010pps.1,uc010pvb.1,uc010qnh.1,uc011ayi.1,uc011cvc.1,uc011dzj.1,uc011kzp.1,uc011mvs.1 | K14: 4.06 | L14: 1.68e-39 | M14: 4.77e-23 | N14: 2.38e-59 | O14: 1.28e-58 | P14: 5e-57
... A105: MIMAT0004702 | B105: hsa-miR-339-3p | C105: 0.20959548 | D105: =IF(COUNTIF('TDP-43 miRNAs'!A$2:A$86,A105)>0,"yes","") | E105: =IF(COUNTIF('LUSC TDP-43 Correlations'!$A$2:$A$1038,$A105)>0,LOOKUP($A105,'LUSC TDP-43 Correlations'!$A$2:$A$1038,'LUSC TDP-43 Correlations'!C$2:C$1038),"n/a") -> 0.00032925714 | F105: =IF(COUNTIF('LUSC TDP-43 Correlations'!$A$2:$A$1038,$A105)>0,LOOKUP($A105,'LUSC TDP-43 Correlations'!$A$2:$A$1038,'LUSC TDP-43 Correlations'!E$2:E$1038),"n/a") -> 0.83073671 | G105: -1.0058136 | H105: 167 | I105: 21 | J105: uc001ayo.2,uc001fyt.3,uc001hdx.2,uc001hmp.1,uc001tdm.3,uc001ygc.2,uc001zni.2,uc002lli.2,uc002mqo.3,uc002rut.2,uc002wwa.2,uc002yjy.1,uc003cwu.2,uc003gqz.2,uc003hsm.1,uc003lna.2,uc003lvk.2,uc003pap.3,uc003tvm.1,uc003twg.2,uc004dcg.1 | K105: 0.57 | L105: 0.095355564 | M105: 0.000107 | N105: 0.000197903 | O105: 0.000200771 | P105: 0.041559569
A107: Not Differentially Expressed miRNAs
A108: miRBaseAccension | B108: ID | C108: log2FoldChange | D108: Regulated by TDP-43? | E108: R2 TDP-43 Correlation | F108: Correlation Adjusted P-value | G108: odds_ratio_log | H108: numPredictedTargets | I108: numDEgenes | J108: DEgeneList | K108: percentDEgenes | L108: pDESeq2 | M108: pFatiscan | N108: pCombined | O108: pCombinedFDR | P108: pCombinedFWER
A109: MIMAT0004799 | B109: hsa-miR-589-5p | C109: 0.17070914 | D109: =IF(COUNTIF('TDP-43 miRNAs'!A$2:A$86,A109)>0,"yes","") | E109: =IF(COUNTIF('LUSC TDP-43 Correlations'!$A$2:$A$1038,$A109)>0,LOOKUP($A109,'LUSC TDP-43 Correlations'!$A$2:$A$1038,'LUSC TDP-43 Correlations'!C$2:C$1038),"n/a") -> 0.0025199792 | F109: =IF(COUNTIF('LUSC TDP-43 Correlations'!$A$2:$A$1038,$A109)>0,LOOKUP($A109,'LUSC TDP-43 Correlations'!$A$2:$A$1038,'LUSC TDP-43 Correlations'!E$2:E$1038),"n/a") -> 0.47560072 | G109: -0.94790548 | H109: 898 | I109: 106 | J109: uc001bou.3,uc001bpc.3,uc001csi.3,uc001dqj.3,uc001evz.2,uc001gcn.2,uc001gsl.2,uc001gzq.2,uc001hfg.2,uc001ivi.1,uc001jrd.3,uc001jtb.1,uc001lgz.2,uc001mvm.2,uc001ngp.3,uc001nun.2,uc001ohr.2,uc001qtv.1,uc001rmi.2,uc001sef.2,uc001toi.1,uc001tvs.1,uc001uey.1,uc001utf.1,uc001vdl.2,uc001vkd.2,uc001wrq.2,uc001wzr.2,uc001xmc.3,uc001xpy.2,uc001xrn.2,uc001yeh.3,uc001zot.2,uc001zpi.2,uc001ztp.2,uc001zxd.1,uc002alw.2,uc002cvx.2,uc002dcu.2,uc002dlq.2,uc002efp.2,uc002egg.1,uc002elu.1,uc002fxe.2,uc002ghk.2,uc002giw.1,uc002hzo.2,uc002ixm.1,uc002jvl.2,uc002nvd.3,uc002ohq.2,uc002pex.2,uc002rne.2,uc002rut.2,uc002rxy.2,uc002spd.2,uc002ugy.3,uc002utk.2,uc002xnu.2,uc002xui.2,uc002yak.2,uc002yjy.1,uc003bwc.2,uc003cfu.2,uc003cgj.2,uc003ciu.2,uc003ckc.2,uc003ddo.2,uc003dmf.2,uc003dna.3,uc003ejx.2,uc003eyv.2,uc003goc.1,uc003iam.2,uc003jli.2,uc003klo.3,uc003kpv.1,uc003kqe.1,uc003kyd.2,uc003ldb.1,uc003lna.2,uc003lvc.2,uc003lvk.2,uc003lzk.2,uc003mbo.1,uc003ner.3,uc003pao.3,uc003qal.3,uc003qkt.2,uc003qme.1,uc003svj.3,uc003wyi.3,uc003wyl.2,uc003xcd.1,uc003xfb.1,uc003xyo.1,uc003yrx.2,uc003zgt.1,uc009wgo.2,uc009xwy.1,uc010pbh.1,uc010pha.1,uc010qji.1,uc010qng.1,uc010qnh.1,uc011edo.1 | K109: 2.87 | L109: 0.15040032 | M109: 8.25e-16 | N109: 9.84e-11 | O109: 1.1e-10 | P109: 2.07e-08
A110: MIMAT0004585 | B110: hsa-let-7i-3p | C110: 0.21335155 | D110: =IF(COUNTIF('TDP-43 miRNAs'!A$2:A$86,A110)>0,"yes","") -> yes | E110: =IF(COUNTIF('LUSC TDP-43 Correlations'!$A$2:$A$1038,$A110)>0,LOOKUP($A110,'LUSC TDP-43 Correlations'!$A$2:$A$1038,'LUSC TDP-43 Correlations'!C$2:C$1038),"n/a") -> 0.010993318 | F110: =IF(COUNTIF('LUSC TDP-43 Correlations'!$A$2:$A$1038,$A110)>0,LOOKUP($A110,'LUSC TDP-43 Correlations'!$A$2:$A$1038,'LUSC TDP-43 Correlations'!E$2:E$1038),"n/a") -> 0.098454487 | G110: -1.7678534 | H110: 153 | I110: 13 | J110: uc001bya.2,uc001iup.2,uc001jsp.2,uc001wtm.2,uc002czx.2,uc002rut.2,uc003axb.2,uc003cbq.2,uc003qdg.2,uc003qpc.3,uc003xik.2,uc010aeu.1,uc010sxc.1 | K110: 1.12 | L110: 0.16385756 | M110: 1.39e-06 | N110: 3.09e-05 | O110: 3.15e-05 | P110: 0.006487725
A111: MIMAT0000752 | B111: hsa-miR-328-3p | C111: 0.20227764 | D111: =IF(COUNTIF('TDP-43 miRNAs'!A$2:A$86,A111)>0,"yes","") | E111: =IF(COUNTIF('LUSC TDP-43 Correlations'!$A$2:$A$1038,$A111)>0,LOOKUP($A111,'LUSC TDP-43 Correlations'!$A$2:$A$1038,'LUSC TDP-43 Correlations'!C$2:C$1038),"n/a") -> 0.011260627 | F111: =IF(COUNTIF('LUSC TDP-43 Correlations'!$A$2:$A$1038,$A111)>0,LOOKUP($A111,'LUSC TDP-43 Correlations'!$A$2:$A$1038,'LUSC TDP-43 Correlations'!E$2:E$1038),"n/a") -> 0.094384085 | G111: -0.97513463 | H111: 701 | I111: 85 | J111: uc001bdh.2,uc001bno.2,uc001evz.2,uc001ghk.1,uc001gzq.2,uc001hej.2,uc001hif.2,uc001hub.2,uc001jbr.3,uc001jbv.1,uc001jsp.2,uc001knc.1,uc001knv.1,uc001mdn.3,uc001mhw.2,uc001mrd.2,uc001ngp.3,uc001odl.2,uc001pio.1,uc001pzt.2,uc001rap.1,uc001rcq.1,uc001rmi.2,uc001spt.2,uc001tvs.1,uc001url.3,uc001uxs.2,uc001vfq.2,uc001vfr.1,uc001wob.3,uc001wzr.2,uc001zpz.1,uc002bop.3,uc002dcu.2,uc002fax.2,uc002fsm.2,uc002gbm.3,uc002hzh.2,uc002jdz.2,uc002kxf.1,uc002mdt.2,uc002ndw.2,uc002pah.2,uc002pex.2,uc002pxe.2,uc002tnq.2,uc002uyb.3,uc002wjb.1,uc002xui.2,uc003axf.2,uc003cmx.2,uc003csa.3,uc003cxh.2,uc003cxm.1,uc003ddo.2,uc003dmn.2,uc003dwv.1,uc003ecj.3,uc003ejt.2,uc003gmu.2,uc003hwz.2,uc003kgq.3,uc003lpf.1,uc003lsc.2,uc003lsf.1,uc003phn.3,uc003pss.3,uc003qip.1,uc003uuo.1,uc003wzp.2,uc003zwq.2,uc004bgj.3,uc004cwr.2,uc004dcg.1,uc004drw.2,uc004dys.1,uc004eon.1,uc010dag.2,uc010nko.2,uc010qfb.1,uc011cwo.1,uc011dcm.1,uc011edo.1,uc011lsa.1,uc011lxf.1 | K111: 2.3 | L111: 0.17070293 | M111: 1.17e-13 | N111: 2.4e-09 | O111: 2.57e-09 | P111: 5.03e-07
A112: MIMAT0004518 | B112: hsa-miR-16-2-3p | C112: 0.19442304 | D112: =IF(COUNTIF('TDP-43 miRNAs'!A$2:A$86,A112)>0,"yes","") | E112: =IF(COUNTIF('LUSC TDP-43 Correlations'!$A$2:$A$1038,$A112)>0,LOOKUP($A112,'LUSC TDP-43 Correlations'!$A$2:$A$1038,'LUSC TDP-43 Correlations'!C$2:C$1038),"n/a") -> 0.031056734 | F112: =IF(COUNTIF('LUSC TDP-43 Correlations'!$A$2:$A$1038,$A112)>0,LOOKUP($A112,'LUSC TDP-43 Correlations'!$A$2:$A$1038,'LUSC TDP-43 Correlations'!E$2:E$1038),"n/a") -> 0.0034209131 | G112: -1.1018012 | H112: 2563 | I112: 333 | J112: uc001aol.2,uc001ayo.2,uc001bdh.2,uc001big.2,uc001bjo.2,uc001bou.3,uc001bzj.1,uc001csi.3,uc001cyj.1,uc001cze.2,uc001dhk.2,uc001diq.3,uc001dle.2,uc001dlw.2,uc001dnl.3,uc001dpn.2,uc001dqj.3,uc001drv.2,uc001dsg.2,uc001dtg.3,uc001edq.2,uc001evz.2,uc001gcn.2,uc001gge.3,uc001gnq.2,uc001gsg.2,uc001gsl.2,uc001gun.3,uc001hfq.3,uc001hif.2,uc001hjf.2,uc001hmq.2,uc001hob.3,uc001hub.2,uc001hzy.1,uc001ivi.1,uc001ize.1,uc001jbf.2,uc001jlx.2,uc001jrd.3,uc001kjr.2,uc001kwi.2,uc001kzl.3,uc001laz.2,uc001ldj.1,uc001lgz.2,uc001llp.2,uc001meo.3,uc001mkg.1,uc001nym.2,uc001oyw.3,uc001ozx.3,uc001pfw.1,uc001pku.2,uc001pxl.1,uc001pzt.2,uc001qta.3,uc001quo.1,uc001qwk.2,uc001rff.2,uc001rmi.2,uc001rxb.2,uc001rzt.2,uc001smg.1,uc001stc.2,uc001tay.2,uc001tbt.2,uc001tep.1,uc001tin.2,uc001tln.2,uc001tmi.3,uc001tpx.2,uc001uip.2,uc001une.2,uc001uof.2,uc001uqf.3,uc001url.3,uc001usp.2,uc001uus.2,uc001uwu.2,uc001uxf.2,uc001uxt.2,uc001uyi.2,uc001uys.1,uc001vbl.3,uc001vcm.2,uc001vcu.2,uc001vkd.2,uc001vqq.2,uc001vud.2,uc001wob.3,uc001wtm.2,uc001xbr.2,uc001xdp.2,uc001xhd.3,uc001xjc.2,uc001xlp.2,uc001xou.2,uc001xqa.2,uc001ybj.2,uc001zot.2,uc001zph.2,uc001zpi.2,uc001zqq.2,uc001ztp.2,uc001zuc.2,uc001zxd.1,uc001zxn.2,uc002acv.1,uc002alw.2,uc002ama.2,uc002amp.2,uc002bcj.2,uc002cvx.2,uc002dhz.2,uc002efp.2,uc002ehi.3,uc002eom.3,uc002fen.2,uc002fjl.2,uc002frj.2,uc002fxe.2,uc002fyr.3,uc002ghg.2,uc002giw.1,uc002gll.2,uc002gpc.2,uc002gpf.2,uc002gzd.1,uc002heo.1,uc002hgm.2,uc002htw.2,uc002ibv.2,uc002iso.2,uc002ivf.1,uc002ixm.1,uc002jek.2,uc002jhg.2,uc002kkm.2,uc002mfp.2,uc002mqo.3,uc002ndw.2,uc002nvd.3,uc002olh.1,uc002pdv.2,uc002pgj.1,uc002rdv.2,uc002rmz.3,uc002rpd.2,uc002rql.2,uc002rxu.2,uc002rzn.2,uc002sgn.3,uc002txh.2,uc002tyc.3,uc002ucg.2,uc002utb.2,uc002uzt.3,uc002wmu.1,uc002wpr.2,uc002xgh.1,uc002yhs.2,uc002yju.1,uc002yjy.1,uc002yly.3,uc002yrt.1,uc002yxs.2,uc002yzy.3,uc003anb.2,uc003axf.2,uc003bne.1,uc003bxt.2,uc003bxu.3,uc003cbn.2,uc003cbq.2,uc003ceb.2,uc003cex.2,uc003cfu.2,uc003ciu.2,uc003cjl.2,uc003ckc.2,uc003cos.2,uc003cqs.2,uc003dgm.2,uc003dio.2,uc003dmf.2,uc003dmn.2,uc003dna.3,uc003dnn.2,uc003dpe.2,uc003dqp.3,uc003dqt.2,uc003drw.2,uc003dwv.1,uc003ecj.3,uc003eqa.3,uc003eqg.1,uc003evd.2,uc003fwv.2,uc003gmu.2,uc003gpa.2,uc003gsq.1,uc003gxz.2,uc003hcn.2,uc003hhm.3,uc003hka.2,uc003hqs.3,uc003hre.2,uc003hsm.1,uc003hwz.2,uc003iab.3,uc003iah.2,uc003ieu.2,uc003iev.1,uc003ifa.2,uc003ihv.2,uc003iiq.3,uc003iqe.3,uc003iqg.3,uc003itp.2,uc003ixh.2,uc003jlx.2,uc003jou.2,uc003jro.1,uc003jtk.2,uc003jty.2,uc003jvq.2,uc003kgq.3,uc003kjc.2,uc003kjr.2,uc003kjz.2,uc003koa.1,uc003kos.3,uc003kte.2,uc003kyd.2,uc003kzh.2,uc003lfa.2,uc003lfi.2,uc003lmi.3,uc003lml.2,uc003lna.2,uc003lvg.1,uc003lyg.2,uc003lzb.2,uc003lzk.2,uc003mlz.3,uc003mzv.2,uc003ncs.2,uc003nye.3,uc003opy.2,uc003oxy.2,uc003psd.2,uc003puy.3,uc003pxh.2,uc003pyy.1,uc003qbr.2,uc003qch.2,uc003qcz.2,uc003qkt.2,uc003qme.1,uc003qok.1,uc003qol.2,uc003qpc.3,uc003que.2,uc003qug.2,uc003qwd.2,uc003srk.2,uc003stq.2,uc003svj.3,uc003syc.2,uc003tfr.2,uc003ugb.2,uc003uhf.3,uc003uio.2,uc003uni.3,uc003vid.2,uc003vil.2,uc003vjq.3,uc003who.2,uc003wpw.3,uc003wsi.2,uc003wxd.2,uc003wyi.3,uc003wzk.3,uc003xhs.2,uc003xyo.1,uc003ydg.2,uc003ykn.2,uc003zgt.1,uc003zij.1,uc003znq.2,uc003zyv.2,uc004arf.3,uc004axl.1,uc004bdo.1,uc004ben.2,uc004bga.1,uc004blc.2,uc004bpg.3,uc004csf.2,uc004cwi.2,uc004cwr.2,uc004ddo.2,uc004deb.2,uc004dez.1,uc004dgw.3,uc004dwf.2,uc004eef.2,uc004fef.3,uc009wgo.2,uc009wmw.2,uc009zgj.1,uc010ayu.2,uc010cnt.1,uc010eyh.2,uc010hci.2,uc010ioj.2,uc010jcm.1,uc010jpa.2,uc010mdg.2,uc010oiu.1,uc010pvb.1,uc010qlr.1,uc010qng.1,uc010udd.1,uc011bfn.1,uc011cqs.1,uc011cvc.1,uc011cwo.1,uc011egn.1,uc011lhk.1,uc011lsa.1,uc011mvs.1 | K112: 9.02 | L112: 0.17699584 | M112: 1.63e-56 | N112: 1.44e-32 | O112: 3.39e-32 | P112: 3.02e-30
A113: MIMAT0016925 | B113: hsa-miR-500b-5p | C113: 0.19320464 | D113: =IF(COUNTIF('TDP-43 miRNAs'!A$2:A$86,A113)>0,"yes","") | E113: =IF(COUNTIF('LUSC TDP-43 Correlations'!$A$2:$A$1038,$A113)>0,LOOKUP($A113,'LUSC TDP-43 Correlations'!$A$2:$A$1038,'LUSC TDP-43 Correlations'!C$2:C$1038),"n/a") -> 0.011935528 | F113: =IF(COUNTIF('LUSC TDP-43 Correlations'!$A$2:$A$1038,$A113)>0,LOOKUP($A113,'LUSC TDP-43 Correlations'!$A$2:$A$1038,'LUSC TDP-43 Correlations'!E$2:E$1038),"n/a") -> 0.085266181 | G113: -0.98166081 | H113: 872 | I113: 106 | J113: uc001big.2,uc001bjo.2,uc001cyj.1,uc001cze.2,uc001dnl.3,uc001drv.2,uc001gnq.2,uc001hdx.2,uc001hub.2,uc001ipk.2,uc001ivi.1,uc001kee.2,uc001kzl.3,uc001mel.1,uc001nop.2,uc001qan.2,uc001qqv.1,uc001stc.2,uc001uof.2,uc001wum.1,uc001xhw.1,uc001xvv.2,uc001yeh.3,uc001yxc.2,uc001zxn.2,uc002ama.2,uc002anv.2,uc002ble.2,uc002cun.1,uc002dhz.2,uc002evr.2,uc002fyr.3,uc002hgm.2,uc002iso.2,uc002jmq.2,uc002sgn.3,uc002uuo.3,uc002vrr.1,uc002xhr.2,uc002xnv.2,uc002yak.2,uc003bqi.2,uc003bsc.2,uc003cfi.1,uc003chd.2,uc003cmx.2,uc003cos.2,uc003cwu.2,uc003dan.1,uc003dax.2,uc003dmn.2,uc003drw.2,uc003dwx.3,uc003evd.2,uc003gph.1,uc003hmr.2,uc003isa.1,uc003jcm.2,uc003jeg.3,uc003jno.2,uc003jud.2,uc003kdn.2,uc003kgq.3,uc003kiz.1,uc003kjr.2,uc003ksj.2,uc003kwy.1,uc003lac.1,uc003lgq.2,uc003lsk.3,uc003lzc.2,uc003mbv.1,uc003onm.3,uc003pao.3,uc003psd.2,uc003puy.3,uc003pym.1,uc003qhu.2,uc003qie.2,uc003qks.3,uc003syc.2,uc003vjq.3,uc003wxd.2,uc003wzk.3,uc003xhw.3,uc003xnq.1,uc003yee.2,uc004akw.2,uc004ben.2,uc004bga.1,uc004brl.2,uc004ddo.2,uc004dgi.3,uc004dkm.3,uc009wve.2,uc010flk.2,uc010pps.1,uc010snd.1,uc010suz.1,uc010tup.1,uc011adw.1,uc011cwo.1,uc011cze.1,uc011jxf.1,uc011kvr.1,uc011mvs.1 | K113: 2.87 | L113: 0.24751302 | M113: 1.28e-16 | N113: 1.74e-10 | O113: 1.92e-10 | P113: 3.66e-08
A114: MIMAT0004773 | B114: hsa-miR-500a-5p | C114: 0.19275267 | D114: =IF(COUNTIF('TDP-43 miRNAs'!A$2:A$86,A114)>0,"yes","") | E114: =IF(COUNTIF('LUSC TDP-43 Correlations'!$A$2:$A$1038,$A114)>0,LOOKUP($A114,'LUSC TDP-43 Correlations'!$A$2:$A$1038,'LUSC TDP-43 Correlations'!C$2:C$1038),"n/a") -> 0.01192528 | F114: =IF(COUNTIF('LUSC TDP-43 Correlations'!$A$2:$A$1038,$A114)>0,LOOKUP($A114,'LUSC TDP-43 Correlations'!$A$2:$A$1038,'LUSC TDP-43 Correlations'!E$2:E$1038),"n/a") -> 0.085266181 | G114: -1.0732457 | H114: 1408 | I114: 183 | J114: uc001ayo.2,uc001bie.2,uc001big.2,uc001bjo.2,uc001cze.2,uc001dhk.2,uc001dle.2,uc001dpn.2,uc001fyt.3,uc001gcn.2,uc001gnq.2,uc001gun.3,uc001hdx.2,uc001hif.2,uc001htf.2,uc001iol.2,uc001ivi.1,uc001jlx.2,uc001joz.2,uc001jrb.2,uc001kee.2,uc001kzl.3,uc001led.2,uc001mel.1,uc001mhl.2,uc001ngp.3,uc001nun.2,uc001orr.2,uc001pjy.2,uc001pku.2,uc001qan.2,uc001qav.3,uc001qil.2,uc001stc.2,uc001tdm.3,uc001tep.1,uc001umh.2,uc001uqf.3,uc001uqy.2,uc001url.3,uc001uxf.2,uc001vdl.2,uc001vqy.2,uc001wrq.2,uc001wum.1,uc001wvk.2,uc001xdp.2,uc001xhd.3,uc001xqa.2,uc001zpi.2,uc001zqq.2,uc001zuc.2,uc002aly.2,uc002alz.2,uc002anc.1,uc002bop.3,uc002cun.1,uc002fyr.3,uc002gif.1,uc002gph.1,uc002gra.3,uc002gzd.1,uc002hgm.2,uc002iof.2,uc002iso.2,uc002jtr.2,uc002lyg.1,uc002mnl.2,uc002pii.3,uc002rut.2,uc002tsg.3,uc002uuo.3,uc002uyb.3,uc002vad.2,uc002vhy.2,uc002wmx.1,uc002wpr.2,uc002yak.2,uc002yly.3,uc002ymd.2,uc002ymf.2,uc002yzy.3,uc003bqi.2,uc003byk.2,uc003cau.2,uc003cbq.2,uc003cfi.1,uc003chd.2,uc003ciu.2,uc003cos.2,uc003cqs.2,uc003csa.3,uc003dan.1,uc003dna.3,uc003dqp.3,uc003evd.2,uc003eyv.2,uc003gjq.3,uc003goc.1,uc003gph.1,uc003has.2,uc003hmr.2,uc003hrw.1,uc003hyp.2,uc003iam.2,uc003igm.2,uc003ipg.2,uc003iqg.3,uc003isa.1,uc003itp.2,uc003iyx.1,uc003jeg.3,uc003jti.2,uc003jtk.2,uc003jud.2,uc003kgq.3,uc003kiz.1,uc003koa.1,uc003krb.1,uc003kvt.1,uc003kxr.2,uc003kzh.2,uc003len.2,uc003lfa.2,uc003lna.2,uc003mbv.1,uc003mbw.3,uc003mux.2,uc003mzv.2,uc003ncc.2,uc003ncs.2,uc003oxy.2,uc003pao.3,uc003piz.1,uc003psd.2,uc003pyy.1,uc003qal.3,uc003qhu.2,uc003qme.1,uc003que.2,uc003qug.2,uc003qwd.2,uc003srk.2,uc003tar.1,uc003tav.2,uc003vil.2,uc003vqx.3,uc003wxd.2,uc003wyi.3,uc003xfb.1,uc003xhw.3,uc003xnq.1,uc003ydg.2,uc003yee.2,uc003ykn.2,uc003zij.1,uc004aht.2,uc004akw.2,uc004blc.2,uc004bpg.3,uc004brl.2,uc004dgi.3,uc004dkm.3,uc004dop.2,uc004dys.1,uc009wve.2,uc009zdl.1,uc009zgj.1,uc010aeu.1,uc010flk.2,uc010hci.2,uc010jcm.1,uc010jpa.2,uc010miq.1,uc010oiu.1,uc010pvb.1,uc010qnh.1,uc010snd.1,uc010tup.1,uc010yvm.1,uc011awd.1,uc011cvc.1,uc011cwo.1 | K114: 4.96 | L114: 0.24846763 | M114: 2.89e-31 | N114: 2.31e-18 | O114: 3.28e-18 | P114: 4.86e-16
A115: MIMAT0000449 | B115: hsa-miR-146a-5p | C115: 0.21656195 | D115: =IF(COUNTIF('TDP-43 miRNAs'!A$2:A$86,A115)>0,"yes","") | E115: =IF(COUNTIF('LUSC TDP-43 Correlations'!$A$2:$A$1038,$A115)>0,LOOKUP($A115,'LUSC TDP-43 Correlations'!$A$2:$A$1038,'LUSC TDP-43 Correlations'!C$2:C$1038),"n/a") -> 0.00021469512 | F115: =IF(COUNTIF('LUSC TDP-43 Correlations'!$A$2:$A$1038,$A115)>0,LOOKUP($A115,'LUSC TDP-43 Correlations'!$A$2:$A$1038,'LUSC TDP-43 Correlations'!E$2:E$1038),"n/a") -> 0.86867144 | G115: -1.0291448 | H115: 1282 | I115: 161 | J115: uc001bsc.2,uc001bzj.1,uc001csi.3,uc001dhk.2,uc001dqj.3,uc001dtg.3,uc001evz.2,uc001gcn.2,uc001ghk.1,uc001gny.2,uc001gnz.2,uc001gzq.2,uc001iup.2,uc001jbr.3,uc001jha.3,uc001jlx.2,uc001jtb.1,uc001kea.2,uc001laz.2,uc001mvm.2,uc001ntl.2,uc001pxl.1,uc001qtv.1,uc001rap.1,uc001rxb.2,uc001tbt.2,uc001tdm.3,uc001tmi.3,uc001tps.2,uc001tvz.1,uc001umh.2,uc001url.3,uc001utf.1,uc001uxf.2,uc001uxs.2,uc001uxt.2,uc001uys.1,uc001vkc.2,uc001vkd.2,uc001wzr.2,uc001xhd.3,uc001xlp.2,uc001zqq.2,uc002alz.2,uc002amp.2,uc002anc.1,uc002cxa.2,uc002giy.2,uc002gzd.1,uc002heo.1,uc002ibv.2,uc002icm.1,uc002ivf.1,uc002ixm.1,uc002klo.2,uc002kxf.1,uc002mdt.2,uc002mhh.1,uc002nvd.3,uc002olh.1,uc002pxe.2,uc002rdv.2,uc002rut.2,uc002rxy.2,uc002rzn.2,uc002sgn.3,uc002soz.2,uc002tyc.3,uc002uni.3,uc002utk.2,uc002uuo.3,uc002uyb.3,uc002vcl.2,uc002wfl.3,uc002wsv.2,uc002xbu.2,uc002xvl.2,uc002yak.2,uc002yjy.1,uc002yly.3,uc003bsc.2,uc003bwc.2,uc003bxt.2,uc003cau.2,uc003cfu.2,uc003ciu.2,uc003ckc.2,uc003cqs.2,uc003cwu.2,uc003czy.1,uc003dan.1,uc003dcl.1,uc003dio.2,uc003dna.3,uc003eqg.1,uc003ewm.2,uc003gqz.2,uc003hbz.2,uc003hrm.3,uc003iah.2,uc003ieu.2,uc003igm.2,uc003ire.2,uc003isa.1,uc003itp.2,uc003jho.2,uc003kdn.2,uc003kjr.2,uc003klo.3,uc003koa.1,uc003kqe.1,uc003ktk.2,uc003kzu.2,uc003lpr.1,uc003lvc.2,uc003lzc.2,uc003mch.2,uc003ncs.2,uc003ner.3,uc003obb.2,uc003pao.3,uc003pap.3,uc003pss.3,uc003pym.1,uc003pyy.1,uc003qol.2,uc003srk.2,uc003svj.3,uc003twg.2,uc003uhf.3,uc003vej.2,uc003vil.2,uc003whl.2,uc003xez.2,uc003xhh.3,uc003xhs.2,uc003xyo.1,uc003ykn.2,uc003ywa.1,uc003zij.1,uc004blh.2,uc004bpg.3,uc004cvc.2,uc004ddo.2,uc004dkm.3,uc009wve.2,uc009xwy.1,uc009zdl.1,uc010dxu.2,uc010dye.1,uc010dyj.2,uc010hcz.2,uc010nko.2,uc010qji.1,uc010qng.1,uc010snd.1,uc011cvc.1,uc011dcm.1,uc011dpt.1,uc011edo.1,uc011jxf.1 | K115: 4.36 | L115: 0.25519079 | M115: 3.83e-26 | N115: 1.42e-15 | O115: 1.73e-15 | P115: 2.97e-13
A116: MIMAT0000731 | B116: hsa-miR-378a-5p | C116: 0.16744617 | D116: =IF(COUNTIF('TDP-43 miRNAs'!A$2:A$86,A116)>0,"yes","") | E116: =IF(COUNTIF('LUSC TDP-43 Correlations'!$A$2:$A$1038,$A116)>0,LOOKUP($A116,'LUSC TDP-43 Correlations'!$A$2:$A$1038,'LUSC TDP-43 Correlations'!C$2:C$1038),"n/a") -> 0.00022119263 | F116: =IF(COUNTIF('LUSC TDP-43 Correlations'!$A$2:$A$1038,$A116)>0,LOOKUP($A116,'LUSC TDP-43 Correlations'!$A$2:$A$1038,'LUSC TDP-43 Correlations'!E$2:E$1038),"n/a") -> 0.86670479 | G116: -0.99320921 | H116: 1021 | I116: 125 | J116: uc001bdh.2,uc001bdm.2,uc001cwp.2,uc001dqj.3,uc001dxx.3,uc001gcn.2,uc001gnq.2,uc001gws.2,uc001hav.3,uc001hjf.2,uc001hob.3,uc001iha.2,uc001ipk.2,uc001iux.2,uc001jbf.2,uc001jbv.1,uc001kvv.2,uc001lss.2,uc001meo.3,uc001mvs.2,uc001nun.2,uc001osu.2,uc001ozh.2,uc001pwf.2,uc001qav.3,uc001qnm.2,uc001rba.2,uc001txg.2,uc001url.3,uc001vkd.2,uc001vqy.2,uc001wob.3,uc001wvk.2,uc001wvo.2,uc001xpo.2,uc001zmp.1,uc001zxd.1,uc001zxn.2,uc002amp.2,uc002dhz.2,uc002dlq.2,uc002dtp.2,uc002eom.3,uc002gpc.2,uc002gpf.2,uc002hgk.2,uc002icm.1,uc002ied.3,uc002ixm.1,uc002jky.1,uc002jmq.2,uc002kln.2,uc002ldg.2,uc002nhv.2,uc002rne.2,uc002rxy.2,uc002soz.2,uc002tbr.2,uc002txh.2,uc002utb.2,uc002uwy.2,uc002vtb.1,uc002wah.1,uc002wmu.1,uc002wmx.1,uc002wpr.2,uc002xnu.2,uc002xnv.2,uc002yly.3,uc002yrn.2,uc002ywf.1,uc003bne.1,uc003bun.2,uc003byw.2,uc003cau.2,uc003cwv.3,uc003czy.1,uc003dan.1,uc003dax.2,uc003fav.2,uc003flh.3,uc003hrm.3,uc003hsm.1,uc003isa.1,uc003jud.2,uc003kdn.2,uc003koa.1,uc003ldb.1,uc003len.2,uc003lfi.2,uc003lyd.2,uc003lzk.2,uc003ner.3,uc003nqg.2,uc003onm.3,uc003pao.3,uc003phn.3,uc003piz.1,uc003psd.2,uc003tlz.2,uc003uds.1,uc003upi.2,uc003vej.2,uc003whj.2,uc003wpw.3,uc003xhw.3,uc003xnq.1,uc003ykn.2,uc003zwq.2,uc003zyv.2,uc004aht.2,uc004akw.2,uc004ben.2,uc004bga.1,uc004brl.2,uc004dcg.1,uc004dgg.2,uc004eon.1,uc010dxm.1,uc010dyj.2,uc010pbh.1,uc010uek.1,uc011ave.1,uc011ayi.1,uc011cvc.1 | K116: 3.39 | L116: 0.26957148 | M116: 1.24e-19 | N116: 5.57e-12 | O116: 6.39e-12 | P116: 1.17e-09
A117: MIMAT0000510 | B117: hsa-miR-320a | C117: 0.15863912 | D117: =IF(COUNTIF('TDP-43 miRNAs'!A$2:A$86,A117)>0,"yes","") | E117: =IF(COUNTIF('LUSC TDP-43 Correlations'!$A$2:$A$1038,$A117)>0,LOOKUP($A117,'LUSC TDP-43 Correlations'!$A$2:$A$1038,'LUSC TDP-43 Correlations'!C$2:C$1038),"n/a") -> 0.019172697 | F117: =IF(COUNTIF('LUSC TDP-43 Correlations'!$A$2:$A$1038,$A117)>0,LOOKUP($A117,'LUSC TDP-43 Correlations'!$A$2:$A$1038,'LUSC TDP-43 Correlations'!E$2:E$1038),"n/a") -> 0.024745613 | G117: -1.0618278 | H117: 1833 | I117: 234 | J117: uc001ayo.2,uc001big.2,uc001bno.2,uc001cmn.2,uc001cmo.2,uc001dhk.2,uc001dlw.2,uc001ebe.2,uc001edq.2,uc001enn.3,uc001fsz.1,uc001gun.3,uc001hdx.2,uc001hej.2,uc001hob.3,uc001ihb.2,uc001irr.1,uc001iux.2,uc001jbi.2,uc001jhf.2,uc001ldj.1,uc001lox.3,uc001lyu.2,uc001mdn.3,uc001mhe.1,uc001nkr.1,uc001nor.2,uc001otu.2,uc001rmi.2,uc001rxb.2,uc001rzo.1,uc001smg.1,uc001spt.2,uc001stc.2,uc001tbt.2,uc001tep.1,uc001toi.1,uc001tps.2,uc001tpx.2,uc001tvz.1,uc001txg.2,uc001une.2,uc001uqf.3,uc001uqy.2,uc001uwu.2,uc001uyi.2,uc001vcu.2,uc001vqq.2,uc001vsj.3,uc001vud.2,uc001wtm.2,uc001wvk.2,uc001xjc.2,uc001xlp.2,uc001xpo.2,uc001yaw.2,uc001yeh.3,uc001zks.1,uc001zmp.1,uc001zpc.2,uc001zph.2,uc001zxn.2,uc002acv.1,uc002aly.2,uc002ama.2,uc002amp.2,uc002amv.2,uc002aqz.2,uc002bcj.2,uc002bcm.2,uc002efp.2,uc002fjx.2,uc002fxx.2,uc002gll.2,uc002gpc.2,uc002gzd.1,uc002heo.1,uc002iso.2,uc002ivf.1,uc002ixm.1,uc002iyt.1,uc002jhg.2,uc002jtr.2,uc002kkm.2,uc002kln.2,uc002klr.2,uc002kxf.1,uc002nfp.2,uc002nvd.3,uc002pgj.1,uc002qza.2,uc002rne.2,uc002rxy.2,uc002soz.2,uc002spd.2,uc002ugy.3,uc002wsv.2,uc002xgh.1,uc002xhr.2,uc002xli.1,uc002xvo.2,uc002yjy.1,uc002ymd.2,uc002yzy.3,uc003bne.1,uc003bqi.2,uc003bwc.2,uc003bxt.2,uc003cau.2,uc003cay.2,uc003cew.2,uc003cfu.2,uc003cjl.2,uc003ckc.2,uc003cox.1,uc003cph.1,uc003cwu.2,uc003ddo.2,uc003dio.2,uc003dmn.2,uc003dnn.2,uc003dqt.2,uc003dwv.1,uc003dwx.3,uc003ecj.3,uc003emx.2,uc003eqg.1,uc003fav.2,uc003fwv.2,uc003gjq.3,uc003gpa.2,uc003hsm.1,uc003hwl.2,uc003hxv.1,uc003iam.2,uc003ipg.2,uc003iqe.3,uc003ire.2,uc003isa.1,uc003itp.2,uc003jeg.3,uc003jho.2,uc003jli.2,uc003jlx.2,uc003jou.2,uc003jro.1,uc003kdn.2,uc003kgq.3,uc003kiz.1,uc003kjr.2,uc003kjz.2,uc003kmz.2,uc003koa.1,uc003krb.1,uc003ktk.2,uc003kwy.1,uc003kyd.2,uc003lna.2,uc003lpr.1,uc003lsc.2,uc003lsf.1,uc003lsp.2,uc003lwm.3,uc003mbw.3,uc003mch.2,uc003miz.2,uc003mll.1,uc003ncc.2,uc003ncs.2,uc003obj.2,uc003obw.2,uc003ocs.1,uc003ojx.3,uc003onm.3,uc003phn.3,uc003piz.1,uc003pmv.2,uc003pym.1,uc003pyy.1,uc003qhu.2,uc003qip.1,uc003qme.1,uc003svg.2,uc003tfr.2,uc003tlz.2,uc003und.2,uc003uuo.1,uc003veb.1,uc003vej.2,uc003vid.2,uc003vil.2,uc003vjq.3,uc003wyi.3,uc003wzk.3,uc003xez.2,uc003xhw.3,uc003xjo.1,uc003xkm.1,uc003yee.2,uc003zgt.1,uc003zij.1,uc003zyv.2,uc003zyz.2,uc004akw.2,uc004axl.1,uc004bdo.1,uc004ben.2,uc004blc.2,uc004blh.2,uc004bpg.3,uc004csf.2,uc004cwi.2,uc004czu.2,uc004deb.2,uc004dez.1,uc004dgw.3,uc004dop.2,uc004eon.1,uc004fef.3,uc009vvt.1,uc009wmw.2,uc009wve.2,uc009xpd.2,uc010ago.2,uc010jcm.1,uc010mdg.2,uc010miq.1,uc010nko.2,uc010pbh.1,uc010tup.1,uc011bfn.1,uc011jxf.1,uc011lsa.1,uc011mvs.1 | K117: 6.34 | L117: 0.29653941 | M117: 1.56e-38 | N117: 8.7e-22 | O117: 1.36e-21 | P117: 1.83e-19
A118: MIMAT0000254 | B118: hsa-miR-10b-5p | C118: 0.24914633 | D118: =IF(COUNTIF('TDP-43 miRNAs'!A$2:A$86,A118)>0,"yes","") -> yes | E118: =IF(COUNTIF('LUSC TDP-43 Correlations'!$A$2:$A$1038,$A118)>0,LOOKUP($A118,'LUSC TDP-43 Correlations'!$A$2:$A$1038,'LUSC TDP-43 Correlations'!C$2:C$1038),"n/a") -> 0.03060697 | F118: =IF(COUNTIF('LUSC TDP-43 Correlations'!$A$2:$A$1038,$A118)>0,LOOKUP($A118,'LUSC TDP-43 Correlations'!$A$2:$A$1038,'LUSC TDP-43 Correlations'!E$2:E$1038),"n/a") -> 0.0036944732 | G118: -0.99923074 | H118: 900 | I118: 111 | J118: uc001aky.2,uc001dnl.3,uc001dtg.3,uc001evn.2,uc001fvk.2,uc001fyt.3,uc001hav.3,uc001hmq.2,uc001irr.1,uc001iux.2,uc001joz.2,uc001meo.3,uc001mhe.1,uc001mkg.1,uc001ohr.2,uc001pce.2,uc001pxl.1,uc001rap.1,uc001rxb.2,uc001spt.2,uc001tix.2,uc001tpx.2,uc001uqf.3,uc001uus.2,uc001uxt.2,uc001wvo.2,uc001xqa.2,uc001ybj.2,uc001znl.2,uc001zpz.1,uc002amr.2,uc002dtp.2,uc002eqb.1,uc002fax.2,uc002gbm.3,uc002iof.2,uc002ixm.1,uc002jek.2,uc002mjw.2,uc002mnl.2,uc002msc.1,uc002mst.3,uc002ont.3,uc002oot.2,uc002pcm.2,uc002pii.3,uc002rut.2,uc002ruv.2,uc002tyc.3,uc002ugy.3,uc002utb.2,uc002utk.2,uc002yjy.1,uc002ymf.2,uc002ywf.1,uc003axf.2,uc003bne.1,uc003brz.2,uc003bsc.2,uc003cco.2,uc003cqm.2,uc003csa.3,uc003dkf.3,uc003gsq.1,uc003iah.2,uc003iqz.3,uc003ire.2,uc003jfj.2,uc003jho.2,uc003jou.2,uc003kjc.2,uc003kjr.2,uc003kjz.2,uc003kos.3,uc003kzu.2,uc003ldh.2,uc003lsf.1,uc003lwk.1,uc003lyg.2,uc003lzc.2,uc003mbo.1,uc003nqg.2,uc003ocu.1,uc003ojx.3,uc003pap.3,uc003qdg.2,uc003qpc.3,uc003qwd.2,uc003uni.3,uc003whj.2,uc003wpw.3,uc003xyo.1,uc003ydg.2,uc003yrx.2,uc003zgt.1,uc003zle.2,uc003zyz.2,uc004axl.1,uc004csf.2,uc004cxe.2,uc004eon.1,uc004fef.3,uc010aeu.1,uc010dhc.2,uc010qfb.1,uc010uek.1,uc010vzy.1,uc010zlt.1,uc011bfn.1,uc011kvr.1,uc011mvs.1 | K118: 3.01 | L118: 0.30779326 | M118: 6.65e-18 | N118: 8.05e-11 | O118: 9.04e-11 | P118: 1.69e-08
A119: MIMAT0000081 | B119: hsa-miR-25-3p | C119: 0.11489138 | D119: =IF(COUNTIF('TDP-43 miRNAs'!A$2:A$86,A119)>0,"yes","") | E119: =IF(COUNTIF('LUSC TDP-43 Correlations'!$A$2:$A$1038,$A119)>0,LOOKUP($A119,'LUSC TDP-43 Correlations'!$A$2:$A$1038,'LUSC TDP-43 Correlations'!C$2:C$1038),"n/a") -> 0.11374945 | F119: =IF(COUNTIF('LUSC TDP-43 Correlations'!$A$2:$A$1038,$A119)>0,LOOKUP($A119,'LUSC TDP-43 Correlations'!$A$2:$A$1038,'LUSC TDP-43 Correlations'!E$2:E$1038),"n/a") -> 1.3509738e-09 | G119: -1.0725361 | H119: 1243 | I119: 162 | J119: uc001bjo.2,uc001csi.3,uc001cyj.1,uc001dcf.2,uc001dhk.2,uc001diq.3,uc001dqj.3,uc001edq.2,uc001fyt.3,uc001gun.3,uc001gzq.2,uc001hgw.1,uc001hzy.1,uc001iha.2,uc001ipk.2,uc001iux.2,uc001ize.1,uc001jje.2,uc001jsp.2,uc001jtb.1,uc001kjr.2,uc001kzl.3,uc001led.2,uc001mem.1,uc001ngp.3,uc001nop.2,uc001otu.2,uc001ozx.3,uc001qwk.2,uc001rxb.2,uc001tay.2,uc001tps.2,uc001tvz.1,uc001umh.2,uc001uus.2,uc001uxf.2,uc001uys.1,uc001vbl.3,uc001vgs.2,uc001wsq.2,uc001wvk.2,uc001wvo.2,uc001xdp.2,uc001xhd.3,uc001ybj.2,uc001yeh.3,uc001znl.2,uc002alz.2,uc002aqf.2,uc002bcm.2,uc002ehi.3,uc002fax.2,uc002gbm.3,uc002gra.3,uc002ibv.2,uc002iyt.1,uc002jhg.2,uc002jmq.2,uc002kln.2,uc002kte.2,uc002ldg.2,uc002lli.2,uc002ndw.2,uc002odm.1,uc002qza.2,uc002rut.2,uc002rzn.2,uc002thq.1,uc002tsg.3,uc002utb.2,uc002uyb.3,uc002uzf.3,uc002xli.1,uc002yjy.1,uc002ymd.2,uc002yrt.1,uc003bqi.2,uc003cbn.2,uc003cbq.2,uc003chd.2,uc003cht.2,uc003cos.2,uc003dio.2,uc003dnn.2,uc003dwx.3,uc003evd.2,uc003eyv.2,uc003gpa.2,uc003guo.2,uc003hrw.1,uc003hsm.1,uc003hxv.1,uc003iah.2,uc003iev.1,uc003iqe.3,uc003iqr.1,uc003iqz.3,uc003itp.2,uc003ixh.2,uc003jeg.3,uc003jho.2,uc003jlx.2,uc003jti.2,uc003jvq.2,uc003kjz.2,uc003koa.1,uc003kos.3,uc003kpv.1,uc003kpx.1,uc003kte.2,uc003ktk.2,uc003kvt.1,uc003kxr.2,uc003kzh.2,uc003ldb.1,uc003lfi.2,uc003llt.2,uc003lmi.3,uc003lzb.2,uc003mzv.2,uc003pfa.2,uc003pss.3,uc003puy.3,uc003qie.2,uc003srk.2,uc003syc.2,uc003tfr.2,uc003uni.3,uc003whl.2,uc003wzp.2,uc003xkm.1,uc003zle.2,uc003zyv.2,uc003zyz.2,uc004axl.1,uc004ben.2,uc004bfu.2,uc004bgq.2,uc004blc.2,uc004blh.2,uc004bpg.3,uc004brl.2,uc004cig.2,uc004cwr.2,uc004deb.2,uc004dgi.3,uc004euu.2,uc009xgp.2,uc010dia.2,uc010eyh.2,uc010jcm.1,uc010mdg.2,uc010miq.1,uc010udd.1,uc010yny.1,uc010zlt.1,uc011awd.1,uc011bac.1,uc011bfn.1,uc011edo.1,uc011egn.1,uc011mvs.1 | K119: 4.39 | L119: 0.34832258 | M119: 7.03e-28 | N119: 7.91e-16 | O119: 9.83e-16 | P119: 1.66e-13
A120: MIMAT0000757 | B120: hsa-miR-151a-3p | C120: 0.093787607 | D120: =IF(COUNTIF('TDP-43 miRNAs'!A$2:A$86,A120)>0,"yes","") -> yes | E120: =IF(COUNTIF('LUSC TDP-43 Correlations'!$A$2:$A$1038,$A120)>0,LOOKUP($A120,'LUSC TDP-43 Correlations'!$A$2:$A$1038,'LUSC TDP-43 Correlations'!C$2:C$1038),"n/a") -> 0.018904949 | F120: =IF(COUNTIF('LUSC TDP-43 Correlations'!$A$2:$A$1038,$A120)>0,LOOKUP($A120,'LUSC TDP-43 Correlations'!$A$2:$A$1038,'LUSC TDP-43 Correlations'!E$2:E$1038),"n/a") -> 0.025924748 | G120: -1.0228518 | H120: 785 | I120: 99 | J120: uc001bdm.2,uc001bfy.2,uc001bou.3,uc001bsc.2,uc001dle.2,uc001dlw.2,uc001gge.3,uc001ghk.1,uc001hgw.1,uc001jbr.3,uc001jbv.1,uc001jce.2,uc001laz.2,uc001lgz.2,uc001mvs.2,uc001pgf.2,uc001quo.1,uc001qwk.2,uc001tps.2,uc001uqy.2,uc001vbl.3,uc001vdl.2,uc001vkd.2,uc001wvk.2,uc001ybj.2,uc001zka.3,uc001zng.1,uc001zpc.2,uc001ztp.2,uc002bop.3,uc002czx.2,uc002frj.2,uc002fsm.2,uc002iyt.1,uc002jdz.2,uc002jhg.2,uc002klo.2,uc002mnq.2,uc002obn.1,uc002olh.1,uc002uyb.3,uc002wpr.2,uc002xgh.1,uc002yly.3,uc002yzy.3,uc003adp.3,uc003ceb.2,uc003cfu.2,uc003cjl.2,uc003ddo.2,uc003dpe.2,uc003ecj.3,uc003gft.3,uc003goc.1,uc003gxz.2,uc003hre.2,uc003hrw.1,uc003ixo.2,uc003jti.2,uc003kpv.1,uc003kqe.1,uc003krb.1,uc003ktk.2,uc003kzu.2,uc003lac.1,uc003ldb.1,uc003lpr.1,uc003lvg.1,uc003lvk.2,uc003mch.2,uc003mvt.2,uc003ncs.2,uc003piz.1,uc003pym.1,uc003stq.2,uc003syn.1,uc003uds.1,uc003uni.3,uc003vil.2,uc003vsi.2,uc003xfb.1,uc003xik.2,uc003ydg.2,uc003zij.1,uc003zwq.2,uc004blc.2,uc004brl.2,uc004eef.2,uc004eon.1,uc004euu.2,uc010hci.2,uc010pbh.1,uc010ryx.1,uc010wot.1,uc011awd.1,uc011bfn.1,uc011jxf.1,uc011ljd.1,uc011mvs.1 | K120: 2.68 | L120: 0.44981898 | M120: 8.75e-17 | N120: 1.67e-09 | O120: 1.79e-09 | P120: 3.5e-07
... A131: MIMAT0003249 | B131: hsa-miR-584-5p | C131: 0.017025179 | D131: =IF(COUNTIF('TDP-43 miRNAs'!A$2:A$86,A131)>0,"yes","") | E131: =IF(COUNTIF('LUSC TDP-43 Correlations'!$A$2:$A$1038,$A131)>0,LOOKUP($A131,'LUSC TDP-43 Correlations'!$A$2:$A$1038,'LUSC TDP-43 Correlations'!C$2:C$1038),"n/a") -> 0.00036251434 | F131: =IF(COUNTIF('LUSC TDP-43 Correlations'!$A$2:$A$1038,$A131)>0,LOOKUP($A131,'LUSC TDP-43 Correlations'!$A$2:$A$1038,'LUSC TDP-43 Correlations'!E$2:E$1038),"n/a") -> 0.81975918 | G131: -0.9086584 | H131: 1090 | I131: 124 | J131: uc001aky.2,uc001big.2,uc001bpc.3,uc001cqk.3,uc001csi.3,uc001cyj.1,uc001dhk.2,uc001dle.2,uc001edq.2,uc001gnq.2,uc001iha.2,uc001jbr.3,uc001jlx.2,uc001kee.2,uc001nor.2,uc001oij.1,uc001pku.2,uc001qan.2,uc001qnm.2,uc001rap.1,uc001tln.2,uc001tps.2,uc001uip.2,uc001url.3,uc001vdl.2,uc001vkc.2,uc001vkd.2,uc001vqq.2,uc001wrq.2,uc001wsq.2,uc001wzr.2,uc001xlp.2,uc001xqa.2,uc001xzx.3,uc001zpi.2,uc001zxc.1,uc002amv.2,uc002aqz.2,uc002ble.2,uc002ehi.3,uc002fsm.2,uc002gbm.3,uc002gph.1,uc002nvd.3,uc002pii.3,uc002rdl.2,uc002rpd.2,uc002sfr.3,uc002sgn.3,uc002vrr.1,uc002wmx.1,uc002xvl.2,uc002yrt.1,uc002zgb.1,uc003apy.3,uc003bqq.2,uc003cbn.2,uc003cbq.2,uc003ckc.2,uc003cmx.2,uc003czy.1,uc003dan.1,uc003dge.2,uc003dio.2,uc003dmn.2,uc003dnr.2,uc003dqt.2,uc003gjq.3,uc003gsq.1,uc003hbz.2,uc003hre.2,uc003hsm.1,uc003hxv.1,uc003idv.3,uc003ifa.2,uc003ipg.2,uc003iqz.3,uc003ire.2,uc003ixd.2,uc003jti.2,uc003jtk.2,uc003jud.2,uc003krb.1,uc003kte.2,uc003kwy.1,uc003kxr.2,uc003kyd.2,uc003kzh.2,uc003lfa.2,uc003lml.2,uc003mzv.2,uc003nhv.2,uc003nye.3,uc003ocu.1,uc003pfa.2,uc003piz.1,uc003puy.3,uc003pym.1,uc003qbr.2,uc003qcz.2,uc003qdg.2,uc003qkt.2,uc003qme.1,uc003uhf.3,uc003vil.2,uc003xhh.3,uc003yvx.2,uc003znq.2,uc004awm.2,uc004czu.2,uc004dez.1,uc004dgg.2,uc004fnf.2,uc009wgo.2,uc010aeu.1,uc010jcm.1,uc010mdg.2,uc010msg.2,uc010udd.1,uc010yvm.1,uc011awd.1,uc011dkv.1,uc011egn.1,uc011lxf.1 | K131: 3.36 | L131: 0.95178153 | M131: 6.56e-17 | N131: 1.48e-06 | O131: 1.52e-06 | P131: 0.000310086

Sheet LUSCupTranscriptsDownMiRNAs
A1: Supplemental Table10.LUSC pipeline Results
A2: Differentially Expressed miRNAs (pDESeq2 < 0.1)
A3: miRBaseAccension | B3: ID | C3: log2FoldChange | D3: Regulated by TDP-43? | E3: R2 TDP-43 Correlation | F3: Correlation Adjusted P-value | G3: odds_ratio_log | H3: numPredictedTargets | I3: numDEgenes | J3: percentDEgenes | K3: DEgeneList | L3: pDESeq2 | M3: pFatiscan | N3: pCombined | O3: pCombinedFDR | P3: pCombinedFWER
A4: MIMAT0000245 | B4: hsa-miR-30d-5p | C4: -2.3517669 | D4: =IF(COUNTIF('TDP-43 miRNAs'!A$2:A$86,A4)>0,"yes","") -> yes | E4: =IF(COUNTIF('LUSC TDP-43 Correlations'!$A$2:$A$1038,$A4)>0,LOOKUP($A4,'LUSC TDP-43 Correlations'!$A$2:$A$1038,'LUSC TDP-43 Correlations'!C$2:C$1038),"n/a") -> 0.042381953 | F4: =IF(COUNTIF('LUSC TDP-43 Correlations'!$A$2:$A$1038,$A4)>0,LOOKUP($A4,'LUSC TDP-43 Correlations'!$A$2:$A$1038,'LUSC TDP-43 Correlations'!E$2:E$1038),"n/a") -> 0.00050129587 | G4: 0.64701076 | H4: 2018 | I4: 711 | J4: 4.29 | K4: uc001aca.1,uc001alf.2,uc001aoh.2,uc001apw.2,uc001bbd.2,uc001bff.2,uc001bji.2,uc001bkw.1,uc001bub.2,uc001bvd.2,uc001bys.2,uc001bzp.2,uc001chl.2,uc001chs.2,uc001cor.1,uc001cpa.2,uc001cti.2,uc001cwj.1,uc001dbe.1,uc001dlr.3,uc001dnq.2,uc001dot.2,uc001dpu.2,uc001egv.1,uc001epq.2,uc001esr.2,uc001ewp.2,uc001ewy.2,uc001fcq.2,uc001fjz.1,uc001fmh.1,uc001fna.2,uc001fxo.2,uc001gdj.3,uc001gic.1,uc001goi.2,uc001gpr.2,uc001gqt.3,uc001gqu.3,uc001gtx.1,uc001gxc.2,uc001gyf.2,uc001gyv.1,uc001hbu.1,uc001hdb.2,uc001hdr.3,uc001hhq.1,uc001hie.2,uc001hjt.2,uc001hlg.3,uc001hul.2,uc001hur.2,uc001hvj.1,uc001hvs.1,uc001hwl.2,uc001hxc.2,uc001iaj.2,uc001ibn.2,uc001iew.1,uc001ifh.2,uc001ind.2,uc001ire.2,uc001isv.2,uc001itl.2,uc001jaj.2,uc001jkc.3,uc001jkf.2,uc001jok.3,uc001jsx.1,uc001jth.2,uc001jzk.2,uc001kfj.3,uc001khx.1,uc001kic.2,uc001kjj.2,uc001kmv.2,uc001knh.2,uc001krq.3,uc001kwt.2,uc001kzc.3,uc001lhe.2,uc001lhp.2,uc001mkz.2,uc001mok.3,uc001mri.1,uc001msw.1,uc001mvt.2,uc001mwu.3,uc001mxj.2,uc001ndn.3,uc001noe.3,uc001nvb.2,uc001ojk.1,uc001okf.1,uc001opn.1,uc001oun.1,uc001ouw.2,uc001ovb.1,uc001oyk.2,uc001ozi.2,uc001pbp.2,uc001pbq.2,uc001pcj.1,uc001pdg.2,uc001per.2,uc001pfn.2,uc001pfy.2,uc001phm.2,uc001pjc.1,uc001qdi.2,uc001qie.1,uc001qiq.2,uc001qlh.2,uc001qpq.1,uc001qyt.2,uc001qzm.2,uc001rdc.3,uc001rde.2,uc001rea.2,uc001rez.2,uc001rfq.2,uc001rgq.1,uc001rlm.2,uc001rmz.2,uc001rnc.2,uc001roa.2,uc001rpr.2,uc001rwv.2,uc001ryw.2,uc001sml.1,uc001soj.1,uc001sqg.2,uc001stn.2,uc001sut.3,uc001sux.2,uc001svv.2,uc001svw.1,uc001syx.2,uc001taf.1,uc001tau.2,uc001tdl.2,uc001tic.2,uc001tkg.2,uc001tlk.2,uc001tqk.3,uc001ttm.2,uc001twz.2,uc001tyg.2,uc001tyi.2,uc001ual.1,uc001ubi.2,uc001uel.2,uc001ufg.2,uc001ufm.2,uc001uii.2,uc001uqr.1,uc001urq.2,uc001uxu.1,uc001uzp.2,uc001vfp.2,uc001viu.2,uc001vje.2,uc001vtw.2,uc001vtx.2,uc001whc.2,uc001wuw.3,uc001xcx.3,uc001xfb.3,uc001xfc.2,uc001xff.3,uc001xhb.2,uc001xkj.1,uc001xmf.2,uc001xqm.1,uc001yah.1,uc001yfo.2,uc001ygi.3,uc001ygy.1,uc001yqx.2,uc001yur.3,uc001zhj.2,uc001zho.2,uc001zii.2,uc001ziw.2,uc001zof.1,uc001zti.1,uc001zve.2,uc001zvh.2,uc002abp.2,uc002amu.1,uc002anf.2,uc002ank.2,uc002apr.2,uc002aqs.2,uc002arl.2,uc002aym.2,uc002azd.1,uc002bbj.1,uc002bcd.2,uc002bfy.1,uc002bgq.1,uc002bjs.1,uc002bmi.1,uc002boz.2,uc002cnc.1,uc002cod.2,uc002cqy.3,uc002crd.2,uc002dbt.2,uc002dcz.2,uc002dhu.1,uc002dpd.2,uc002dxu.2,uc002eek.1,uc002eod.1,uc002era.2,uc002fcq.2,uc002fdl.1,uc002fgo.2,uc002fgw.2,uc002fkm.2,uc002frp.2,uc002fto.2,uc002fwp.2,uc002fxs.2,uc002gce.2,uc002grm.2,uc002gup.1,uc002haz.2,uc002hfs.1,uc002hfu.2,uc002hnx.2,uc002hoi.1,uc002hvj.1,uc002hyo.2,uc002ibr.2,uc002ihc.2,uc002iky.2,uc002ils.1,uc002ilt.1,uc002ioj.2,uc002iuc.2,uc002iva.2,uc002ixi.2,uc002ixy.2,uc002jij.2,uc002jiw.2,uc002jne.2,uc002jpb.1,uc002jxc.2,uc002jzu.1,uc002kfq.2,uc002kga.2,uc002kkf.1,uc002kri.2,uc002krr.2,uc002kth.1,uc002ktj.1,uc002ktq.2,uc002kui.3,uc002kwu.3,uc002kzb.2,uc002lda.2,uc002lfc.3,uc002lfg.1,uc002lgj.1,uc002lgw.2,uc002lpp.2,uc002lql.2,uc002lwf.3,uc002mkb.1,uc002mvw.1,uc002mxe.2,uc002ndo.3,uc002nia.1,uc002njp.2,uc002nkx.2,uc002ntm.2,uc002nvj.2,uc002oep.3,uc002pbn.2,uc002pgc.2,uc002pgd.2,uc002ppa.2,uc002qdi.2,uc002qql.2,uc002qxt.2,uc002rah.2,uc002rek.3,uc002ren.2,uc002rgv.2,uc002rkp.2,uc002rlk.3,uc002rmo.2,uc002rnl.2,uc002roc.2,uc002rqq.2,uc002rsq.2,uc002rwf.2,uc002rxk.1,uc002rzf.2,uc002sai.2,uc002sau.3,uc002sbf.2,uc002sbj.2,uc002sdz.1,uc002sei.1,uc002sgp.2,uc002sgq.3,uc002sjp.2,uc002sjq.3,uc002sjs.2,uc002sjx.2,uc002srg.3,uc002ssg.1,uc002ssh.2,uc002ste.2,uc002svn.2,uc002swo.2,uc002tdi.2,uc002tgv.1,uc002thi.2,uc002tjt.2,uc002tkx.1,uc002tmj.1,uc002tur.2,uc002txg.2,uc002tyh.3,uc002tyn.2,uc002ubf.2,uc002uea.2,uc002ueb.1,uc002ufk.2,uc002ufn.2,uc002uhh.2,uc002uhi.2,uc002ukb.1,uc002ulh.3,uc002unq.1,uc002upo.2,uc002uqk.2,uc002usk.2,uc002uui.2,uc002uuq.2,uc002uwr.2,uc002uyq.2,uc002vcu.2,uc002vlj.2,uc002voh.3,uc002vqd.1,uc002vsb.3,uc002vsg.1,uc002vvn.2,uc002wdh.2,uc002wfc.2,uc002wfw.3,uc002wim.2,uc002wky.2,uc002wlp.2,uc002wnp.2,uc002wnw.2,uc002woj.2,uc002wqh.2,uc002wqi.1,uc002wrs.2,uc002wuy.2,uc002wvc.2,uc002wxn.2,uc002wyh.2,uc002xfp.2,uc002xfq.2,uc002xfs.2,uc002xft.2,uc002xhc.2,uc002xkc.2,uc002xrq.2,uc002xuh.2,uc002xvy.1,uc002xwx.2,uc002xxc.2,uc002yac.1,uc002yaz.2,uc002ybs.2,uc002ycb.2,uc002yko.3,uc002zdk.2,uc002znm.2,uc002zop.2,uc002zrv.2,uc002zur.3,uc002zwc.1,uc002zys.1,uc003aco.1,uc003adk.2,uc003afh.2,uc003alp.3,uc003amm.2,uc003ato.1,uc003atp.2,uc003bcj.1,uc003bck.1,uc003bdq.2,uc003bix.2,uc003ctp.1,uc003dsb.1,uc003dsx.2,uc003duz.2,uc003dvj.2,uc003dwc.2,uc003dyb.2,uc003dyk.3,uc003eci.2,uc003ecm.2,uc003ecn.2,uc003edr.2,uc003edz.3,uc003ege.2,uc003eks.1,uc003emz.3,uc003enj.2,uc003eps.2,uc003etv.2,uc003euc.2,uc003eud.2,uc003eue.2,uc003euy.1,uc003evm.2,uc003evo.2,uc003ewt.1,uc003ewu.1,uc003ext.1,uc003exu.1,uc003ezr.2,uc003ezy.3,uc003fao.1,uc003fce.2,uc003fdn.2,uc003fdr.2,uc003feb.1,uc003fez.2,uc003ffa.3,uc003fgs.2,uc003fhd.2,uc003fjw.2,uc003fkm.2,uc003fkr.2,uc003fkt.2,uc003fkx.2,uc003flb.2,uc003flk.2,uc003fmg.2,uc003fnj.1,uc003fpv.2,uc003fqg.2,uc003fqi.2,uc003fre.1,uc003fun.3,uc003fup.2,uc003fwm.3,uc003fwx.3,uc003fyi.2,uc003gbe.2,uc003gmn.2,uc003gqm.1,uc003hag.3,uc003hbr.2,uc003hje.3,uc003hkr.2,uc003hwt.3,uc003igr.2,uc003ink.1,uc003inv.1,uc003iqa.2,uc003iqc.2,uc003isz.3,uc003itc.2,uc003ivd.1,uc003iwa.1,uc003iwi.2,uc003jeq.2,uc003jet.1,uc003jhs.2,uc003jjd.2,uc003jkn.2,uc003jlm.1,uc003jme.1,uc003job.2,uc003kcp.2,uc003kuu.2,uc003lwf.1,uc003mda.2,uc003mec.1,uc003mek.1,uc003mvl.1,uc003mwl.2,uc003mxn.2,uc003mxp.1,uc003mxr.2,uc003mzp.3,uc003nbj.2,uc003nda.2,uc003ndi.2,uc003nil.3,uc003nxk.2,uc003ork.2,uc003oua.2,uc003oux.2,uc003ouy.1,uc003ovp.2,uc003owk.2,uc003oxl.2,uc003ozh.1,uc003pbi.2,uc003pbw.1,uc003pbx.2,uc003pdc.3,uc003pfm.1,uc003pjv.2,uc003pky.2,uc003pla.2,uc003pmz.2,uc003pnz.1,uc003pow.2,uc003pqk.2,uc003prd.2,uc003prs.2,uc003pwi.1,uc003pxt.1,uc003pzu.1,uc003qel.2,uc003qez.2,uc003qfa.2,uc003qil.2,uc003qng.2,uc003qnt.2,uc003qob.2,uc003qrf.2,uc003qrg.2,uc003qrm.3,uc003qsw.3,uc003qwt.2,uc003sis.2,uc003stn.1,uc003sup.1,uc003svu.2,uc003sxr.3,uc003sxt.2,uc003tcv.1,uc003tdk.2,uc003thy.2,uc003tlw.2,uc003tqg.2,uc003ttb.2,uc003tyc.2,uc003tyt.2,uc003ubm.3,uc003udk.3,uc003uit.2,uc003ujx.2,uc003ukm.1,uc003ung.1,uc003uqe.2,uc003uso.2,uc003uwg.1,uc003vet.2,uc003vjj.1,uc003vnq.2,uc003vop.1,uc003wme.2,uc003wnk.2,uc003wwu.2,uc003xgg.2,uc003xig.2,uc003xky.1,uc003xlf.3,uc003xqm.2,uc003xqp.2,uc003xun.2,uc003ydc.1,uc003yeu.3,uc003ygk.2,uc003ygy.2,uc003yhc.2,uc003yhy.2,uc003yii.1,uc003ykb.2,uc003ykr.1,uc003yky.2,uc003ylk.2,uc003yok.1,uc003you.2,uc003yov.2,uc003ypc.1,uc003yqc.1,uc003yqh.3,uc003yqv.2,uc003yrk.2,uc003yvn.2,uc003zgd.2,uc003zin.2,uc003zvb.2,uc004aay.2,uc004ajo.3,uc004ala.2,uc004aqh.2,uc004arn.1,uc004atx.2,uc004awf.2,uc004aya.2,uc004bas.2,uc004bbm.2,uc004bhn.2,uc004bpn.2,uc004bqa.2,uc004bsx.1,uc004bvu.3,uc004bws.1,uc004bxc.2,uc004bzq.1,uc004cdm.2,uc004cgt.2,uc004cld.2,uc004cqi.1,uc004cqk.1,uc004crg.3,uc004dex.3,uc004dgc.2,uc004dvo.2,uc004ecu.1,uc004ecy.1,uc004ega.1,uc004ehj.1,uc004elw.2,uc004emm.2,uc004enp.1,uc004ezx.2,uc004fae.1,uc009whp.2,uc009wjj.1,uc009xvo.2,uc009ywl.1,uc009znj.1,uc010avs.2,uc010bfn.2,uc010bgk.2,uc010bkb.1,uc010cla.1,uc010ddc.2,uc010dli.2,uc010dnb.1,uc010fph.1,uc010fqm.1,uc010gti.1,uc010gty.2,uc010hre.1,uc010iai.2,uc010igz.1,uc010jno.2,uc010jpm.1,uc010khz.1,uc010kkb.2,uc010kyl.2,uc010lqs.2,uc010mbr.2,uc010mbu.2,uc010mdq.2,uc010mly.1,uc010myg.2,uc010myt.1,uc010nbi.2,uc010ncb.2,uc010nxx.1,uc010oef.1,uc010osj.1,uc010ous.1,uc010oxe.1,uc010pnq.1,uc010pwa.1,uc010qfe.1,uc010qha.1,uc010qwl.1,uc010rhn.1,uc010rho.1,uc010rwf.1,uc010sfh.1,uc010tqf.1,uc010ubz.1,uc010ujk.1,uc010vvv.1,uc010vyd.1,uc010wyu.1,uc010xbj.1,uc010xil.1,uc010xnq.1,uc010xpl.1,uc010ydl.1,uc010ytj.1,uc010zpu.1,uc010zqs.1,uc011bds.1,uc011blr.1,uc011bsb.1,uc011btw.1,uc011btx.1,uc011byb.1,uc011col.1,uc011edt.1,uc011jwp.1,uc011kgj.1,uc011lgj.1,uc011lhz.1 | L4: 5.57e-82 | M4: 5.72e-38 | N4: 1.86e-113 | O4: 1.19e-111 | P4: 1.19e-111
A5: MIMAT0000087 | B5: hsa-miR-30a-5p | C5: -3.0713887 | D5: =IF(COUNTIF('TDP-43 miRNAs'!A$2:A$86,A5)>0,"yes","") -> yes | E5: =IF(COUNTIF('LUSC TDP-43 Correlations'!$A$2:$A$1038,$A5)>0,LOOKUP($A5,'LUSC TDP-43 Correlations'!$A$2:$A$1038,'LUSC TDP-43 Correlations'!C$2:C$1038),"n/a") -> 0.095153388 | F5: =IF(COUNTIF('LUSC TDP-43 Correlations'!$A$2:$A$1038,$A5)>0,LOOKUP($A5,'LUSC TDP-43 Correlations'!$A$2:$A$1038,'LUSC TDP-43 Correlations'!E$2:E$1038),"n/a") -> 4.2815755e-08 | G5: 0.64470527 | H5: 2093 | I5: 736 | J5: 4.44 | K5: uc001aca.1,uc001alf.2,uc001aoh.2,uc001apw.2,uc001bbd.2,uc001bff.2,uc001bji.2,uc001bkw.1,uc001bub.2,uc001bvd.2,uc001bys.2,uc001bzp.2,uc001cer.1,uc001chl.2,uc001chs.2,uc001cob.2,uc001cor.1,uc001cpa.2,uc001cti.2,uc001cwj.1,uc001dbe.1,uc001ddv.2,uc001dlr.3,uc001dnq.2,uc001dot.2,uc001dpu.2,uc001egv.1,uc001epq.2,uc001esr.2,uc001ewp.2,uc001ewy.2,uc001fcq.2,uc001fjz.1,uc001fmh.1,uc001fna.2,uc001fxo.2,uc001gdj.3,uc001gic.1,uc001goi.2,uc001gpr.2,uc001gqt.3,uc001gqu.3,uc001gtx.1,uc001gxc.2,uc001gyf.2,uc001gyv.1,uc001hbu.1,uc001hdb.2,uc001hdr.3,uc001hhq.1,uc001hie.2,uc001hjt.2,uc001hlg.3,uc001hul.2,uc001hur.2,uc001hvj.1,uc001hvs.1,uc001hwl.2,uc001hxc.2,uc001iaj.2,uc001ibn.2,uc001iew.1,uc001ifh.2,uc001ind.2,uc001ire.2,uc001isv.2,uc001itk.1,uc001itl.2,uc001iva.3,uc001jaj.2,uc001jkc.3,uc001jkf.2,uc001jok.3,uc001jqs.2,uc001jsx.1,uc001jth.2,uc001jzk.2,uc001kfj.3,uc001khx.1,uc001kic.2,uc001kjj.2,uc001kmv.2,uc001knh.2,uc001kni.2,uc001kpr.2,uc001krq.3,uc001kwt.2,uc001kzc.3,uc001lhe.2,uc001lhp.2,uc001mkz.2,uc001mok.3,uc001mri.1,uc001msw.1,uc001mvt.2,uc001mwu.3,uc001mxj.2,uc001ndn.3,uc001noe.3,uc001nvb.2,uc001ojk.1,uc001okf.1,uc001opn.1,uc001oun.1,uc001ouw.2,uc001ovb.1,uc001oyk.2,uc001ozi.2,uc001pbp.2,uc001pbq.2,uc001pcj.1,uc001pdg.2,uc001per.2,uc001pfn.2,uc001pfu.2,uc001pfy.2,uc001phm.2,uc001pjc.1,uc001pwv.2,uc001qdi.2,uc001qie.1,uc001qiq.2,uc001qlh.2,uc001qpq.1,uc001qyt.2,uc001qzm.2,uc001rdc.3,uc001rde.2,uc001rea.2,uc001rez.2,uc001rfq.2,uc001rgq.1,uc001rlm.2,uc001rmz.2,uc001rnc.2,uc001roa.2,uc001rpr.2,uc001rwv.2,uc001ryw.2,uc001sml.1,uc001soj.1,uc001sqg.2,uc001stn.2,uc001sut.3,uc001sux.2,uc001svv.2,uc001svw.1,uc001syx.2,uc001taf.1,uc001tau.2,uc001tdl.2,uc001thb.1,uc001tic.2,uc001tkg.2,uc001tlk.2,uc001tqk.3,uc001ttm.2,uc001twz.2,uc001tyg.2,uc001tyi.2,uc001ual.1,uc001ubi.2,uc001uel.2,uc001ufg.2,uc001ufm.2,uc001uii.2,uc001uqr.1,uc001urq.2,uc001uxu.1,uc001uzp.2,uc001vfp.2,uc001viu.2,uc001vje.2,uc001vtw.2,uc001vtx.2,uc001vvl.3,uc001whc.2,uc001wja.2,uc001wuw.3,uc001xcx.3,uc001xfb.3,uc001xfc.2,uc001xff.3,uc001xhb.2,uc001xkj.1,uc001xmf.2,uc001xqm.1,uc001yah.1,uc001yfo.2,uc001ygi.3,uc001ygy.1,uc001yqx.2,uc001yur.3,uc001zhj.2,uc001zho.2,uc001zii.2,uc001ziw.2,uc001zof.1,uc001zve.2,uc001zvh.2,uc002abp.2,uc002amu.1,uc002anf.2,uc002ank.2,uc002apr.2,uc002aqs.2,uc002arl.2,uc002aym.2,uc002azd.1,uc002bbj.1,uc002bcd.2,uc002bfy.1,uc002bgq.1,uc002bjs.1,uc002bmi.1,uc002boz.2,uc002cnc.1,uc002cod.2,uc002cqy.3,uc002crd.2,uc002dbt.2,uc002dcz.2,uc002dhu.1,uc002dlv.2,uc002dpd.2,uc002dxu.2,uc002eek.1,uc002eod.1,uc002era.2,uc002fcq.2,uc002fdl.1,uc002fgo.2,uc002fgw.2,uc002fkm.2,uc002frp.2,uc002fto.2,uc002fwp.2,uc002fxs.2,uc002gbw.2,uc002gce.2,uc002grm.2,uc002gup.1,uc002haz.2,uc002hfs.1,uc002hfu.2,uc002hnx.2,uc002hoi.1,uc002hvj.1,uc002hyo.2,uc002ibr.2,uc002ihc.2,uc002iky.2,uc002ils.1,uc002ilt.1,uc002ioj.2,uc002iuc.2,uc002iva.2,uc002ixi.2,uc002ixy.2,uc002jij.2,uc002jiw.2,uc002jne.2,uc002jpb.1,uc002jxc.2,uc002jzu.1,uc002kfq.2,uc002kga.2,uc002kkf.1,uc002kri.2,uc002krj.1,uc002krr.2,uc002kth.1,uc002ktj.1,uc002ktq.2,uc002kui.3,uc002kwu.3,uc002kzb.2,uc002lda.2,uc002lfc.3,uc002lfg.1,uc002lgj.1,uc002lgw.2,uc002lis.2,uc002lpp.2,uc002lql.2,uc002lwf.3,uc002mkb.1,uc002mvw.1,uc002mxe.2,uc002ndo.3,uc002nia.1,uc002njp.2,uc002nkx.2,uc002ntm.2,uc002nvj.2,uc002oep.3,uc002pbn.2,uc002pgc.2,uc002pgd.2,uc002ppa.2,uc002qdi.2,uc002qql.2,uc002qxt.2,uc002rah.2,uc002rek.3,uc002ren.2,uc002rgv.2,uc002rkp.2,uc002rlk.3,uc002rmo.2,uc002rnl.2,uc002roc.2,uc002rpa.1,uc002rqq.2,uc002rsq.2,uc002rwf.2,uc002rxk.1,uc002rzf.2,uc002sai.2,uc002sau.3,uc002sbf.2,uc002sbj.2,uc002sdz.1,uc002sei.1,uc002sgp.2,uc002sgq.3,uc002sjp.2,uc002sjq.3,uc002sjs.2,uc002sjx.2,uc002srg.3,uc002ssg.1,uc002ssh.2,uc002ste.2,uc002svn.2,uc002swo.2,uc002tdi.2,uc002tgv.1,uc002thi.2,uc002tjt.2,uc002tkq.2,uc002tkx.1,uc002tmj.1,uc002tur.2,uc002txg.2,uc002tyh.3,uc002tyn.2,uc002ubf.2,uc002uea.2,uc002ueb.1,uc002ufk.2,uc002ufn.2,uc002uhh.2,uc002uhi.2,uc002ukb.1,uc002ulh.3,uc002unq.1,uc002upo.2,uc002uqk.2,uc002usk.2,uc002utt.3,uc002uui.2,uc002uuq.2,uc002uwr.2,uc002uyq.2,uc002vcu.2,uc002vlj.2,uc002voh.3,uc002vqd.1,uc002vsb.3,uc002vsg.1,uc002vvn.2,uc002wdh.2,uc002wfc.2,uc002wfw.3,uc002wim.2,uc002wky.2,uc002wlp.2,uc002wnp.2,uc002wnw.2,uc002woj.2,uc002wqh.2,uc002wqi.1,uc002wrs.2,uc002wuy.2,uc002wvc.2,uc002wxn.2,uc002wyh.2,uc002xfp.2,uc002xfq.2,uc002xfs.2,uc002xhc.2,uc002xkc.2,uc002xrq.2,uc002xuh.2,uc002xvy.1,uc002xwx.2,uc002xxc.2,uc002yac.1,uc002yaz.2,uc002ybs.2,uc002ycb.2,uc002yki.2,uc002yko.3,uc002zdk.2,uc002znm.2,uc002zop.2,uc002zrv.2,uc002zur.3,uc002zwc.1,uc002zys.1,uc003aco.1,uc003adj.2,uc003adk.2,uc003afh.2,uc003alp.3,uc003amm.2,uc003ato.1,uc003atp.2,uc003bcj.1,uc003bck.1,uc003bdq.2,uc003bix.2,uc003ctp.1,uc003dsb.1,uc003dsx.2,uc003duz.2,uc003dvj.2,uc003dwc.2,uc003dyb.2,uc003dyk.3,uc003eci.2,uc003ecm.2,uc003edr.2,uc003edz.3,uc003ege.2,uc003eks.1,uc003emz.3,uc003enj.2,uc003eps.2,uc003etv.2,uc003euc.2,uc003eud.2,uc003eue.2,uc003euy.1,uc003evm.2,uc003evo.2,uc003ewt.1,uc003ewu.1,uc003ext.1,uc003exu.1,uc003ezr.2,uc003ezy.3,uc003fao.1,uc003fce.2,uc003fdn.2,uc003fdr.2,uc003feb.1,uc003fez.2,uc003ffa.3,uc003fgs.2,uc003fhd.2,uc003fjw.2,uc003fkm.2,uc003fkr.2,uc003fkt.2,uc003fkx.2,uc003flb.2,uc003flk.2,uc003fmg.2,uc003fnj.1,uc003fpj.2,uc003fpv.2,uc003fqg.2,uc003fqi.2,uc003fre.1,uc003fun.3,uc003fup.2,uc003fwm.3,uc003fwx.3,uc003fyi.2,uc003gbe.2,uc003gdi.1,uc003gmn.2,uc003gqm.1,uc003hag.3,uc003hbr.2,uc003hje.3,uc003hkr.2,uc003hwt.3,uc003ify.2,uc003igr.2,uc003ihu.1,uc003ink.1,uc003inv.1,uc003iqa.2,uc003iqc.2,uc003isz.3,uc003itc.2,uc003ivd.1,uc003iwa.1,uc003iwi.2,uc003jet.1,uc003jhs.2,uc003jjd.2,uc003jkn.2,uc003jlm.1,uc003jme.1,uc003job.2,uc003kcp.2,uc003kuu.2,uc003lwf.1,uc003mda.2,uc003mec.1,uc003mek.1,uc003mvl.1,uc003mwl.2,uc003mxn.2,uc003mxp.1,uc003mxr.2,uc003mzp.3,uc003nbj.2,uc003nda.2,uc003ndi.2,uc003nil.3,uc003nxk.2,uc003ork.2,uc003oua.2,uc003oux.2,uc003ouy.1,uc003ovp.2,uc003owk.2,uc003oxl.2,uc003ozh.1,uc003pbi.2,uc003pbw.1,uc003pbx.2,uc003pdc.3,uc003pfm.1,uc003pjv.2,uc003pky.2,uc003pla.2,uc003pmz.2,uc003pnz.1,uc003pow.2,uc003pqk.2,uc003prd.2,uc003prs.2,uc003pvy.3,uc003pwi.1,uc003pxt.1,uc003pzu.1,uc003qel.2,uc003qez.2,uc003qfa.2,uc003qil.2,uc003qng.2,uc003qnt.2,uc003qob.2,uc003qrf.2,uc003qrg.2,uc003qrm.3,uc003qsw.3,uc003qwt.2,uc003sis.2,uc003stn.1,uc003sup.1,uc003svu.2,uc003sxr.3,uc003sxt.2,uc003tcv.1,uc003tdk.2,uc003thy.2,uc003tqg.2,uc003ttb.2,uc003tyc.2,uc003tyt.2,uc003uap.2,uc003ubm.3,uc003udk.3,uc003uit.2,uc003ujx.2,uc003ukm.1,uc003ung.1,uc003uqe.2,uc003uso.2,uc003uwg.1,uc003vet.2,uc003vjj.1,uc003vnq.2,uc003vop.1,uc003wme.2,uc003wnk.2,uc003wwu.2,uc003xgg.2,uc003xig.2,uc003xky.1,uc003xlf.3,uc003xqm.2,uc003xqp.2,uc003xun.2,uc003ydc.1,uc003yeu.3,uc003ygk.2,uc003ygy.2,uc003yhc.2,uc003yii.1,uc003ykb.2,uc003ykr.1,uc003yky.2,uc003ylk.2,uc003yok.1,uc003you.2,uc003yov.2,uc003ypc.1,uc003yqc.1,uc003yqh.3,uc003yqv.2,uc003yrk.2,uc003yvl.2,uc003yvn.2,uc003zgd.2,uc003zin.2,uc003zvb.2,uc004aay.2,uc004ajo.3,uc004ala.2,uc004aqh.2,uc004arn.1,uc004atx.2,uc004awf.2,uc004aya.2,uc004bas.2,uc004bbm.2,uc004bhn.2,uc004bkt.2,uc004bpn.2,uc004bqa.2,uc004bsx.1,uc004bvu.3,uc004bws.1,uc004bxc.2,uc004bzq.1,uc004cdm.2,uc004cgt.2,uc004cld.2,uc004cqi.1,uc004cqk.1,uc004crg.3,uc004dbc.2,uc004dex.3,uc004dgc.2,uc004dvo.2,uc004ecu.1,uc004ecy.1,uc004ega.1,uc004ehj.1,uc004elw.2,uc004emm.2,uc004enp.1,uc004err.2,uc004ezx.2,uc004fae.1,uc009whp.2,uc009wjj.1,uc009xvo.2,uc009ywl.1,uc009znj.1,uc010avs.2,uc010bfn.2,uc010bgk.2,uc010bkb.1,uc010cla.1,uc010ddc.2,uc010dli.2,uc010dnb.1,uc010fph.1,uc010fqm.1,uc010gti.1,uc010hre.1,uc010iai.2,uc010igz.1,uc010jno.2,uc010jpm.1,uc010khz.1,uc010kkb.2,uc010lqs.2,uc010mbr.2,uc010mbu.2,uc010mdq.2,uc010mly.1,uc010myg.2,uc010myt.1,uc010nbi.2,uc010ncb.2,uc010nxx.1,uc010oef.1,uc010osj.1,uc010ous.1,uc010oxe.1,uc010pnq.1,uc010pwa.1,uc010qfe.1,uc010qha.1,uc010qwl.1,uc010rhn.1,uc010rho.1,uc010rwf.1,uc010sfh.1,uc010tji.1,uc010tqf.1,uc010ubz.1,uc010ujk.1,uc010vvv.1,uc010vyd.1,uc010wyu.1,uc010xbj.1,uc010xil.1,uc010xnq.1,uc010xpl.1,uc010ydl.1,uc010ytj.1,uc010zpu.1,uc010zqs.1,uc011bds.1,uc011blr.1,uc011bsb.1,uc011btw.1,uc011btx.1,uc011byb.1,uc011col.1,uc011edt.1,uc011jwp.1,uc011kgj.1,uc011lgj.1,uc011lhz.1 | L5: 5.18e-73 | M5: 6.41e-39 | N5: 5.11e-107 | O5: 1.64e-105 | P5: 3.27e-105
A6: MIMAT0002177 | B6: hsa-miR-486-5p | C6: -3.2710838 | D6: =IF(COUNTIF('TDP-43 miRNAs'!A$2:A$86,A6)>0,"yes","") -> yes | E6: =IF(COUNTIF('LUSC TDP-43 Correlations'!$A$2:$A$1038,$A6)>0,LOOKUP($A6,'LUSC TDP-43 Correlations'!$A$2:$A$1038,'LUSC TDP-43 Correlations'!C$2:C$1038),"n/a") -> 0.072819907 | F6: =IF(COUNTIF('LUSC TDP-43 Correlations'!$A$2:$A$1038,$A6)>0,LOOKUP($A6,'LUSC TDP-43 Correlations'!$A$2:$A$1038,'LUSC TDP-43 Correlations'!E$2:E$1038),"n/a") -> 2.1643514e-06 | G6: 0.54871029 | H6: 783 | I6: 261 | J6: 1.57 | K6: uc001axe.1,uc001beb.2,uc001bgw.2,uc001bkw.1,uc001btk.1,uc001ckz.2,uc001ebb.2,uc001ewn.2,uc001ewq.2,uc001fjm.2,uc001fmh.1,uc001gfg.2,uc001grc.1,uc001gyf.2,uc001gyv.1,uc001hov.3,uc001hpq.2,uc001hvs.1,uc001iaj.2,uc001imk.2,uc001ire.2,uc001jkf.2,uc001jsn.2,uc001jtr.2,uc001jzk.2,uc001kfj.3,uc001kmv.2,uc001kwv.2,uc001lcd.2,uc001lgy.1,uc001mvt.2,uc001ndn.3,uc001ntn.1,uc001oyj.2,uc001pfy.2,uc001qmu.2,uc001qzz.2,uc001rdz.3,uc001riq.2,uc001roa.2,uc001rpc.2,uc001scb.3,uc001sdg.1,uc001smz.2,uc001spv.2,uc001sqi.2,uc001szp.3,uc001tqk.3,uc001ttm.2,uc001tym.2,uc001ucr.2,uc001ufg.2,uc001uha.1,uc001uta.1,uc001uzp.2,uc001vvl.3,uc001vxb.1,uc001wyw.3,uc001yah.1,uc001yoe.2,uc001yoi.3,uc001zff.2,uc001zkx.3,uc001zsu.2,uc002abo.2,uc002ahf.3,uc002arl.2,uc002aym.2,uc002azd.1,uc002bak.3,uc002bfw.1,uc002bmi.1,uc002bxi.2,uc002cfj.3,uc002cze.2,uc002dlz.1,uc002eeh.2,uc002emy.2,uc002emz.2,uc002eof.1,uc002era.2,uc002erz.2,uc002ewl.2,uc002ewr.2,uc002fxs.2,uc002gbw.2,uc002guw.2,uc002hiy.1,uc002hoi.1,uc002ixy.2,uc002jnl.2,uc002kbu.2,uc002ktj.1,uc002lpp.2,uc002nei.1,uc002new.2,uc002nkt.1,uc002nug.1,uc002obq.1,uc002pdt.2,uc002pjb.1,uc002pmq.3,uc002pqf.1,uc002qkj.3,uc002qkx.1,uc002qoi.1,uc002raq.2,uc002rfs.3,uc002rgv.2,uc002rjd.2,uc002roc.2,uc002rqq.2,uc002ryw.2,uc002sbt.2,uc002scj.1,uc002sfu.2,uc002sfv.2,uc002sjp.2,uc002sxh.3,uc002tdi.2,uc002tfj.3,uc002tgv.1,uc002thp.2,uc002tkx.1,uc002uad.2,uc002ugk.2,uc002uhh.2,uc002uhi.2,uc002uwc.2,uc002uyw.1,uc002vdn.2,uc002vnm.2,uc002vsg.1,uc002wdx.1,uc002whe.2,uc002wmn.3,uc002wrp.2,uc002wuv.1,uc002wuz.2,uc002wxn.2,uc002xaf.2,uc002xaw.2,uc002xgd.1,uc002xjg.2,uc002xoh.1,uc002xvu.1,uc002xxl.1,uc002xya.2,uc002yki.2,uc002zou.2,uc003eho.2,uc003epa.3,uc003euy.1,uc003evo.2,uc003ewt.1,uc003ext.1,uc003exu.1,uc003fce.2,uc003fjz.2,uc003fkr.2,uc003fkt.2,uc003fkx.2,uc003foj.1,uc003fpf.2,uc003fty.3,uc003fun.3,uc003fyi.2,uc003gdi.1,uc003gmq.2,uc003hkr.2,uc003hlp.1,uc003huk.1,uc003hvn.1,uc003hvo.1,uc003iec.3,uc003ifm.2,uc003ihu.1,uc003itc.2,uc003ivd.1,uc003izf.2,uc003jas.2,uc003jeq.2,uc003jhj.3,uc003jhr.1,uc003jkn.2,uc003jnl.1,uc003job.2,uc003jpq.2,uc003kbt.3,uc003knb.2,uc003ncl.1,uc003ots.1,uc003ovp.2,uc003owk.2,uc003qdy.1,uc003qiw.2,uc003tat.2,uc003tct.2,uc003uaj.2,uc003utk.2,uc003uzh.2,uc003vjg.2,uc003vux.2,uc003vwo.1,uc003wkv.1,uc003wnk.2,uc003wqo.2,uc003xnt.2,uc003xos.2,uc003xry.2,uc003xxp.1,uc003yfz.2,uc003ymg.1,uc003ynb.3,uc003yok.1,uc003ztt.2,uc003zwd.2,uc004aao.2,uc004arj.1,uc004aru.3,uc004avh.2,uc004awf.2,uc004bax.2,uc004bjj.3,uc004buz.3,uc004bzq.1,uc004cno.1,uc004cvb.2,uc004dkn.2,uc009vsy.2,uc009vxw.2,uc009zyh.2,uc010avr.2,uc010cwu.1,uc010dan.2,uc010fra.2,uc010ijr.1,uc010ksg.2,uc010mbu.2,uc010meg.2,uc010mgc.2,uc010njt.2,uc010oot.1,uc010pbc.1,uc010qfe.1,uc010qii.1,uc010sfi.1,uc010sgs.1,uc010vml.1,uc010wvp.1,uc010xbj.1,uc010ytj.1,uc010zjt.1,uc011bds.1,uc011bsb.1,uc011cea.1,uc011ckc.1,uc011cxs.1,uc011dch.1,uc011drm.1,uc011myr.1 | L6: 5.21e-46 | M6: 5.88e-12 | N6: 4.62e-50 | O6: 3.7e-49 | P6: 2.96e-48
A7: MIMAT0000082 | B7: hsa-miR-26a-5p | C7: -1.182494 | D7: =IF(COUNTIF('TDP-43 miRNAs'!A$2:A$86,A7)>0,"yes","") -> yes | E7: =IF(COUNTIF('LUSC TDP-43 Correlations'!$A$2:$A$1038,$A7)>0,LOOKUP($A7,'LUSC TDP-43 Correlations'!$A$2:$A$1038,'LUSC TDP-43 Correlations'!C$2:C$1038),"n/a") -> 0.054322357 | F7: =IF(COUNTIF('LUSC TDP-43 Correlations'!$A$2:$A$1038,$A7)>0,LOOKUP($A7,'LUSC TDP-43 Correlations'!$A$2:$A$1038,'LUSC TDP-43 Correlations'!E$2:E$1038),"n/a") -> 6.2805549e-05 | G7: 0.62737807 | H7: 1628 | I7: 568 | J7: 3.43 | K7: uc001afh.2,uc001ako.2,uc001aoh.2,uc001bch.1,uc001bff.2,uc001bnb.2,uc001bvy.1,uc001bys.2,uc001chs.2,uc001ckz.2,uc001cob.2,uc001cor.1,uc001cub.2,uc001dak.1,uc001dbe.1,uc001ddv.2,uc001dii.2,uc001dlh.2,uc001dmi.2,uc001dnq.2,uc001dot.2,uc001dqg.1,uc001dxa.3,uc001ewn.2,uc001fjs.2,uc001fjz.1,uc001fnd.3,uc001gbo.2,uc001gdj.3,uc001gjh.1,uc001goi.2,uc001grm.2,uc001gtx.1,uc001gxc.2,uc001hbu.1,uc001hdb.2,uc001hjt.2,uc001hml.2,uc001hov.3,uc001hts.1,uc001hvh.2,uc001hvk.1,uc001hxd.1,uc001hzd.2,uc001ibu.1,uc001ifh.2,uc001iju.2,uc001ill.2,uc001inv.2,uc001ire.2,uc001isi.3,uc001itk.1,uc001jas.2,uc001jkc.3,uc001jkf.2,uc001jof.2,uc001jok.3,uc001jsx.1,uc001jth.2,uc001jzk.2,uc001kai.2,uc001kmv.2,uc001knd.1,uc001kwv.2,uc001kzc.3,uc001lej.1,uc001ljd.3,uc001mhg.2,uc001mhs.2,uc001mhu.2,uc001mil.1,uc001mkz.2,uc001mql.1,uc001msc.2,uc001mty.2,uc001mvt.2,uc001nca.1,uc001ncy.2,uc001noe.3,uc001nsg.2,uc001oyh.3,uc001oyi.1,uc001oyk.2,uc001pas.2,uc001pdg.2,uc001peu.2,uc001pjs.2,uc001pnj.3,uc001ppp.2,uc001pxt.2,uc001pxx.2,uc001qga.2,uc001qhc.1,uc001qhd.1,uc001qmu.2,uc001qol.2,uc001qyq.1,uc001rbi.2,uc001rci.2,uc001ree.2,uc001rez.2,uc001rfq.2,uc001rhk.3,uc001roa.2,uc001rsy.2,uc001sdg.1,uc001sex.2,uc001skm.3,uc001sml.1,uc001smy.2,uc001ssb.2,uc001ssx.2,uc001sut.3,uc001sux.2,uc001svb.1,uc001syx.2,uc001szp.3,uc001tde.2,uc001tkg.2,uc001tlk.2,uc001tpm.2,uc001ttm.2,uc001twz.2,uc001tye.1,uc001tyf.1,uc001tzd.2,uc001ucr.2,uc001ueq.2,uc001uew.2,uc001ufm.2,uc001uje.2,uc001uml.2,uc001uqr.1,uc001uub.1,uc001uuz.2,uc001uwc.2,uc001vbw.1,uc001vje.2,uc001vjq.2,uc001vtn.2,uc001wao.2,uc001wxt.2,uc001wyu.2,uc001xab.2,uc001xjs.2,uc001xkj.1,uc001xlc.2,uc001xqh.2,uc001xqm.1,uc001xux.2,uc001yah.1,uc001ygi.3,uc001ykn.2,uc001ykv.3,uc001yur.3,uc001zii.2,uc001zkc.2,uc001znh.2,uc001zoq.3,uc001zwu.2,uc002abp.2,uc002agg.2,uc002agq.3,uc002anf.2,uc002aof.3,uc002aon.2,uc002azi.3,uc002bcd.2,uc002bct.1,uc002bdy.2,uc002bfu.2,uc002bgq.1,uc002bkq.2,uc002bkz.2,uc002bqe.3,uc002bvv.1,uc002cfi.1,uc002dcz.2,uc002dec.1,uc002dhu.1,uc002dqy.2,uc002dtx.2,uc002eec.3,uc002ell.1,uc002era.2,uc002ewl.2,uc002exa.2,uc002exs.2,uc002fda.2,uc002fgw.2,uc002fku.2,uc002fne.2,uc002fxs.2,uc002hhn.2,uc002hoi.1,uc002huj.1,uc002huq.2,uc002hvj.1,uc002iha.2,uc002ihf.2,uc002ihn.2,uc002ioi.2,uc002iuu.2,uc002ixi.2,uc002jbb.2,uc002jgi.3,uc002jgj.3,uc002jgk.2,uc002jpx.2,uc002jrm.3,uc002jsv.2,uc002jvb.3,uc002kat.3,uc002kga.2,uc002kri.2,uc002ksl.1,uc002kth.1,uc002ktq.2,uc002kui.3,uc002kwl.3,uc002lar.1,uc002lck.2,uc002lfc.3,uc002lfg.1,uc002lgj.1,uc002lic.2,uc002lil.2,uc002lql.2,uc002lut.1,uc002mal.2,uc002mdp.1,uc002nlb.2,uc002nmu.1,uc002nsd.2,uc002nvk.2,uc002ocp.2,uc002oqb.3,uc002qkj.3,uc002qxy.2,uc002qzo.1,uc002qzx.2,uc002rao.1,uc002raq.2,uc002rau.2,uc002rec.2,uc002rek.3,uc002rjw.1,uc002rmm.2,uc002rnv.1,uc002ros.2,uc002rpa.1,uc002rsk.2,uc002rvx.2,uc002ryw.2,uc002sau.3,uc002sbj.2,uc002scj.1,uc002sei.1,uc002sfu.2,uc002sgp.2,uc002sgq.3,uc002skb.3,uc002ski.2,uc002sox.3,uc002srg.3,uc002ssg.1,uc002ste.2,uc002sxn.2,uc002tkx.1,uc002tnl.2,uc002tpf.2,uc002tps.2,uc002tux.1,uc002tyn.2,uc002uad.2,uc002ubu.2,uc002uea.2,uc002uhh.2,uc002uhi.2,uc002uih.2,uc002ujz.3,uc002ukx.2,uc002unq.1,uc002usb.2,uc002uzl.2,uc002vfo.2,uc002voh.3,uc002vvn.2,uc002wim.2,uc002wlp.2,uc002wmh.1,uc002wnw.2,uc002wqi.1,uc002wwp.1,uc002xfp.2,uc002xfq.2,uc002xfs.2,uc002xft.2,uc002xhc.2,uc002xlk.2,uc002xmd.1,uc002xvu.1,uc002xwq.3,uc002xwx.2,uc002xxl.1,uc002xyz.2,uc002xzp.2,uc002yaz.2,uc002ybb.2,uc002ybs.2,uc002yhl.1,uc002yki.2,uc002ykj.1,uc002yko.3,uc002yvr.2,uc002yxo.2,uc002yxp.2,uc002zrv.2,uc002zww.2,uc003afx.3,uc003ajj.2,uc003ato.1,uc003avg.1,uc003azc.2,uc003bgm.1,uc003bhw.1,uc003bix.2,uc003biz.3,uc003brn.3,uc003bxv.1,uc003ckd.3,uc003djh.2,uc003dsx.2,uc003dtz.1,uc003ece.1,uc003eci.2,uc003eck.1,uc003ecn.2,uc003edz.3,uc003eex.2,uc003eez.2,uc003efe.2,uc003emz.3,uc003enj.2,uc003epa.3,uc003etv.2,uc003euy.1,uc003evo.2,uc003fan.3,uc003fdn.2,uc003fez.2,uc003fft.2,uc003fhd.2,uc003fjs.2,uc003fjw.2,uc003fkl.2,uc003fkx.2,uc003flb.2,uc003flk.2,uc003fqt.2,uc003fun.3,uc003fwy.3,uc003fwz.3,uc003fxn.3,uc003gbe.2,uc003gdi.1,uc003gdv.2,uc003gmq.2,uc003grf.2,uc003hkr.2,uc003hsk.2,uc003huf.3,uc003hvn.1,uc003idl.2,uc003ihu.1,uc003imj.2,uc003inh.2,uc003inv.1,uc003ish.2,uc003isz.3,uc003izf.2,uc003jdm.3,uc003jdw.2,uc003jeo.2,uc003jff.2,uc003jfv.2,uc003jhj.3,uc003jja.2,uc003jkn.2,uc003jnl.1,uc003jpq.2,uc003juf.2,uc003kbw.3,uc003keo.2,uc003knb.2,uc003kog.1,uc003lay.2,uc003lbp.2,uc003lsy.1,uc003mcq.2,uc003mda.2,uc003mdh.2,uc003mtq.2,uc003mxr.2,uc003mxt.1,uc003nbj.2,uc003nrc.2,uc003nxg.2,uc003oes.2,uc003ojw.1,uc003oko.1,uc003ols.2,uc003onq.3,uc003ork.2,uc003oup.2,uc003oux.2,uc003owk.2,uc003pax.2,uc003pbi.2,uc003pbw.1,uc003pky.2,uc003pla.2,uc003pmz.2,uc003ppj.3,uc003pqk.2,uc003pwi.1,uc003pwm.2,uc003pxt.1,uc003pyo.1,uc003qez.2,uc003qjj.2,uc003qjs.2,uc003qxm.2,uc003smb.2,uc003sxq.2,uc003sxr.3,uc003sxt.2,uc003syt.2,uc003tba.2,uc003ttb.2,uc003twj.2,uc003udk.3,uc003uis.3,uc003uit.2,uc003ung.1,uc003uoi.2,uc003uqe.2,uc003usu.2,uc003veh.2,uc003vjg.2,uc003vjj.1,uc003vli.2,uc003vsx.2,uc003wfp.2,uc003wfv.2,uc003wld.2,uc003wza.2,uc003xau.1,uc003xdh.1,uc003xih.1,uc003xkw.2,uc003xky.1,uc003xnt.2,uc003xnx.2,uc003yav.2,uc003ycl.2,uc003yeu.3,uc003ygw.2,uc003yhc.2,uc003yii.1,uc003yjy.2,uc003yln.2,uc003you.2,uc003yqh.3,uc003yvn.2,uc003ztt.2,uc003zwi.2,uc004aao.2,uc004ajo.3,uc004aqh.2,uc004aru.3,uc004aso.1,uc004awf.2,uc004bcn.2,uc004bcu.1,uc004bpn.2,uc004bvu.3,uc004cnk.1,uc004dgt.2,uc004dlq.2,uc004dtg.2,uc004eaq.1,uc004eer.2,uc004egh.2,uc004ehj.1,uc004eki.2,uc004ekj.1,uc004err.2,uc004esn.1,uc004euz.2,uc004evm.2,uc004fep.2,uc004feq.2,uc004feu.2,uc004fib.3,uc004fnc.2,uc009wbt.1,uc009wna.1,uc009wtt.2,uc009xgg.1,uc010bbt.1,uc010bfn.2,uc010bgk.2,uc010blj.1,uc010cla.1,uc010dan.2,uc010dey.2,uc010dli.2,uc010dmy.2,uc010edf.2,uc010eqn.2,uc010exz.1,uc010fph.1,uc010fyv.2,uc010gcm.1,uc010gmw.1,uc010iia.1,uc010ild.2,uc010khz.1,uc010kjv.2,uc010lxh.1,uc010mdl.2,uc010mdq.2,uc010nez.2,uc010njt.2,uc010osj.1,uc010ous.1,uc010pdk.1,uc010pou.1,uc010qig.1,uc010sfi.1,uc010ubz.1,uc010ufl.1,uc010uin.1,uc010ujk.1,uc010vyd.1,uc010wcy.1,uc010wit.1,uc010wks.1,uc010wyu.1,uc010xnq.1,uc010yqa.1,uc010zgf.1,uc010znf.1,uc010zpy.1,uc011bsb.1,uc011bto.1,uc011btx.1,uc011bvj.1,uc011byb.1,uc011cea.1,uc011chb.1,uc011ckc.1,uc011col.1,uc011dhk.1,uc011drm.1,uc011dsp.1,uc011jwp.1 | L7: 7.79e-38 | M7: 2.27e-29 | N7: 7.25e-65 | O7: 7.73e-64 | P7: 4.64e-63
A8: MIMAT0000420 | B8: hsa-miR-30b-5p | C8: -1.7155562 | D8: =IF(COUNTIF('TDP-43 miRNAs'!A$2:A$86,A8)>0,"yes","") | E8: =IF(COUNTIF('LUSC TDP-43 Correlations'!$A$2:$A$1038,$A8)>0,LOOKUP($A8,'LUSC TDP-43 Correlations'!$A$2:$A$1038,'LUSC TDP-43 Correlations'!C$2:C$1038),"n/a") -> 0.036341057 | F8: =IF(COUNTIF('LUSC TDP-43 Correlations'!$A$2:$A$1038,$A8)>0,LOOKUP($A8,'LUSC TDP-43 Correlations'!$A$2:$A$1038,'LUSC TDP-43 Correlations'!E$2:E$1038),"n/a") -> 0.0013794737 | G8: 0.64085521 | H8: 2101 | I8: 737 | J8: 4.45 | K8: uc001aca.1,uc001alf.2,uc001aoh.2,uc001apw.2,uc001bbd.2,uc001bff.2,uc001bji.2,uc001bkw.1,uc001bub.2,uc001bvd.2,uc001bys.2,uc001bzp.2,uc001cer.1,uc001chl.2,uc001chs.2,uc001cor.1,uc001cpa.2,uc001cti.2,uc001cwj.1,uc001dbe.1,uc001dlr.3,uc001dnq.2,uc001dot.2,uc001dpu.2,uc001efv.1,uc001egv.1,uc001epq.2,uc001esr.2,uc001ewp.2,uc001ewy.2,uc001fcq.2,uc001fjz.1,uc001fna.2,uc001fxo.2,uc001gdj.3,uc001gfg.2,uc001gic.1,uc001goi.2,uc001gpr.2,uc001gqt.3,uc001gqu.3,uc001grm.2,uc001gtx.1,uc001gxc.2,uc001gyf.2,uc001gyv.1,uc001hbu.1,uc001hdb.2,uc001hdr.3,uc001hhq.1,uc001hie.2,uc001hiv.2,uc001hjt.2,uc001hlg.3,uc001hul.2,uc001hur.2,uc001hvj.1,uc001hvs.1,uc001hwl.2,uc001hxc.2,uc001iaj.2,uc001ibn.2,uc001iew.1,uc001ifh.2,uc001ind.2,uc001ire.2,uc001isv.2,uc001iva.3,uc001jaj.2,uc001jkc.3,uc001jkf.2,uc001jok.3,uc001jsx.1,uc001jth.2,uc001jzk.2,uc001kfj.3,uc001khx.1,uc001kic.2,uc001kjj.2,uc001kmv.2,uc001knh.2,uc001kni.2,uc001krq.3,uc001kwt.2,uc001kzc.3,uc001lhe.2,uc001lhp.2,uc001mkz.2,uc001mok.3,uc001mri.1,uc001msw.1,uc001mwu.3,uc001mxj.2,uc001noe.3,uc001nvb.2,uc001ojk.1,uc001okf.1,uc001opn.1,uc001oun.1,uc001ouw.2,uc001ovb.1,uc001oyk.2,uc001ozi.2,uc001pbp.2,uc001pbq.2,uc001pcj.1,uc001pdg.2,uc001per.2,uc001pfn.2,uc001pfu.2,uc001pfy.2,uc001pha.2,uc001phm.2,uc001pjc.1,uc001qdi.2,uc001qlh.2,uc001qpq.1,uc001qyt.2,uc001qzm.2,uc001rdc.3,uc001rde.2,uc001rea.2,uc001rez.2,uc001rfq.2,uc001rgq.1,uc001rlm.2,uc001rmz.2,uc001rnc.2,uc001roa.2,uc001rpr.2,uc001rwv.2,uc001ryw.2,uc001sml.1,uc001soj.1,uc001sqg.2,uc001stn.2,uc001sut.3,uc001sux.2,uc001svv.2,uc001svw.1,uc001syx.2,uc001tau.2,uc001tdl.2,uc001tic.2,uc001tkg.2,uc001tlk.2,uc001tmz.1,uc001tpn.2,uc001tqk.3,uc001ttm.2,uc001twz.2,uc001tyg.2,uc001tyi.2,uc001ual.1,uc001ubi.2,uc001uel.2,uc001ufg.2,uc001ufm.2,uc001uii.2,uc001uqr.1,uc001urq.2,uc001uuz.2,uc001uxn.2,uc001uxu.1,uc001uzp.2,uc001vfp.2,uc001viu.2,uc001vje.2,uc001vtw.2,uc001vtx.2,uc001whc.2,uc001wuw.3,uc001xcx.3,uc001xfb.3,uc001xfc.2,uc001xff.3,uc001xhb.2,uc001xkj.1,uc001xmf.2,uc001xqm.1,uc001yah.1,uc001yfo.2,uc001ygi.3,uc001ygy.1,uc001yqb.2,uc001yqx.2,uc001yur.3,uc001zhj.2,uc001zho.2,uc001zii.2,uc001ziw.2,uc001znm.3,uc001zof.1,uc001zve.2,uc001zvh.2,uc002abp.2,uc002amu.1,uc002anf.2,uc002ank.2,uc002apr.2,uc002aqs.2,uc002arl.2,uc002aym.2,uc002azd.1,uc002bcd.2,uc002bfw.1,uc002bfy.1,uc002bgq.1,uc002bjs.1,uc002bmi.1,uc002boz.2,uc002cnc.1,uc002cod.2,uc002crd.2,uc002dbt.2,uc002dcz.2,uc002dhu.1,uc002dpd.2,uc002dxu.2,uc002eek.1,uc002eod.1,uc002era.2,uc002fcq.2,uc002fdl.1,uc002fgo.2,uc002fgw.2,uc002fkm.2,uc002frp.2,uc002fto.2,uc002fwp.2,uc002fxs.2,uc002gbw.2,uc002gce.2,uc002grm.2,uc002gup.1,uc002haz.2,uc002hfs.1,uc002hfu.2,uc002hoi.1,uc002hvj.1,uc002hyo.2,uc002ibr.2,uc002iha.2,uc002ihc.2,uc002ils.1,uc002ilt.1,uc002ioj.2,uc002iuc.2,uc002iva.2,uc002ixi.2,uc002ixy.2,uc002jij.2,uc002jiw.2,uc002jne.2,uc002jpb.1,uc002jxc.2,uc002jzu.1,uc002kfq.2,uc002kga.2,uc002kkf.1,uc002kri.2,uc002krr.2,uc002kth.1,uc002ktj.1,uc002ktq.2,uc002kui.3,uc002kwu.3,uc002kzb.2,uc002lda.2,uc002lfc.3,uc002lfg.1,uc002lgj.1,uc002lgw.2,uc002lis.2,uc002lql.2,uc002lul.3,uc002lwf.3,uc002mkb.1,uc002mvw.1,uc002mxe.2,uc002ndo.3,uc002nia.1,uc002njp.2,uc002ntm.2,uc002nvj.2,uc002oep.3,uc002pbn.2,uc002pgc.2,uc002pgd.2,uc002ppa.2,uc002qdi.2,uc002qpk.2,uc002qql.2,uc002qxt.2,uc002qxy.2,uc002qzx.2,uc002rah.2,uc002rek.3,uc002ren.2,uc002rgv.2,uc002rkp.2,uc002rlk.3,uc002rmo.2,uc002rnl.2,uc002roc.2,uc002rpa.1,uc002rqq.2,uc002rsq.2,uc002rwf.2,uc002rxk.1,uc002rzf.2,uc002sai.2,uc002sau.3,uc002sav.3,uc002sbf.2,uc002sbj.2,uc002sdz.1,uc002sei.1,uc002sgq.3,uc002sjp.2,uc002sjq.3,uc002sjs.2,uc002sjx.2,uc002skb.3,uc002sox.3,uc002srg.3,uc002ssg.1,uc002ssh.2,uc002ste.2,uc002svn.2,uc002swo.2,uc002tdi.2,uc002tfb.2,uc002tgv.1,uc002thi.2,uc002thp.2,uc002tjt.2,uc002tkx.1,uc002tmj.1,uc002tur.2,uc002txg.2,uc002tyh.3,uc002tyn.2,uc002ubf.2,uc002uea.2,uc002ueb.1,uc002uev.3,uc002ufk.2,uc002ufn.2,uc002uhh.2,uc002uhi.2,uc002ukb.1,uc002ulh.3,uc002unq.1,uc002upo.2,uc002uqk.2,uc002usk.2,uc002utt.3,uc002uui.2,uc002uuq.2,uc002uwr.2,uc002uyq.2,uc002vcu.2,uc002vlj.2,uc002voh.3,uc002vqd.1,uc002vsb.3,uc002vsg.1,uc002wdh.2,uc002wfw.3,uc002wim.2,uc002wky.2,uc002wlp.2,uc002wnp.2,uc002wnw.2,uc002woj.2,uc002wqh.2,uc002wqi.1,uc002wqj.2,uc002wrs.2,uc002wuy.2,uc002wvc.2,uc002wxn.2,uc002wyh.2,uc002xfp.2,uc002xfq.2,uc002xfs.2,uc002xhc.2,uc002xkc.2,uc002xrq.2,uc002xuh.2,uc002xvy.1,uc002xwx.2,uc002xxc.2,uc002yac.1,uc002yaz.2,uc002ybs.2,uc002ydy.2,uc002yko.3,uc002zdk.2,uc002znm.2,uc002zrv.2,uc002zur.3,uc002zwc.1,uc002zys.1,uc003aco.1,uc003adk.2,uc003afh.2,uc003alp.3,uc003amm.2,uc003ato.1,uc003atp.2,uc003bcj.1,uc003bck.1,uc003bdq.2,uc003bix.2,uc003dsx.2,uc003duz.2,uc003dvj.2,uc003dwc.2,uc003dyb.2,uc003eci.2,uc003ecm.2,uc003ecn.2,uc003edr.2,uc003edz.3,uc003ege.2,uc003eks.1,uc003emz.3,uc003enj.2,uc003eps.2,uc003etv.2,uc003euc.2,uc003eud.2,uc003eue.2,uc003euy.1,uc003evm.2,uc003evo.2,uc003ewt.1,uc003ewu.1,uc003ext.1,uc003exu.1,uc003ezr.2,uc003ezy.3,uc003fao.1,uc003fce.2,uc003fdn.2,uc003fdr.2,uc003feb.1,uc003fez.2,uc003ffa.3,uc003fgs.2,uc003fhd.2,uc003fjw.2,uc003fkm.2,uc003fkr.2,uc003fkt.2,uc003fkx.2,uc003flb.2,uc003flk.2,uc003fmg.2,uc003fnj.1,uc003fpv.2,uc003fqg.2,uc003fqi.2,uc003fun.3,uc003fup.2,uc003fwm.3,uc003fwx.3,uc003fwz.3,uc003fyi.2,uc003fyk.2,uc003gbe.2,uc003gmn.2,uc003gms.2,uc003gqm.1,uc003guk.1,uc003hag.3,uc003hbr.2,uc003hje.3,uc003hkr.2,uc003hmm.1,uc003hwt.3,uc003ify.2,uc003igr.2,uc003ihu.1,uc003ink.1,uc003inv.1,uc003iqa.2,uc003iqc.2,uc003isz.3,uc003itc.2,uc003ivd.1,uc003iwa.1,uc003iwi.2,uc003jdu.2,uc003jeq.2,uc003jet.1,uc003jhs.2,uc003jjd.2,uc003jkn.2,uc003jlm.1,uc003jme.1,uc003job.2,uc003juf.2,uc003kcp.2,uc003kuu.2,uc003kwn.2,uc003lwf.1,uc003mda.2,uc003mec.1,uc003mek.1,uc003mvl.1,uc003mwl.2,uc003mxn.2,uc003mxp.1,uc003mxr.2,uc003mzp.3,uc003nbj.2,uc003nda.2,uc003ndi.2,uc003nil.3,uc003nxk.2,uc003ork.2,uc003oua.2,uc003oux.2,uc003ouy.1,uc003ovp.2,uc003owk.2,uc003oxl.2,uc003ozh.1,uc003pbi.2,uc003pbw.1,uc003pbx.2,uc003pdc.3,uc003pfm.1,uc003pjv.2,uc003pky.2,uc003pla.2,uc003plm.3,uc003pmz.2,uc003pnz.1,uc003pow.2,uc003pqk.2,uc003prd.2,uc003prs.2,uc003pvy.3,uc003pwi.1,uc003pxt.1,uc003pzu.1,uc003qel.2,uc003qez.2,uc003qfa.2,uc003qil.2,uc003qng.2,uc003qnt.2,uc003qob.2,uc003qrf.2,uc003qrg.2,uc003qrm.3,uc003qsw.3,uc003qwt.2,uc003sis.2,uc003stn.1,uc003sup.1,uc003svu.2,uc003sxr.3,uc003sxt.2,uc003tcv.1,uc003tdk.2,uc003thy.2,uc003tlw.2,uc003tqg.2,uc003ttb.2,uc003tyc.2,uc003tyt.2,uc003uap.2,uc003ubm.3,uc003udk.3,uc003uit.2,uc003ujx.2,uc003ukm.1,uc003ung.1,uc003uqe.2,uc003uso.2,uc003uwg.1,uc003vet.2,uc003vjj.1,uc003vnq.2,uc003vop.1,uc003vsy.2,uc003wme.2,uc003wnk.2,uc003wwu.2,uc003xgg.2,uc003xig.2,uc003xky.1,uc003xlf.3,uc003xqm.2,uc003xqp.2,uc003xun.2,uc003ydc.1,uc003yeu.3,uc003ygk.2,uc003ygy.2,uc003yhc.2,uc003yii.1,uc003ykb.2,uc003ykr.1,uc003yky.2,uc003ylk.2,uc003ymg.1,uc003yok.1,uc003you.2,uc003yov.2,uc003ypc.1,uc003yqc.1,uc003yqh.3,uc003yqv.2,uc003yrk.2,uc003yvn.2,uc003zgd.2,uc003zin.2,uc003znk.2,uc003zvb.2,uc003zvy.2,uc004aay.2,uc004aex.2,uc004ajo.3,uc004ala.2,uc004arn.1,uc004atx.2,uc004awf.2,uc004aya.2,uc004bas.2,uc004bbm.2,uc004bhn.2,uc004bpn.2,uc004bqa.2,uc004bsx.1,uc004bvu.3,uc004bws.1,uc004bxc.2,uc004bzq.1,uc004cdm.2,uc004cgt.2,uc004cld.2,uc004cqi.1,uc004cqk.1,uc004crg.3,uc004dex.3,uc004dgc.2,uc004dvo.2,uc004ecu.1,uc004ecy.1,uc004ega.1,uc004ehj.1,uc004elw.2,uc004emm.2,uc004enp.1,uc004ezx.2,uc004fae.1,uc009whp.2,uc009wjj.1,uc009xvo.2,uc009ywl.1,uc009znj.1,uc010avs.2,uc010bfn.2,uc010bgk.2,uc010bkb.1,uc010cla.1,uc010ddc.2,uc010dli.2,uc010dnb.1,uc010fph.1,uc010fqm.1,uc010gmw.1,uc010gti.1,uc010hre.1,uc010iai.2,uc010igz.1,uc010jno.2,uc010jpm.1,uc010kbj.2,uc010khz.1,uc010kkb.2,uc010kyl.2,uc010lqs.2,uc010mbr.2,uc010mbu.2,uc010mdq.2,uc010mly.1,uc010myg.2,uc010myt.1,uc010nbi.2,uc010ncb.2,uc010nhy.1,uc010nxx.1,uc010oef.1,uc010osj.1,uc010ous.1,uc010oxe.1,uc010pnq.1,uc010pwa.1,uc010qfe.1,uc010qha.1,uc010qwl.1,uc010rhn.1,uc010rho.1,uc010rwf.1,uc010sfh.1,uc010tqf.1,uc010ubz.1,uc010ujk.1,uc010vvv.1,uc010vyd.1,uc010wyu.1,uc010xbj.1,uc010xil.1,uc010xpl.1,uc010ydl.1,uc010ytj.1,uc010zpu.1,uc010zqs.1,uc011bds.1,uc011blr.1,uc011bsb.1,uc011btw.1,uc011btx.1,uc011byb.1,uc011col.1,uc011edt.1,uc011jwp.1,uc011lgj.1,uc011lhz.1,uc011mwf.1 | L8: 2.94e-36 | M8: 1.15e-38 | N8: 8.07e-73 | O8: 1.29e-71 | P8: 5.17e-71
A9: MIMAT0009451 | B9: hsa-miR-1976 | C9: -1.3149487 | D9: =IF(COUNTIF('TDP-43 miRNAs'!A$2:A$86,A9)>0,"yes","") | E9: =IF(COUNTIF('LUSC TDP-43 Correlations'!$A$2:$A$1038,$A9)>0,LOOKUP($A9,'LUSC TDP-43 Correlations'!$A$2:$A$1038,'LUSC TDP-43 Correlations'!C$2:C$1038),"n/a") -> 0.061877967 | F9: =IF(COUNTIF('LUSC TDP-43 Correlations'!$A$2:$A$1038,$A9)>0,LOOKUP($A9,'LUSC TDP-43 Correlations'!$A$2:$A$1038,'LUSC TDP-43 Correlations'!E$2:E$1038),"n/a") -> 1.5936878e-05 | G9: 0.74241859 | H9: 1216 | I9: 457 | J9: 2.76 | K9: uc001adk.2,uc001arj.2,uc001art.2,uc001axe.1,uc001bbs.2,uc001bch.1,uc001bdo.1,uc001bkx.2,uc001bpr.2,uc001bvy.1,uc001byl.1,uc001bys.2,uc001ckz.2,uc001cxy.2,uc001dak.1,uc001dot.2,uc001dqg.1,uc001ent.1,uc001ewq.2,uc001fff.1,uc001fft.2,uc001ffw.2,uc001fhd.2,uc001fhj.3,uc001flb.2,uc001fle.1,uc001fmh.1,uc001fmj.1,uc001fpl.2,uc001fps.1,uc001hal.2,uc001hiw.1,uc001htc.2,uc001huv.2,uc001hvk.1,uc001iar.2,uc001ild.3,uc001iln.2,uc001jkf.2,uc001jsx.1,uc001kkz.2,uc001knh.2,uc001ksm.2,uc001mhg.2,uc001mqb.2,uc001mtx.2,uc001mvk.2,uc001mvl.1,uc001ndn.3,uc001nqf.2,uc001nrz.1,uc001ntw.2,uc001nuw.2,uc001nyi.1,uc001oab.1,uc001ogl.2,uc001ohz.3,uc001oql.2,uc001owr.2,uc001oye.2,uc001pjs.2,uc001plx.1,uc001pmx.2,uc001psp.1,uc001pux.3,uc001pxx.2,uc001qoo.2,uc001rsq.3,uc001scb.3,uc001sdv.2,uc001sfl.2,uc001shq.2,uc001sjm.2,uc001ski.2,uc001slf.2,uc001ssx.2,uc001svl.1,uc001svw.1,uc001tpm.2,uc001tru.2,uc001tuf.2,uc001tuq.3,uc001twq.2,uc001twz.2,uc001tyf.1,uc001tzd.2,uc001ucr.2,uc001uew.2,uc001ufi.2,uc001ujy.3,uc001ull.1,uc001uwc.2,uc001viu.2,uc001vvk.1,uc001waq.1,uc001wwa.1,uc001wyw.3,uc001xft.2,uc001xim.3,uc001xqh.2,uc001ykv.3,uc001yoe.2,uc001ypq.3,uc001zhj.2,uc001ziw.2,uc001zlk.1,uc001zlw.2,uc001znm.3,uc001zod.2,uc001zof.1,uc001zql.2,uc001ztf.2,uc001ztg.1,uc002abp.2,uc002ank.2,uc002aol.2,uc002avx.2,uc002aya.2,uc002azj.1,uc002azy.2,uc002bbu.1,uc002bdy.2,uc002bol.2,uc002box.2,uc002bxi.2,uc002cnc.1,uc002cod.2,uc002cow.2,uc002cvq.1,uc002dbp.1,uc002dfk.1,uc002dly.1,uc002dru.2,uc002dtx.2,uc002dug.3,uc002dwk.1,uc002dyf.2,uc002dyk.3,uc002dzd.3,uc002emc.2,uc002ern.1,uc002etq.3,uc002ewg.1,uc002ewl.2,uc002exa.2,uc002fcq.2,uc002fib.2,uc002fja.2,uc002fjd.2,uc002flu.2,uc002ghp.1,uc002hnx.2,uc002hsq.2,uc002htn.1,uc002hxt.2,uc002hyk.1,uc002iaw.2,uc002icn.2,uc002idu.1,uc002ihf.2,uc002ils.1,uc002iox.1,uc002iqq.2,uc002ivj.2,uc002iwj.2,uc002izv.2,uc002jnl.2,uc002jpb.1,uc002jqp.1,uc002kgg.1,uc002kmi.2,uc002kwu.3,uc002lar.1,uc002lfg.1,uc002lrl.1,uc002mao.2,uc002mir.2,uc002mxe.2,uc002mxq.1,uc002mxt.2,uc002new.2,uc002nfn.2,uc002nlb.2,uc002oii.3,uc002okh.2,uc002ola.2,uc002olt.1,uc002onf.2,uc002osz.1,uc002oxc.1,uc002pat.2,uc002pbb.1,uc002pbj.2,uc002pbp.2,uc002plp.2,uc002poz.1,uc002pqc.1,uc002pyr.1,uc002qwf.2,uc002qzg.1,uc002rcn.2,uc002ren.2,uc002rgv.2,uc002rjd.2,uc002rnv.1,uc002ron.2,uc002rpa.1,uc002rsk.2,uc002rzf.2,uc002sav.3,uc002sbt.2,uc002sde.1,uc002see.1,uc002sjp.2,uc002sqc.2,uc002sqd.2,uc002svv.1,uc002svw.1,uc002szv.2,uc002tab.2,uc002tcb.2,uc002txg.2,uc002tyh.3,uc002uwc.2,uc002uyw.1,uc002vcu.2,uc002vgj.3,uc002vqz.2,uc002wax.2,uc002wed.3,uc002wfc.2,uc002wnp.2,uc002woj.2,uc002wrs.2,uc002wxd.2,uc002wxp.2,uc002xbv.1,uc002xft.2,uc002xjd.2,uc002xrq.2,uc002xto.2,uc002xzu.3,uc002yce.3,uc002ycm.1,uc002ydq.2,uc002yeo.1,uc002yvb.1,uc002yzn.1,uc002yzo.2,uc002zww.2,uc002zxx.2,uc002zyl.1,uc003aco.1,uc003adj.2,uc003aea.2,uc003afx.3,uc003aje.1,uc003aqy.1,uc003atp.2,uc003aty.2,uc003avq.1,uc003awe.2,uc003bdb.2,uc003bdk.2,uc003bei.1,uc003bfi.2,uc003bga.3,uc003bgm.1,uc003bhn.2,uc003biz.3,uc003blw.3,uc003bxv.1,uc003com.2,uc003dcu.2,uc003eci.2,uc003edt.2,uc003ege.2,uc003eks.1,uc003elp.1,uc003exk.2,uc003fao.1,uc003fdr.2,uc003fhc.3,uc003fkr.2,uc003flk.2,uc003flx.2,uc003fpj.2,uc003fpn.2,uc003fqi.2,uc003fui.2,uc003fum.3,uc003fwm.3,uc003fwx.3,uc003ggl.2,uc003gww.3,uc003gzt.2,uc003hki.2,uc003jiz.2,uc003kbt.3,uc003kbw.3,uc003kyj.2,uc003liw.1,uc003lzz.1,uc003mco.1,uc003mdb.1,uc003mes.3,uc003miu.2,uc003ncl.1,uc003ojt.1,uc003omu.2,uc003ori.2,uc003osa.3,uc003ost.2,uc003pow.2,uc003pyo.1,uc003qem.1,uc003qez.2,uc003qjj.2,uc003qng.2,uc003qnp.2,uc003qrf.2,uc003qrg.2,uc003swa.2,uc003thz.1,uc003tjd.2,uc003tte.2,uc003tyc.2,uc003uac.1,uc003uaj.2,uc003ufa.2,uc003ukm.1,uc003upj.2,uc003uqe.2,uc003ura.2,uc003usj.2,uc003uug.1,uc003uxv.3,uc003vet.2,uc003vnf.2,uc003vop.1,uc003wfr.3,uc003wfu.2,uc003xdl.2,uc003xks.2,uc003xky.1,uc003xqi.2,uc003xqm.2,uc003xqp.2,uc003yca.1,uc003yky.2,uc003yrk.2,uc003yxw.2,uc003yyy.2,uc003zaz.3,uc003zcm.1,uc003zcx.2,uc003zee.1,uc003zeu.2,uc003zfc.3,uc003zwc.1,uc003zxm.1,uc004auo.2,uc004avh.2,uc004bax.2,uc004bfj.3,uc004bph.1,uc004bpn.2,uc004btq.1,uc004buq.1,uc004but.2,uc004byd.1,uc004byq.1,uc004bzu.2,uc004chl.2,uc004chn.1,uc004crb.3,uc004czg.3,uc004dex.3,uc004dkd.1,uc004emm.2,uc004exl.3,uc004fep.2,uc004feq.2,uc004fjp.2,uc009vsy.2,uc009vuc.2,uc009vxv.2,uc009vxw.2,uc009xvo.2,uc009xwi.2,uc009yfe.1,uc009znj.1,uc009zoo.2,uc010cla.1,uc010cwu.1,uc010cxb.2,uc010ddc.2,uc010dhj.2,uc010efx.1,uc010egr.2,uc010feb.1,uc010fqi.2,uc010frb.2,uc010gbn.1,uc010ghi.2,uc010git.1,uc010gmw.1,uc010gty.2,uc010gxi.2,uc010gyb.1,uc010ita.2,uc010jta.1,uc010jza.1,uc010kxw.2,uc010kyk.1,uc010kzl.2,uc010lam.1,uc010ldj.1,uc010lqi.2,uc010mbr.2,uc010mnd.1,uc010mzz.2,uc010pcs.1,uc010pgp.1,uc010qat.1,uc010qfe.1,uc010qha.1,uc010qln.1,uc010qwl.1,uc010rhn.1,uc010rho.1,uc010rpd.1,uc010rzt.1,uc010seh.1,uc010sfu.1,uc010sgs.1,uc010ssd.1,uc010tak.1,uc010uwt.1,uc010vsy.1,uc010vyd.1,uc010wrz.1,uc010xxr.1,uc010ysr.1,uc010zkm.1,uc010znu.1,uc011arb.1,uc011btw.1,uc011bvs.1,uc011cna.1,uc011dio.1,uc011eej.1,uc011kyw.1,uc011lkf.1,uc011lla.1,uc011llg.1,uc011men.1 | L9: 1.36e-32 | M9: 1.5e-31 | N9: 4.32e-62 | O9: 3.95e-61 | P9: 2.76e-60
A10: MIMAT0004601 | B10: hsa-miR-145-3p | C10: -1.5457001 | D10: =IF(COUNTIF('TDP-43 miRNAs'!A$2:A$86,A10)>0,"yes","") | E10: =IF(COUNTIF('LUSC TDP-43 Correlations'!$A$2:$A$1038,$A10)>0,LOOKUP($A10,'LUSC TDP-43 Correlations'!$A$2:$A$1038,'LUSC TDP-43 Correlations'!C$2:C$1038),"n/a") -> 0.15054076 | F10: =IF(COUNTIF('LUSC TDP-43 Correlations'!$A$2:$A$1038,$A10)>0,LOOKUP($A10,'LUSC TDP-43 Correlations'!$A$2:$A$1038,'LUSC TDP-43 Correlations'!E$2:E$1038),"n/a") -> 1.0627396e-12 | G10: 0.6201125 | H10: 1076 | I10: 375 | J10: 2.26 | K10: uc001afh.2,uc001amg.2,uc001bpr.2,uc001bub.2,uc001bvd.2,uc001bxb.2,uc001cti.2,uc001cui.1,uc001dmi.2,uc001dpu.2,uc001dxn.2,uc001ecy.2,uc001egv.1,uc001etw.2,uc001exq.2,uc001fhp.1,uc001gdj.3,uc001ghz.2,uc001gic.1,uc001gjh.1,uc001gqg.2,uc001gqt.3,uc001gqu.3,uc001grl.2,uc001hdb.2,uc001hdr.3,uc001hie.2,uc001hnj.2,uc001huv.2,uc001hxc.2,uc001iba.1,uc001jaj.2,uc001jkc.3,uc001jld.2,uc001joo.2,uc001kkz.2,uc001knd.1,uc001lej.1,uc001lhe.2,uc001lyw.3,uc001mlk.2,uc001mqb.2,uc001mql.1,uc001msw.1,uc001mvl.1,uc001mwu.3,uc001nca.1,uc001nqa.2,uc001nsl.1,uc001nua.2,uc001odo.3,uc001ogj.1,uc001okp.1,uc001opm.2,uc001oye.2,uc001oyh.3,uc001oyi.1,uc001oyu.1,uc001pas.2,uc001pex.2,uc001pfn.2,uc001pjs.2,uc001qie.1,uc001qlh.2,uc001qmu.2,uc001qol.2,uc001qys.2,uc001rea.2,uc001ree.2,uc001rgq.1,uc001rpc.2,uc001rsy.2,uc001rwv.2,uc001scb.3,uc001sks.1,uc001sqg.2,uc001sqi.2,uc001ssx.2,uc001sut.3,uc001sxt.2,uc001syx.2,uc001szp.3,uc001tlk.2,uc001tpm.2,uc001tru.2,uc001ual.1,uc001uel.2,uc001uew.2,uc001ufg.2,uc001ufo.1,uc001uru.2,uc001uuz.2,uc001uzw.2,uc001vfp.2,uc001viu.2,uc001vvl.3,uc001whc.2,uc001xab.2,uc001xcx.3,uc001xds.2,uc001xfc.2,uc001xfq.2,uc001xim.3,uc001xkj.1,uc001xqh.2,uc001zev.2,uc001zll.2,uc001znp.2,uc001zsu.2,uc002abp.2,uc002aga.2,uc002aof.3,uc002aol.2,uc002bak.3,uc002bfu.2,uc002bgq.1,uc002bnc.2,uc002bqe.3,uc002cwk.2,uc002cyo.2,uc002dbp.1,uc002dfl.1,uc002dpd.2,uc002dug.3,uc002dyq.2,uc002ewl.2,uc002ewr.2,uc002eyn.1,uc002fgw.2,uc002gce.2,uc002ghp.1,uc002gup.1,uc002hfp.2,uc002hju.2,uc002hvj.1,uc002hyu.2,uc002iaw.2,uc002ibr.2,uc002iha.2,uc002iuu.2,uc002jbd.2,uc002kfq.2,uc002kmi.2,uc002ktq.2,uc002kwl.3,uc002kzb.2,uc002lck.2,uc002lfc.3,uc002lfg.1,uc002liz.3,uc002ltc.2,uc002lts.1,uc002mpm.2,uc002nar.2,uc002nia.1,uc002nsf.2,uc002nuv.2,uc002nva.3,uc002nvh.1,uc002ohr.1,uc002ola.2,uc002olb.2,uc002osz.1,uc002pgc.2,uc002pgd.2,uc002qlq.2,uc002qxt.2,uc002qzg.1,uc002qzx.2,uc002rah.2,uc002rau.2,uc002rce.2,uc002rec.2,uc002rmu.2,uc002sjs.2,uc002skc.1,uc002skd.1,uc002snd.2,uc002srg.3,uc002svu.2,uc002taw.3,uc002tfb.2,uc002tjt.2,uc002tkx.1,uc002tur.2,uc002txg.2,uc002uad.2,uc002unq.1,uc002utt.3,uc002uzb.2,uc002vsb.3,uc002wdh.2,uc002wea.2,uc002wqj.2,uc002wuy.2,uc002wuz.2,uc002xaw.2,uc002xkc.2,uc002xmx.2,uc002xto.2,uc002xty.2,uc002xwq.3,uc002ybs.2,uc002yxo.2,uc002zou.2,uc002ztf.2,uc002zur.3,uc003adk.2,uc003ajc.2,uc003alp.3,uc003biz.3,uc003brn.3,uc003bxl.2,uc003dcu.2,uc003dsx.2,uc003dvj.2,uc003ece.1,uc003ecm.2,uc003els.2,uc003eqv.1,uc003eti.2,uc003eue.2,uc003ezq.2,uc003fdh.2,uc003ffa.3,uc003fhc.3,uc003fix.3,uc003flb.2,uc003fly.2,uc003flz.2,uc003fqt.2,uc003fsh.2,uc003fwm.3,uc003fyk.2,uc003gbe.2,uc003gmn.2,uc003gpn.2,uc003gqm.1,uc003gww.3,uc003hjl.3,uc003hkr.2,uc003huj.2,uc003hzz.2,uc003ick.2,uc003imv.2,uc003imw.1,uc003inh.2,uc003iqa.2,uc003iwi.2,uc003jat.1,uc003jdx.1,uc003jeb.2,uc003jes.2,uc003jet.1,uc003jhg.2,uc003jkf.3,uc003jkn.2,uc003jmn.2,uc003jmo.2,uc003jnl.1,uc003jvp.2,uc003kbt.3,uc003ldf.2,uc003lzz.1,uc003mdh.2,uc003miu.2,uc003mtz.2,uc003mva.2,uc003mxr.2,uc003ncn.1,uc003ncr.1,uc003nen.2,uc003nks.1,uc003nve.2,uc003nvr.1,uc003nxg.2,uc003oes.2,uc003osa.3,uc003oua.2,uc003pdg.2,uc003pfm.1,uc003qez.2,uc003qil.2,uc003qsr.2,uc003sox.1,uc003sup.1,uc003swa.2,uc003tat.2,uc003tba.2,uc003tbm.2,uc003tin.1,uc003ufz.1,uc003uis.3,uc003uon.2,uc003vbs.2,uc003vjj.1,uc003von.1,uc003vop.1,uc003vwc.3,uc003wlp.2,uc003wuu.2,uc003wwu.2,uc003xky.1,uc003xry.2,uc003xsj.3,uc003ydc.1,uc003ygw.2,uc003ygy.2,uc003yii.1,uc003ylj.2,uc003ynb.3,uc003ypr.2,uc003yqv.2,uc003yvl.2,uc003yyx.1,uc003zcm.1,uc003zfc.3,uc003zgd.2,uc003zin.2,uc003zxm.1,uc004aso.1,uc004bax.2,uc004bhn.2,uc004bpa.3,uc004bvu.3,uc004cdb.3,uc004cfe.2,uc004dkd.1,uc004dlq.2,uc004drz.2,uc004ehd.2,uc004emm.2,uc004exl.3,uc004exs.2,uc004fnc.2,uc009vwl.2,uc009whp.2,uc009zyh.2,uc010bnj.2,uc010bnp.1,uc010dnb.1,uc010fwg.2,uc010gez.1,uc010gfk.1,uc010gto.2,uc010hxo.2,uc010ijr.1,uc010kjv.2,uc010kzy.2,uc010lqi.2,uc010mdl.2,uc010myg.2,uc010nez.2,uc010nxx.1,uc010pgp.1,uc010pki.1,uc010qcp.1,uc010qha.1,uc010rcq.1,uc010wks.1,uc010wta.1,uc010xkp.1,uc010ytj.1,uc010znf.1,uc010znu.1,uc011aan.1,uc011aqo.1,uc011bte.1,uc011btw.1,uc011ckc.1,uc011dio.1,uc011lct.1,uc011mod.1,uc011mri.1,uc011mwf.1 | L10: 5.45e-29 | M10: 6.06e-20 | N10: 1.69e-46 | O10: 9.82e-46 | P10: 1.08e-44
A11: MIMAT0000270 | B11: hsa-miR-181a-3p | C11: -1.2289639 | D11: =IF(COUNTIF('TDP-43 miRNAs'!A$2:A$86,A11)>0,"yes","") | E11: =IF(COUNTIF('LUSC TDP-43 Correlations'!$A$2:$A$1038,$A11)>0,LOOKUP($A11,'LUSC TDP-43 Correlations'!$A$2:$A$1038,'LUSC TDP-43 Correlations'!C$2:C$1038),"n/a") -> 0.0080742884 | F11: =IF(COUNTIF('LUSC TDP-43 Correlations'!$A$2:$A$1038,$A11)>0,LOOKUP($A11,'LUSC TDP-43 Correlations'!$A$2:$A$1038,'LUSC TDP-43 Correlations'!E$2:E$1038),"n/a") -> 0.16440432 | G11: 0.8055259 | H11: 188 | I11: 74 | J11: 0.45 | K11: uc001akn.3,uc001cfh.1,uc001gdo.2,uc001htl.3,uc001hvk.1,uc001imk.2,uc001kic.2,uc001kkz.2,uc001ofe.2,uc001qzz.2,uc001rih.2,uc001sdv.2,uc001sex.2,uc001sfe.1,uc001sps.3,uc001tkg.2,uc001uwc.2,uc002dec.1,uc002dlv.2,uc002emz.2,uc002esj.2,uc002fdl.1,uc002ffu.2,uc002frp.2,uc002fto.2,uc002hfs.1,uc002lck.2,uc002lut.1,uc002muo.2,uc002nvk.2,uc002ocp.2,uc002pgd.2,uc002pjy.2,uc002rnl.2,uc002rnv.1,uc002srr.2,uc002sxr.1,uc002tkx.1,uc002uhr.2,uc002ujz.3,uc002ukb.1,uc002xuo.2,uc002xzu.3,uc003aty.2,uc003fpf.2,uc003fun.3,uc003imw.1,uc003kzl.2,uc003lbp.2,uc003mxp.1,uc003pmz.2,uc003pzu.1,uc003qez.2,uc003qnt.2,uc003skp.1,uc003sqe.3,uc003uap.2,uc003uar.1,uc003vwi.2,uc003xos.2,uc004aru.3,uc004bvu.3,uc004bwd.2,uc004bzu.2,uc004exs.2,uc010dtz.1,uc010jum.1,uc010nde.2,uc010oef.1,uc010umg.1,uc010umh.1,uc010wdq.1,uc011aoy.1,uc011mca.1 | L11: 1.06e-21 | M11: 2.89e-07 | N11: 5.84e-25 | O11: 1.44e-24 | P11: 3.74e-23
A12: MIMAT0000086 | B12: hsa-miR-29a-3p | C12: -1.1797711 | D12: =IF(COUNTIF('TDP-43 miRNAs'!A$2:A$86,A12)>0,"yes","") -> yes | E12: =IF(COUNTIF('LUSC TDP-43 Correlations'!$A$2:$A$1038,$A12)>0,LOOKUP($A12,'LUSC TDP-43 Correlations'!$A$2:$A$1038,'LUSC TDP-43 Correlations'!C$2:C$1038),"n/a") -> 0.13877038 | F12: =IF(COUNTIF('LUSC TDP-43 Correlations'!$A$2:$A$1038,$A12)>0,LOOKUP($A12,'LUSC TDP-43 Correlations'!$A$2:$A$1038,'LUSC TDP-43 Correlations'!E$2:E$1038),"n/a") -> 9.7012711e-12 | G12: 0.70910259 | H12: 1203 | I12: 443 | J12: 2.67 | K12: uc001amg.2,uc001apz.2,uc001ayc.1,uc001bal.2,uc001bbd.2,uc001bgt.2,uc001bkw.1,uc001bys.2,uc001cca.1,uc001cgk.3,uc001chv.2,uc001chx.3,uc001crm.2,uc001ctk.2,uc001cue.2,uc001ddv.2,uc001dnq.2,uc001dot.2,uc001ecy.2,uc001etw.2,uc001evu.2,uc001ewp.2,uc001ewq.2,uc001ewy.2,uc001fcd.1,uc001fcp.2,uc001fgb.2,uc001fmh.1,uc001fmj.1,uc001fps.1,uc001gdj.3,uc001geo.2,uc001gfg.2,uc001gic.1,uc001gqa.2,uc001gtx.1,uc001gxc.2,uc001gyf.2,uc001gyu.1,uc001gyv.1,uc001hdb.2,uc001hhp.1,uc001hlf.1,uc001hml.2,uc001htl.3,uc001hul.2,uc001hwl.2,uc001ibf.1,uc001iew.1,uc001igp.2,uc001ild.3,uc001iva.3,uc001jaj.2,uc001jas.2,uc001jok.3,uc001joo.2,uc001jsr.1,uc001jss.1,uc001jvz.1,uc001jzn.2,uc001kai.2,uc001knd.1,uc001kpa.1,uc001kqa.3,uc001ktt.2,uc001kwv.2,uc001law.2,uc001lkm.1,uc001men.2,uc001mkz.2,uc001muh.2,uc001mvg.2,uc001mvt.2,uc001mwu.3,uc001mxj.2,uc001ngo.3,uc001nqm.2,uc001nva.2,uc001nvb.2,uc001ocp.2,uc001old.2,uc001ovb.1,uc001oyj.2,uc001pbq.2,uc001peu.2,uc001pex.2,uc001pfn.2,uc001pfu.2,uc001pmx.2,uc001pru.1,uc001qkz.2,uc001qny.1,uc001qyq.1,uc001qyt.2,uc001qzz.2,uc001rrx.2,uc001rwv.2,uc001sdv.2,uc001sit.3,uc001smy.2,uc001stn.2,uc001tau.2,uc001tkg.2,uc001tyg.2,uc001ucr.2,uc001uhc.2,uc001uii.2,uc001urq.2,uc001uxn.2,uc001uzp.2,uc001vpq.3,uc001vvl.3,uc001wgm.2,uc001whz.2,uc001wtl.2,uc001wuq.2,uc001xfc.2,uc001xhp.2,uc001ygy.1,uc001yqb.2,uc001zlk.1,uc001znm.3,uc002ahf.3,uc002ank.2,uc002avv.1,uc002avx.2,uc002bbu.1,uc002bgq.1,uc002bjl.1,uc002bly.2,uc002bnc.2,uc002box.2,uc002bvv.1,uc002chg.2,uc002cmg.2,uc002crd.2,uc002czf.3,uc002dgq.2,uc002dhu.1,uc002dlv.2,uc002dru.2,uc002dtx.2,uc002dtz.1,uc002dzd.3,uc002eek.1,uc002era.2,uc002esj.2,uc002ewl.2,uc002fcq.2,uc002fku.2,uc002fwp.2,uc002fxs.2,uc002gdf.3,uc002gox.2,uc002hcs.2,uc002hez.1,uc002hfp.2,uc002hhm.2,uc002hyu.2,uc002idg.2,uc002ihf.2,uc002ihn.2,uc002ilt.1,uc002ioh.2,uc002ioi.2,uc002iqm.2,uc002iqt.2,uc002iwj.2,uc002jfy.2,uc002jnl.2,uc002jtk.3,uc002kkf.1,uc002kui.3,uc002kwl.3,uc002kwu.3,uc002lih.1,uc002lqg.2,uc002lqm.1,uc002lzg.2,uc002mmq.1,uc002mum.1,uc002nas.2,uc002nec.1,uc002nly.2,uc002nvh.1,uc002olu.1,uc002onf.2,uc002oqb.3,uc002own.3,uc002pbb.1,uc002pbj.2,uc002pdb.2,uc002pdc.2,uc002plp.2,uc002qkj.3,uc002qsv.1,uc002rek.3,uc002rkp.2,uc002rnv.1,uc002roc.2,uc002rsk.2,uc002rya.2,uc002ryl.2,uc002sbt.2,uc002sdj.2,uc002sgq.3,uc002skb.3,uc002sqc.2,uc002srr.2,uc002ste.2,uc002svv.1,uc002tfb.2,uc002tnl.2,uc002txg.2,uc002tyh.3,uc002uea.2,uc002uhs.2,uc002ujz.3,uc002uqj.1,uc002uqk.2,uc002uwc.2,uc002vkc.1,uc002vqd.1,uc002vta.2,uc002vvn.2,uc002wax.2,uc002wdh.2,uc002wea.2,uc002wen.3,uc002wfc.2,uc002wim.2,uc002wqi.1,uc002wrs.2,uc002wuy.2,uc002wwp.1,uc002wxd.2,uc002wyh.2,uc002wzu.3,uc002xaf.2,uc002xmj.2,uc002xya.2,uc002ybb.2,uc002ycb.2,uc002ycp.1,uc002ydy.2,uc002yhl.1,uc002zpv.1,uc002ztf.2,uc002zww.2,uc003adk.2,uc003ajj.2,uc003alp.3,uc003avp.1,uc003avq.1,uc003axq.3,uc003bab.2,uc003bac.2,uc003brn.3,uc003crq.2,uc003ctz.2,uc003dsb.1,uc003dtz.1,uc003ehl.3,uc003eho.2,uc003ehv.3,uc003ejg.2,uc003etv.2,uc003ewa.2,uc003exk.2,uc003ext.1,uc003exu.1,uc003ezq.2,uc003fdn.2,uc003fdp.1,uc003fez.2,uc003fgs.2,uc003fjr.1,uc003fkl.2,uc003flb.2,uc003flk.2,uc003fms.2,uc003foz.2,uc003fpv.2,uc003fqg.2,uc003fqi.2,uc003fsh.2,uc003fwa.3,uc003fwm.3,uc003gbe.2,uc003gmn.2,uc003gpn.2,uc003gtg.2,uc003hmm.1,uc003huf.3,uc003hzb.1,uc003ick.2,uc003iec.3,uc003igr.2,uc003ivd.1,uc003jbr.2,uc003jcy.2,uc003jeo.2,uc003jeq.2,uc003jfk.2,uc003jfx.2,uc003jhr.1,uc003jhs.2,uc003jkf.3,uc003kbt.3,uc003kog.1,uc003kud.1,uc003kuu.2,uc003ldr.2,uc003mae.3,uc003mvc.2,uc003mxt.1,uc003naw.2,uc003nbj.2,uc003nks.1,uc003nql.2,uc003oes.2,uc003ojw.1,uc003oko.1,uc003ont.2,uc003ovp.2,uc003owk.2,uc003oxd.2,uc003pky.2,uc003prd.2,uc003qiw.2,uc003qmz.2,uc003qnt.2,uc003qwt.2,uc003smp.2,uc003spo.2,uc003spu.2,uc003swk.2,uc003szi.2,uc003tba.2,uc003thz.1,uc003tlw.2,uc003ufa.2,uc003ung.1,uc003uon.2,uc003vda.1,uc003vli.2,uc003vmb.1,uc003vnq.2,uc003vsy.2,uc003vuc.2,uc003vux.2,uc003wfm.2,uc003wfo.2,uc003wme.2,uc003wuu.2,uc003xdh.1,uc003xih.1,uc003xke.3,uc003xoo.2,uc003xry.2,uc003xxe.2,uc003yav.2,uc003yhy.2,uc003ykb.2,uc003ykr.1,uc003ykw.1,uc003yky.2,uc003ynb.3,uc003yod.2,uc003ypn.2,uc003ypr.2,uc003yrk.2,uc003yyx.1,uc003zdv.3,uc003ztt.2,uc003zua.3,uc003zzx.2,uc004aex.2,uc004bax.2,uc004bcu.1,uc004bhn.2,uc004bpn.2,uc004bvu.3,uc004bxc.2,uc004cdm.2,uc004cfe.2,uc004cqi.1,uc004cqk.1,uc004crg.3,uc004dag.2,uc004dax.2,uc004drz.2,uc004dsg.2,uc004dvo.2,uc004emm.2,uc004err.2,uc009wbt.1,uc009woj.1,uc009xgg.1,uc009yoz.2,uc010bfn.2,uc010cbf.1,uc010cta.1,uc010cwu.1,uc010dka.1,uc010eqn.2,uc010fra.2,uc010git.1,uc010hcw.1,uc010iam.1,uc010ijr.1,uc010ild.2,uc010kyl.2,uc010mdl.2,uc010mdq.2,uc010mnd.1,uc010njt.2,uc010qha.1,uc010qqd.1,uc010qya.1,uc010rgq.1,uc010rjx.1,uc010sqm.1,uc010ssw.1,uc010ths.1,uc010tqf.1,uc010xbj.1,uc010ydl.1,uc010ymc.1,uc010zex.1,uc010zhx.1,uc010zkm.1,uc011aoy.1,uc011byb.1,uc011cea.1,uc011dgx.1,uc011dio.1,uc011edt.1,uc011jwp.1,uc011kui.1,uc011mmo.1,uc011mod.1,uc011mwf.1 | L12: 1.85e-20 | M12: 1.45e-28 | N12: 1.12e-46 | O12: 7.14e-46 | P12: 7.14e-45
A13: MIMAT0015378 | B13: hsa-miR-3065-3p | C13: -1.8903759 | D13: =IF(COUNTIF('TDP-43 miRNAs'!A$2:A$86,A13)>0,"yes","") | E13: =IF(COUNTIF('LUSC TDP-43 Correlations'!$A$2:$A$1038,$A13)>0,LOOKUP($A13,'LUSC TDP-43 Correlations'!$A$2:$A$1038,'LUSC TDP-43 Correlations'!C$2:C$1038),"n/a") -> 0.015245018 | F13: =IF(COUNTIF('LUSC TDP-43 Correlations'!$A$2:$A$1038,$A13)>0,LOOKUP($A13,'LUSC TDP-43 Correlations'!$A$2:$A$1038,'LUSC TDP-43 Correlations'!E$2:E$1038),"n/a") -> 0.048513265 | G13: 0.6631171 | H13: 1258 | I13: 450 | J13: 2.71 | K13: uc001ack.1,uc001afh.2,uc001aob.3,uc001apz.2,uc001ayc.1,uc001bbd.2,uc001bbv.1,uc001bkx.2,uc001btk.1,uc001cca.1,uc001cdi.2,uc001cgk.3,uc001cub.2,uc001dbe.1,uc001dpu.2,uc001egv.1,uc001ent.1,uc001eor.2,uc001eot.2,uc001eou.3,uc001etc.2,uc001etw.2,uc001ety.1,uc001ewq.2,uc001ewy.2,uc001ewz.2,uc001fcp.2,uc001feq.2,uc001fmj.1,uc001foc.3,uc001fxo.2,uc001gfg.2,uc001gic.1,uc001gqa.2,uc001gqg.2,uc001gyu.1,uc001hai.2,uc001hal.2,uc001hdb.2,uc001hhp.1,uc001hlf.1,uc001hul.2,uc001hun.1,uc001ibf.1,uc001ihq.2,uc001ihu.2,uc001ild.3,uc001ilk.2,uc001jaj.2,uc001jok.3,uc001jqr.2,uc001jqs.2,uc001jrm.2,uc001jsr.1,uc001jss.1,uc001jzn.2,uc001jzq.2,uc001kai.2,uc001knd.1,uc001law.2,uc001mhu.2,uc001mvg.2,uc001mvt.2,uc001mxj.2,uc001ndn.3,uc001nva.2,uc001nvb.2,uc001ogm.1,uc001ohp.1,uc001okp.1,uc001okr.2,uc001old.2,uc001ook.1,uc001opm.2,uc001owr.2,uc001pbq.2,uc001pex.2,uc001pfu.2,uc001pmx.2,uc001puz.1,uc001qca.2,uc001qie.1,uc001qsa.1,uc001qyt.2,uc001qzm.2,uc001rbi.2,uc001rgq.1,uc001sfl.2,uc001smz.2,uc001sol.1,uc001svv.2,uc001szp.3,uc001tia.1,uc001tqo.2,uc001tru.2,uc001tvm.2,uc001tzd.2,uc001uda.2,uc001uop.1,uc001vtx.2,uc001wuq.2,uc001xcx.3,uc001xti.2,uc001yci.2,uc001ygy.1,uc001yqb.2,uc001ziy.2,uc001zkx.3,uc001znh.2,uc001znm.3,uc001znp.2,uc001zof.1,uc001zoq.3,uc001ztf.2,uc001ztg.1,uc002abp.2,uc002arf.2,uc002avv.1,uc002bbu.1,uc002bgq.1,uc002bjl.1,uc002bkz.2,uc002bvv.1,uc002cfj.3,uc002czf.3,uc002dds.2,uc002dfl.1,uc002dhu.1,uc002dly.1,uc002dug.3,uc002dxu.2,uc002dzd.3,uc002eec.3,uc002eod.1,uc002ewg.1,uc002fcq.2,uc002fib.2,uc002fjd.2,uc002fly.3,uc002fne.2,uc002frp.2,uc002fto.2,uc002fuy.1,uc002fwp.2,uc002gge.3,uc002gob.1,uc002gox.2,uc002gyq.2,uc002hez.1,uc002hfp.2,uc002hhn.2,uc002hik.1,uc002hsr.2,uc002hyk.1,uc002ibi.2,uc002idg.2,uc002ifm.1,uc002ihc.2,uc002ihf.2,uc002iht.2,uc002ijk.3,uc002ilz.2,uc002inv.2,uc002ioh.2,uc002isr.2,uc002iwj.2,uc002jbb.2,uc002jbd.2,uc002jiw.2,uc002jqi.2,uc002jqp.1,uc002jrm.3,uc002jrr.1,uc002jsv.2,uc002jzu.1,uc002kbf.2,uc002kbh.1,uc002kbu.2,uc002kns.2,uc002krr.2,uc002kth.1,uc002kzb.2,uc002lfc.3,uc002lih.1,uc002lnp.2,uc002lrw.3,uc002lrx.3,uc002ltc.2,uc002lvx.1,uc002lyp.1,uc002mer.3,uc002mfg.1,uc002mmq.1,uc002mum.1,uc002mxg.2,uc002mxq.1,uc002nec.1,uc002njp.2,uc002nlr.3,uc002nly.2,uc002nsf.2,uc002nva.3,uc002ojo.1,uc002onf.2,uc002oqb.3,uc002pdb.2,uc002pdc.2,uc002pgc.2,uc002pgd.2,uc002pqc.1,uc002qzg.1,uc002rao.1,uc002raq.2,uc002rkf.1,uc002rkp.2,uc002rlk.3,uc002rnv.1,uc002ros.2,uc002rsk.2,uc002rvy.1,uc002rya.2,uc002ryl.2,uc002sbj.2,uc002sde.1,uc002sdj.2,uc002sgq.3,uc002sjb.1,uc002sle.2,uc002sya.2,uc002tcb.2,uc002thu.2,uc002uhi.2,uc002unq.1,uc002uqj.1,uc002uqk.2,uc002uwc.2,uc002uyw.1,uc002vgg.2,uc002vlj.2,uc002vne.1,uc002vsg.1,uc002vta.2,uc002wdx.1,uc002wwp.1,uc002wxd.2,uc002xaf.2,uc002xai.2,uc002xba.1,uc002xfn.2,uc002xft.2,uc002xoh.1,uc002xvu.1,uc002xzu.3,uc002yac.1,uc002ybb.2,uc002ycb.2,uc002ydy.2,uc002yeo.1,uc002yko.3,uc002yzo.2,uc002zpv.1,uc002zwc.1,uc002zxx.2,uc003afh.2,uc003ahq.2,uc003aij.1,uc003ajc.2,uc003alp.3,uc003anl.2,uc003anw.1,uc003atx.1,uc003aul.2,uc003azu.2,uc003bac.2,uc003bdq.2,uc003bhw.1,uc003bsh.2,uc003bxv.1,uc003crq.2,uc003ctz.2,uc003dsx.2,uc003edz.3,uc003eki.2,uc003epx.1,uc003etv.2,uc003euy.1,uc003ewa.2,uc003eyi.2,uc003fce.2,uc003fdn.2,uc003fdp.1,uc003ffa.3,uc003fgs.2,uc003fix.3,uc003fjr.1,uc003fkl.2,uc003fmg.2,uc003foz.2,uc003fqi.2,uc003fqt.2,uc003fum.3,uc003fwm.3,uc003hjl.3,uc003ick.2,uc003ihu.1,uc003jat.1,uc003jcy.2,uc003jdw.2,uc003jgg.3,uc003jhg.2,uc003jhs.2,uc003jjd.2,uc003jkf.3,uc003kbt.3,uc003kud.1,uc003kuu.2,uc003luc.2,uc003mec.1,uc003mek.1,uc003mvc.2,uc003nbj.2,uc003ngs.2,uc003nql.2,uc003nrl.2,uc003nrz.1,uc003nub.2,uc003ont.2,uc003ork.2,uc003ost.2,uc003ouy.1,uc003ovy.1,uc003owk.2,uc003oxd.2,uc003oxl.2,uc003pky.2,uc003pxt.1,uc003qmz.2,uc003sis.2,uc003sma.2,uc003spo.2,uc003spu.2,uc003sqe.3,uc003tba.2,uc003tkm.2,uc003tqp.2,uc003ubm.3,uc003uit.2,uc003ung.1,uc003usf.2,uc003uul.2,uc003uun.2,uc003vcb.2,uc003vli.2,uc003vmp.2,uc003vnq.2,uc003vop.1,uc003vpf.1,uc003vwi.2,uc003wcz.2,uc003wfp.2,uc003wfu.2,uc003wja.1,uc003wnm.1,uc003xqm.2,uc003xry.2,uc003xzi.2,uc003ydc.1,uc003yeu.3,uc003yht.1,uc003yia.2,uc003yky.2,uc003ynb.3,uc003yod.2,uc003yqd.2,uc003yzk.2,uc003zdv.3,uc003zed.1,uc003zwc.1,uc003zxm.1,uc003zzx.2,uc004ala.2,uc004asl.1,uc004bax.2,uc004buc.1,uc004but.2,uc004cgt.2,uc004cqi.1,uc004cqk.1,uc004cuv.1,uc004dag.2,uc004dvo.2,uc004emm.2,uc004fmm.2,uc009vxw.2,uc009woj.1,uc009wol.1,uc009wzz.1,uc009xgg.1,uc009yoz.2,uc009yrj.2,uc010ckc.1,uc010cwu.1,uc010eqn.2,uc010git.1,uc010hcw.1,uc010hxo.2,uc010iai.2,uc010ijr.1,uc010kzy.2,uc010lam.1,uc010lqs.2,uc010myg.2,uc010myt.1,uc010njt.2,uc010nyh.1,uc010ous.1,uc010pgp.1,uc010pgw.1,uc010pqn.1,uc010qbb.1,uc010ror.1,uc010sqm.1,uc010srq.1,uc010uin.1,uc010vfi.1,uc010vfr.1,uc010vyd.1,uc010wks.1,uc010wrz.1,uc010xbj.1,uc010yba.1,uc010ybf.1,uc010ydl.1,uc010zjt.1,uc010znf.1,uc010znu.1,uc010zpy.1,uc010zqs.1,uc011aez.1,uc011aos.1,uc011bsb.1,uc011bte.1,uc011cea.1,uc011drm.1,uc011dsp.1,uc011dug.1,uc011kui.1,uc011lkh.1,uc011men.1,uc011mxq.1 | L13: 8.07e-20 | M13: 5.01e-26 | N13: 1.2e-43 | O13: 5.88e-43 | P13: 7.65e-42
A14: MIMAT0004501 | B14: hsa-miR-27a-5p | C14: -1.6754183 | D14: =IF(COUNTIF('TDP-43 miRNAs'!A$2:A$86,A14)>0,"yes","") | E14: =IF(COUNTIF('LUSC TDP-43 Correlations'!$A$2:$A$1038,$A14)>0,LOOKUP($A14,'LUSC TDP-43 Correlations'!$A$2:$A$1038,'LUSC TDP-43 Correlations'!C$2:C$1038),"n/a") -> 0.041694334 | F14: =IF(COUNTIF('LUSC TDP-43 Correlations'!$A$2:$A$1038,$A14)>0,LOOKUP($A14,'LUSC TDP-43 Correlations'!$A$2:$A$1038,'LUSC TDP-43 Correlations'!E$2:E$1038),"n/a") -> 0.00055226628 | G14: 0.69751188 | H14: 632 | I14: 232 | J14: 1.4 | K14: uc001bbd.2,uc001bgt.2,uc001bgw.2,uc001bji.2,uc001bnb.2,uc001bys.2,uc001dlr.3,uc001dpu.2,uc001ewp.2,uc001fqa.2,uc001ghz.2,uc001gic.1,uc001gsz.1,uc001hly.1,uc001hrf.2,uc001hur.2,uc001ilk.2,uc001isi.3,uc001iva.3,uc001jaj.2,uc001juh.2,uc001kxh.2,uc001kzc.3,uc001lhd.2,uc001lhe.2,uc001ljd.3,uc001mtu.2,uc001nbu.2,uc001noe.3,uc001ofe.2,uc001oxt.2,uc001pdg.2,uc001pxx.2,uc001qhc.1,uc001qhd.1,uc001riv.2,uc001rpr.2,uc001rsq.3,uc001sjm.2,uc001sut.3,uc001tej.2,uc001tpn.2,uc001ttm.2,uc001uel.2,uc001wgm.2,uc001whm.1,uc001wjj.2,uc001wjz.2,uc001xff.3,uc001xim.3,uc001xti.2,uc001yah.1,uc001yci.2,uc001zff.2,uc002box.2,uc002dbt.2,uc002dtx.2,uc002dtz.1,uc002eer.1,uc002ewl.2,uc002fja.2,uc002frs.1,uc002gce.2,uc002gez.1,uc002haz.2,uc002huq.2,uc002hyu.2,uc002ifm.1,uc002ifn.2,uc002iky.2,uc002inv.2,uc002ivi.2,uc002ivj.2,uc002jem.2,uc002jrm.3,uc002liz.3,uc002luc.2,uc002mov.2,uc002nav.2,uc002nlr.3,uc002nnb.3,uc002ntl.2,uc002obq.1,uc002ola.2,uc002olb.2,uc002opw.2,uc002ote.3,uc002ozt.1,uc002pfm.2,uc002pjd.2,uc002pjy.2,uc002pyr.1,uc002qxj.2,uc002rix.1,uc002rnl.2,uc002ros.2,uc002ruy.2,uc002rya.2,uc002ryl.2,uc002seh.2,uc002srg.3,uc002srs.3,uc002svw.1,uc002tsy.3,uc002tur.2,uc002tyn.2,uc002ufq.1,uc002unq.1,uc002usb.2,uc002uyq.2,uc002vfy.2,uc002vsg.1,uc002wax.2,uc002wdj.2,uc002wnw.2,uc002wty.2,uc002wyb.2,uc002xkc.2,uc002xmj.2,uc002ycb.2,uc002ztt.1,uc002zvg.3,uc003aam.1,uc003ajj.2,uc003apk.1,uc003bei.1,uc003bkk.1,uc003blw.3,uc003bxl.2,uc003dyb.2,uc003dzn.2,uc003dzr.2,uc003eag.3,uc003ege.2,uc003erh.2,uc003evm.2,uc003fez.2,uc003ffa.3,uc003fft.2,uc003fog.2,uc003fqt.2,uc003fsh.2,uc003fwm.3,uc003gbe.2,uc003hag.3,uc003hbr.2,uc003hkr.2,uc003hmm.1,uc003ivd.1,uc003iwi.2,uc003jdm.3,uc003jdw.2,uc003jgg.3,uc003kyj.2,uc003mbh.2,uc003mek.1,uc003mel.1,uc003ncj.2,uc003nit.3,uc003nrl.2,uc003osa.3,uc003pdc.3,uc003prd.2,uc003pwm.2,uc003qng.2,uc003qrm.3,uc003qsr.2,uc003sis.2,uc003sje.1,uc003smv.2,uc003soo.2,uc003tui.2,uc003txd.3,uc003uit.2,uc003von.1,uc003xdl.2,uc003xnx.2,uc003xos.2,uc003ydc.1,uc003yvl.2,uc003zcm.1,uc003zdp.1,uc003zed.1,uc003zjm.1,uc003zsz.2,uc004aay.2,uc004ajo.3,uc004asl.1,uc004byh.2,uc004bzq.1,uc004cgx.3,uc004cmo.2,uc004cqi.1,uc004cuv.1,uc004djo.1,uc004dlc.1,uc004dth.1,uc004dtz.2,uc004dzp.2,uc004ega.1,uc004err.2,uc004eyf.2,uc004fkl.2,uc009woj.1,uc009xre.2,uc009xvo.2,uc009zcq.1,uc009zwi.2,uc010daa.1,uc010iac.1,uc010iai.2,uc010jta.1,uc010khz.1,uc010kyk.1,uc010kzt.1,uc010mzz.2,uc010oic.1,uc010ojl.1,uc010osj.1,uc010ous.1,uc010rcq.1,uc010sfa.1,uc010sme.1,uc010uin.1,uc010uwt.1,uc010wit.1,uc010wyu.1,uc010xil.1,uc010zqs.1,uc011baf.1,uc011bsb.1,uc011byb.1 | L14: 3.6e-19 | M14: 1.25e-15 | N14: 8.58e-33 | O14: 3.05e-32 | P14: 5.49e-31
A15: MIMAT0000062 | B15: hsa-let-7a-5p | C15: -0.90429852 | D15: =IF(COUNTIF('TDP-43 miRNAs'!A$2:A$86,A15)>0,"yes","") -> yes | E15: =IF(COUNTIF('LUSC TDP-43 Correlations'!$A$2:$A$1038,$A15)>0,LOOKUP($A15,'LUSC TDP-43 Correlations'!$A$2:$A$1038,'LUSC TDP-43 Correlations'!C$2:C$1038),"n/a") -> 0.014071382 | F15: =IF(COUNTIF('LUSC TDP-43 Correlations'!$A$2:$A$1038,$A15)>0,LOOKUP($A15,'LUSC TDP-43 Correlations'!$A$2:$A$1038,'LUSC TDP-43 Correlations'!E$2:E$1038),"n/a") -> 0.058133447 | G15: 0.72290732 | H15: 1114 | I15: 414 | J15: 2.5 | K15: uc001alf.2,uc001amg.2,uc001bgw.2,uc001bht.2,uc001bjg.2,uc001bnx.2,uc001bvd.2,uc001bzg.1,uc001bzp.2,uc001ccn.3,uc001cgk.3,uc001chs.2,uc001ctk.2,uc001cue.2,uc001cxy.2,uc001dxr.2,uc001ety.1,uc001ewy.2,uc001fbs.2,uc001fcp.2,uc001fjm.2,uc001fna.2,uc001fpf.2,uc001gag.2,uc001gah.2,uc001gdo.2,uc001gjh.1,uc001gxx.3,uc001hdz.1,uc001hiv.2,uc001hom.1,uc001hqd.3,uc001hst.1,uc001htb.2,uc001htc.2,uc001iaj.2,uc001ibu.1,uc001ind.2,uc001isi.3,uc001jas.2,uc001jiu.2,uc001jof.2,uc001jzn.2,uc001kqa.3,uc001kwv.2,uc001kwy.1,uc001kyp.1,uc001kze.2,uc001msw.1,uc001nrl.1,uc001nrn.1,uc001nrv.2,uc001nrz.1,uc001ntw.2,uc001nua.2,uc001nuf.2,uc001nxt.2,uc001odm.2,uc001ogp.2,uc001okr.2,uc001oun.1,uc001ovb.1,uc001oyh.3,uc001oyi.1,uc001ozi.2,uc001pex.2,uc001pfe.2,uc001pjs.2,uc001pnj.3,uc001pxt.2,uc001qiq.2,uc001qnr.2,uc001qpq.1,uc001rez.2,uc001san.2,uc001sck.2,uc001sdg.1,uc001sdv.2,uc001sfe.1,uc001sjm.2,uc001sli.3,uc001sml.1,uc001smy.2,uc001soi.2,uc001sol.1,uc001sot.2,uc001sqr.2,uc001ssx.2,uc001stn.2,uc001svv.2,uc001svw.1,uc001sxt.2,uc001tqk.3,uc001tvm.2,uc001tvn.3,uc001vbw.1,uc001vjq.2,uc001wja.2,uc001wwa.1,uc001wxu.2,uc001wzv.2,uc001xcx.3,uc001xfc.2,uc001xfq.2,uc001xim.3,uc001xjs.2,uc001yok.2,uc001zhj.2,uc001zmd.1,uc001zmx.1,uc001zyu.2,uc002abp.2,uc002ahf.3,uc002amu.1,uc002ank.2,uc002axh.1,uc002aya.2,uc002azr.3,uc002bbk.2,uc002bct.1,uc002bdy.2,uc002bjl.1,uc002cgz.2,uc002cha.2,uc002cqy.3,uc002cry.1,uc002daw.1,uc002dbt.2,uc002dhu.1,uc002dkj.1,uc002dtt.1,uc002duv.2,uc002dzk.1,uc002ewg.1,uc002exp.2,uc002fda.2,uc002fgo.2,uc002fgu.2,uc002frp.2,uc002ggt.1,uc002gkr.2,uc002gks.2,uc002gox.2,uc002gqz.2,uc002grd.2,uc002gsp.2,uc002gyq.2,uc002hbp.2,uc002hju.2,uc002hne.2,uc002huq.2,uc002hyu.2,uc002ibi.2,uc002idt.2,uc002ihn.2,uc002iky.2,uc002iph.1,uc002iqm.2,uc002iuu.2,uc002jrp.1,uc002juw.2,uc002jwk.2,uc002jzu.1,uc002ksl.1,uc002ktq.2,uc002kui.3,uc002kzb.2,uc002kzc.2,uc002lar.1,uc002lfc.3,uc002lov.2,uc002lvr.2,uc002mfg.1,uc002mpm.2,uc002mxe.2,uc002mxt.2,uc002nav.2,uc002nec.1,uc002nvh.1,uc002oam.1,uc002olb.2,uc002onf.2,uc002oqb.3,uc002pax.3,uc002qoi.1,uc002qql.2,uc002qqx.1,uc002qwf.2,uc002rah.2,uc002rcm.2,uc002rek.3,uc002ric.2,uc002rjd.2,uc002ros.2,uc002rrf.2,uc002rxk.1,uc002sei.1,uc002sfu.2,uc002sjp.2,uc002skb.3,uc002sle.2,uc002sll.1,uc002sox.3,uc002srs.3,uc002ssg.1,uc002ste.2,uc002svv.1,uc002sxd.3,uc002sxh.3,uc002taw.3,uc002tcb.2,uc002thu.2,uc002tkq.2,uc002tpf.2,uc002tpj.2,uc002tsy.3,uc002tyn.2,uc002uea.2,uc002ugk.2,uc002uhh.2,uc002ujz.3,uc002uqj.1,uc002uqk.2,uc002uuq.2,uc002uwc.2,uc002viy.2,uc002vmq.2,uc002wed.3,uc002wlp.2,uc002wqh.2,uc002wuz.2,uc002wxn.2,uc002wxt.2,uc002wyh.2,uc002xab.2,uc002xaf.2,uc002xbg.2,uc002yea.3,uc002yhl.1,uc002yki.2,uc002ykj.1,uc002yzn.1,uc002znm.2,uc002zur.3,uc002zwc.1,uc002zxx.2,uc002zyh.2,uc002zyl.1,uc002zyy.3,uc003acg.2,uc003anl.2,uc003anw.1,uc003apc.2,uc003avk.2,uc003bfi.2,uc003bga.3,uc003bkk.1,uc003bsh.2,uc003crq.2,uc003cyj.2,uc003dcu.2,uc003ece.1,uc003eci.2,uc003edz.3,uc003eex.2,uc003ege.2,uc003eps.2,uc003euc.2,uc003eud.2,uc003eue.2,uc003exu.1,uc003ezq.2,uc003fdn.2,uc003fhc.3,uc003fkl.2,uc003flk.2,uc003flz.2,uc003fmg.2,uc003fms.2,uc003fpj.2,uc003fqt.2,uc003fsh.2,uc003fyr.2,uc003gbe.2,uc003grf.2,uc003hwt.3,uc003ifm.2,uc003ihu.1,uc003inh.2,uc003iqq.3,uc003isz.3,uc003iwi.2,uc003jdo.2,uc003jdw.2,uc003jfx.2,uc003jhs.2,uc003jme.1,uc003jmo.2,uc003jpq.2,uc003juf.2,uc003kud.1,uc003ldr.2,uc003mhy.2,uc003mnc.1,uc003mxt.1,uc003ncn.1,uc003nii.2,uc003nil.3,uc003nrg.3,uc003nrl.2,uc003ofa.1,uc003omu.2,uc003onq.3,uc003osa.3,uc003oux.2,uc003ouy.1,uc003pdx.2,uc003pjv.2,uc003pky.2,uc003pmz.2,uc003pqk.2,uc003pzr.2,uc003qem.1,uc003qng.2,uc003soo.2,uc003stj.2,uc003swa.2,uc003swb.2,uc003syt.2,uc003tlw.2,uc003tui.2,uc003twj.2,uc003uac.1,uc003udk.3,uc003ung.1,uc003uqj.2,uc003uxv.3,uc003vee.2,uc003veh.2,uc003vsy.2,uc003vuv.2,uc003wnm.1,uc003xkk.2,uc003xlf.3,uc003xxp.1,uc003xzi.2,uc003yeu.3,uc003yfz.2,uc003yhy.2,uc003yia.2,uc003ylk.2,uc003yqh.3,uc003yvl.2,uc003yyd.2,uc003yzo.1,uc003zcj.2,uc003zcz.2,uc003zin.2,uc003zzx.2,uc004ajo.3,uc004auo.2,uc004avh.2,uc004bas.2,uc004bcu.1,uc004bfh.2,uc004bfj.3,uc004buz.3,uc004cuv.1,uc004dag.2,uc004dhj.3,uc004dlc.1,uc004dlq.2,uc004dsg.2,uc004ehj.1,uc004emm.2,uc004esn.1,uc004fib.3,uc009vxv.2,uc010cxb.2,uc010dsn.2,uc010edf.2,uc010fac.2,uc010hbf.2,uc010hre.1,uc010iai.2,uc010kyl.2,uc010kzy.2,uc010mdl.2,uc010nqp.1,uc010ous.1,uc010qha.1,uc010qig.1,uc010qtu.1,uc010qya.1,uc010rhn.1,uc010rjx.1,uc010rrk.1,uc010sqm.1,uc010tqf.1,uc010ubz.1,uc010vvv.1,uc010vyd.1,uc010yab.1,uc010yqa.1,uc010ytj.1,uc010zkm.1,uc011aoy.1,uc011bds.1,uc011bsb.1,uc011bto.1,uc011dbl.1,uc011dsp.1,uc011eej.1,uc011lhz.1 | L15: 6.74e-19 | M15: 8.71e-28 | N15: 2.97e-44 | O15: 1.59e-43 | P15: 1.9e-42
... A31: MIMAT0000414 | B31: hsa-let-7g-5p | C31: -0.15516421 | D31: =IF(COUNTIF('TDP-43 miRNAs'!A$2:A$86,A31)>0,"yes","") -> yes | E31: =IF(COUNTIF('LUSC TDP-43 Correlations'!$A$2:$A$1038,$A31)>0,LOOKUP($A31,'LUSC TDP-43 Correlations'!$A$2:$A$1038,'LUSC TDP-43 Correlations'!C$2:C$1038),"n/a") -> 0.00079306782 | F31: =IF(COUNTIF('LUSC TDP-43 Correlations'!$A$2:$A$1038,$A31)>0,LOOKUP($A31,'LUSC TDP-43 Correlations'!$A$2:$A$1038,'LUSC TDP-43 Correlations'!E$2:E$1038),"n/a") -> 0.71565262 | G31: 0.71111482 | H31: 1155 | I31: 426 | J31: 2.57 | K31: uc001alf.2,uc001amg.2,uc001bgw.2,uc001bht.2,uc001bnx.2,uc001bvd.2,uc001bzg.1,uc001bzp.2,uc001cgk.3,uc001chs.2,uc001ctk.2,uc001cue.2,uc001cxy.2,uc001dxr.2,uc001ewy.2,uc001fbs.2,uc001fcp.2,uc001fjm.2,uc001fna.2,uc001fpf.2,uc001gdo.2,uc001gjh.1,uc001gxx.3,uc001hbu.1,uc001hdz.1,uc001hiv.2,uc001hom.1,uc001hqd.3,uc001hst.1,uc001hwn.2,uc001iaj.2,uc001ibu.1,uc001ind.2,uc001jas.2,uc001jiu.2,uc001jof.2,uc001jok.3,uc001jzn.2,uc001kjj.2,uc001kqa.3,uc001kwv.2,uc001kwy.1,uc001kyp.1,uc001kze.2,uc001msw.1,uc001mwh.2,uc001nrl.1,uc001nrv.2,uc001nrz.1,uc001ntw.2,uc001nua.2,uc001nuf.2,uc001nve.2,uc001nxt.2,uc001odm.2,uc001odu.3,uc001okr.2,uc001oun.1,uc001ovb.1,uc001owk.1,uc001oyh.3,uc001oyi.1,uc001ozi.2,uc001pex.2,uc001pfe.2,uc001pnj.3,uc001pxt.2,uc001qiq.2,uc001qlh.2,uc001qnr.2,uc001qpq.1,uc001rdz.3,uc001rez.2,uc001san.2,uc001scb.3,uc001sck.2,uc001sdg.1,uc001sdv.2,uc001sfe.1,uc001sli.3,uc001sml.1,uc001smy.2,uc001sol.1,uc001sqr.2,uc001ssx.2,uc001stn.2,uc001svv.2,uc001svw.1,uc001sxt.2,uc001tqk.3,uc001tvm.2,uc001tvn.3,uc001tyg.2,uc001ujy.3,uc001vbw.1,uc001vjq.2,uc001wja.2,uc001wwa.1,uc001wxu.2,uc001wzv.2,uc001xcx.3,uc001xfc.2,uc001xim.3,uc001xjs.2,uc001yok.2,uc001zhj.2,uc001zmd.1,uc001zyu.2,uc002abp.2,uc002ahf.3,uc002amu.1,uc002axh.1,uc002aya.2,uc002azr.3,uc002bbk.2,uc002bct.1,uc002bdy.2,uc002bjl.1,uc002cgz.2,uc002cha.2,uc002cqy.3,uc002cry.1,uc002daw.1,uc002dhu.1,uc002dkj.1,uc002dtt.1,uc002duv.2,uc002ebf.2,uc002ewg.1,uc002exp.2,uc002fda.2,uc002fdl.1,uc002fgo.2,uc002fgu.2,uc002frp.2,uc002ggj.3,uc002ggt.1,uc002gkr.2,uc002gks.2,uc002gox.2,uc002gqz.2,uc002grd.2,uc002gyq.2,uc002hbp.2,uc002hez.1,uc002hju.2,uc002hne.2,uc002hoi.1,uc002huq.2,uc002ibi.2,uc002idt.2,uc002ihn.2,uc002ijk.3,uc002iky.2,uc002iph.1,uc002iqm.2,uc002iuu.2,uc002jrp.1,uc002juw.2,uc002jwk.2,uc002jzu.1,uc002ksl.1,uc002ktq.2,uc002kui.3,uc002kzb.2,uc002kzc.2,uc002lar.1,uc002lfc.3,uc002lov.2,uc002lvr.2,uc002mfg.1,uc002mpm.2,uc002mxe.2,uc002mxt.2,uc002nav.2,uc002nhc.1,uc002nvh.1,uc002oam.1,uc002okh.2,uc002onf.2,uc002oqb.3,uc002pbq.1,uc002qoi.1,uc002qpk.2,uc002qql.2,uc002qqx.1,uc002qwf.2,uc002rah.2,uc002rcm.2,uc002rek.3,uc002ric.2,uc002rjd.2,uc002ros.2,uc002rrf.2,uc002rxk.1,uc002sav.3,uc002sei.1,uc002sfu.2,uc002sjp.2,uc002skb.3,uc002sle.2,uc002sll.1,uc002sox.3,uc002svv.1,uc002sxd.3,uc002sxh.3,uc002tab.2,uc002taw.3,uc002tcb.2,uc002thu.2,uc002tpf.2,uc002tpj.2,uc002tsy.3,uc002tyn.2,uc002uea.2,uc002ugk.2,uc002uhh.2,uc002ujz.3,uc002uqj.1,uc002uqk.2,uc002uuq.2,uc002uwc.2,uc002viy.2,uc002vmq.2,uc002vvn.2,uc002wed.3,uc002wlp.2,uc002wqh.2,uc002wuz.2,uc002wxn.2,uc002wxt.2,uc002wyh.2,uc002xab.2,uc002xaf.2,uc002xvy.1,uc002yea.3,uc002yhl.1,uc002ykj.1,uc002znm.2,uc002zur.3,uc002zwc.1,uc002zxx.2,uc002zyh.2,uc002zyl.1,uc002zyy.3,uc003acg.2,uc003anl.2,uc003anw.1,uc003apc.2,uc003avk.2,uc003aww.2,uc003bfi.2,uc003bga.3,uc003bkk.1,uc003bsh.2,uc003crq.2,uc003cyj.2,uc003dcu.2,uc003eag.3,uc003eci.2,uc003ege.2,uc003eps.2,uc003euc.2,uc003eud.2,uc003eue.2,uc003evo.2,uc003eya.2,uc003ezq.2,uc003fdn.2,uc003fhc.3,uc003fkl.2,uc003flk.2,uc003flz.2,uc003fmg.2,uc003fms.2,uc003fpj.2,uc003fqt.2,uc003fsh.2,uc003fxd.1,uc003fxf.2,uc003fyr.2,uc003gbe.2,uc003grf.2,uc003hwt.3,uc003ifm.2,uc003ihu.1,uc003iqq.3,uc003isz.3,uc003iwi.2,uc003jdo.2,uc003jdw.2,uc003jfx.2,uc003jhs.2,uc003jjd.2,uc003jme.1,uc003jmo.2,uc003jpq.2,uc003kbt.3,uc003knb.2,uc003kud.1,uc003ldr.2,uc003mnc.1,uc003mxt.1,uc003ncn.1,uc003nii.2,uc003nil.3,uc003nrg.3,uc003nrl.2,uc003ofa.1,uc003onq.3,uc003oux.2,uc003ouy.1,uc003pdx.2,uc003pjv.2,uc003pky.2,uc003pmz.2,uc003pqk.2,uc003qem.1,uc003qrf.2,uc003qrg.2,uc003soo.2,uc003stj.2,uc003swa.2,uc003swb.2,uc003syt.2,uc003tlw.2,uc003tte.2,uc003tui.2,uc003twj.2,uc003uac.1,uc003udk.3,uc003ung.1,uc003uqj.2,uc003uxv.3,uc003vea.2,uc003vee.2,uc003veh.2,uc003vor.2,uc003vos.2,uc003vsy.2,uc003vuv.2,uc003wld.2,uc003wmm.2,uc003wnm.1,uc003xdb.1,uc003xkk.2,uc003xlf.3,uc003xlj.2,uc003xxp.1,uc003xzi.2,uc003yeu.3,uc003yfz.2,uc003yhc.2,uc003yhy.2,uc003yia.2,uc003ylk.2,uc003yqh.3,uc003yra.3,uc003ytq.2,uc003yvl.2,uc003yyd.2,uc003yzo.1,uc003zcj.2,uc003zcz.2,uc003zin.2,uc003zzx.2,uc004aay.2,uc004ajo.3,uc004auo.2,uc004avh.2,uc004bas.2,uc004bcu.1,uc004bfh.2,uc004bfj.3,uc004buz.3,uc004dbm.2,uc004dhj.3,uc004dlc.1,uc004dlq.2,uc004dsg.2,uc004dzp.2,uc004ehj.1,uc009vxv.2,uc009wzz.1,uc009zuj.2,uc009zwi.2,uc010dsn.2,uc010dxa.2,uc010fac.2,uc010hre.1,uc010iai.2,uc010igz.1,uc010kyl.2,uc010kzy.2,uc010mdl.2,uc010mdq.2,uc010nlz.2,uc010nqp.1,uc010ous.1,uc010qha.1,uc010qig.1,uc010qtu.1,uc010qya.1,uc010rjx.1,uc010rrk.1,uc010sqm.1,uc010tqf.1,uc010ubz.1,uc010ufl.1,uc010vfi.1,uc010vvv.1,uc010vyd.1,uc010yab.1,uc010yph.1,uc010yqa.1,uc010ytj.1,uc010zkm.1,uc011aoy.1,uc011bds.1,uc011bsb.1,uc011bto.1,uc011btx.1,uc011dbl.1,uc011dhk.1,uc011dsp.1,uc011lhz.1 | L31: 0.098879201 | M31: 1.01e-27 | N31: 4.66e-18 | O31: 7.46e-18 | P31: 2.98e-16
A33: Not Differentially Expressed miRNAs
A34: miRBaseAccension | B34: ID | C34: log2FoldChange | D34: Regulated by TDP-43? | E34: R2 TDP-43 Correlation | F34: Correlation Adjusted P-value | G34: odds_ratio_log | H34: numPredictedTargets | I34: numDEgenes | J34: percentDEgenes | K34: DEgeneList | L34: pDESeq2 | M34: pFatiscan | N34: pCombined | O34: pCombinedFDR | P34: pCombinedFWER
A35: MIMAT0016895 | B35: hsa-miR-2355-5p | C35: -0.25137584 | D35: =IF(COUNTIF('TDP-43 miRNAs'!A$2:A$86,A35)>0,"yes","") | E35: =IF(COUNTIF('LUSC TDP-43 Correlations'!$A$2:$A$1038,$A35)>0,LOOKUP($A35,'LUSC TDP-43 Correlations'!$A$2:$A$1038,'LUSC TDP-43 Correlations'!C$2:C$1038),"n/a") -> 0.0048083068 | F35: =IF(COUNTIF('LUSC TDP-43 Correlations'!$A$2:$A$1038,$A35)>0,LOOKUP($A35,'LUSC TDP-43 Correlations'!$A$2:$A$1038,'LUSC TDP-43 Correlations'!E$2:E$1038),"n/a") -> 0.30121501 | G35: 0.6037163 | H35: 1178 | I35: 406 | J35: 2.45 | K35: uc001aca.1,uc001axe.1,uc001ayc.1,uc001bgw.2,uc001bnb.2,uc001bnd.1,uc001bnx.2,uc001bzp.2,uc001cca.1,uc001cdi.2,uc001cet.1,uc001eck.2,uc001epg.1,uc001epq.2,uc001ewq.2,uc001exq.2,uc001fcd.1,uc001fce.2,uc001fcq.2,uc001fft.2,uc001fgk.3,uc001fjz.1,uc001fmi.1,uc001fmj.1,uc001fpg.2,uc001fph.2,uc001geo.2,uc001gkj.1,uc001gqg.2,uc001gyo.1,uc001hdb.2,uc001hiv.2,uc001hlg.3,uc001hst.1,uc001htb.2,uc001htc.2,uc001hvs.1,uc001iba.1,uc001ill.2,uc001jas.2,uc001kfj.3,uc001kjq.1,uc001krq.3,uc001kwy.1,uc001kxr.2,uc001leb.2,uc001lpc.2,uc001men.2,uc001mri.1,uc001nca.1,uc001ndn.3,uc001nrv.2,uc001nxt.2,uc001ofe.2,uc001ojc.1,uc001ojd.2,uc001okp.1,uc001ook.1,uc001opc.2,uc001oql.2,uc001ouj.2,uc001pfy.2,uc001pjq.2,uc001pux.3,uc001puz.1,uc001qfc.3,uc001qri.3,uc001qsd.2,uc001qsr.2,uc001qys.2,uc001qzz.2,uc001rfm.2,uc001rfq.2,uc001rvx.3,uc001scb.3,uc001skb.2,uc001sla.2,uc001slu.3,uc001sol.1,uc001stn.2,uc001sxt.2,uc001tfl.2,uc001tkg.2,uc001tlk.2,uc001txo.2,uc001tzd.2,uc001ucr.2,uc001ufm.2,uc001ufo.1,uc001uta.1,uc001vfp.2,uc001vvl.3,uc001wao.2,uc001whz.2,uc001wja.2,uc001wuw.3,uc001wzv.2,uc001xvk.1,uc001yem.1,uc001ygy.1,uc002afz.2,uc002aqj.2,uc002aqs.2,uc002arl.2,uc002avv.1,uc002avx.2,uc002azr.3,uc002bva.1,uc002cow.2,uc002dly.1,uc002dqy.2,uc002drh.2,uc002dug.3,uc002dxu.2,uc002eek.1,uc002erz.2,uc002ewg.1,uc002ewl.2,uc002exa.2,uc002fda.2,uc002fib.2,uc002fku.2,uc002fly.3,uc002fto.2,uc002fuj.2,uc002gge.3,uc002hbm.2,uc002hez.1,uc002hhm.2,uc002hju.2,uc002hnd.2,uc002htn.1,uc002hxs.2,uc002ibi.2,uc002icn.2,uc002idt.2,uc002iky.2,uc002iox.1,uc002iuc.2,uc002ivi.2,uc002ivj.2,uc002jne.2,uc002jtk.3,uc002kbf.2,uc002ksl.1,uc002kzb.2,uc002kzc.2,uc002lgw.2,uc002lih.1,uc002liz.3,uc002lqg.2,uc002lvy.2,uc002lws.3,uc002mfg.1,uc002mir.2,uc002moy.1,uc002muo.2,uc002mwm.2,uc002nkf.2,uc002nlr.3,uc002nug.1,uc002ocp.2,uc002ohr.1,uc002okw.2,uc002ola.2,uc002olb.2,uc002ols.1,uc002ote.3,uc002pbb.1,uc002pbn.2,uc002pfs.2,uc002pgc.2,uc002pgd.2,uc002plp.2,uc002qwf.2,uc002qzg.1,uc002rbz.1,uc002rdo.1,uc002rgv.2,uc002rix.1,uc002rjd.2,uc002rkx.2,uc002rqq.2,uc002rsk.2,uc002rtr.2,uc002ruy.2,uc002siw.2,uc002ssg.1,uc002swo.2,uc002szv.2,uc002tab.2,uc002tcb.2,uc002tkx.1,uc002tpf.2,uc002unq.1,uc002uyw.1,uc002vkc.1,uc002vnm.2,uc002vqz.2,uc002vwh.2,uc002wbe.1,uc002wea.2,uc002wed.3,uc002wid.2,uc002wqh.2,uc002wyh.2,uc002wzu.3,uc002xft.2,uc002xhc.2,uc002xjd.2,uc002xqz.2,uc002xvy.1,uc002ybs.2,uc002yce.3,uc002ypn.2,uc002ysa.2,uc002yvr.2,uc002zrq.2,uc002ztf.2,uc002zww.2,uc003aam.1,uc003abu.2,uc003acg.2,uc003afx.3,uc003apk.1,uc003aul.2,uc003avg.1,uc003ayb.2,uc003blw.3,uc003com.2,uc003dgo.2,uc003dyk.3,uc003eck.1,uc003elq.3,uc003eue.2,uc003fdn.2,uc003ffs.1,uc003fft.2,uc003fjs.2,uc003fkl.2,uc003fkx.2,uc003ftq.1,uc003fvy.2,uc003fwm.3,uc003ghq.1,uc003hti.2,uc003imv.2,uc003ivd.1,uc003jao.3,uc003jff.2,uc003jfm.3,uc003jfx.2,uc003jjd.2,uc003juf.2,uc003jvm.2,uc003kbt.3,uc003mbh.2,uc003mco.1,uc003mcq.2,uc003ncj.2,uc003ngs.2,uc003nii.2,uc003ols.2,uc003omu.2,uc003onq.3,uc003ork.2,uc003ovp.2,uc003ovy.1,uc003owk.2,uc003pbw.1,uc003pcd.1,uc003pmz.2,uc003pqk.2,uc003qht.2,uc003qiw.2,uc003qob.2,uc003qya.2,uc003slm.2,uc003smi.2,uc003smv.2,uc003spu.2,uc003sqg.2,uc003swb.2,uc003sxl.2,uc003sxq.2,uc003syt.2,uc003tdk.2,uc003tma.2,uc003tmc.2,uc003uaj.2,uc003upl.2,uc003uyd.2,uc003vcv.2,uc003von.1,uc003wef.2,uc003wlp.2,uc003wnk.2,uc003wqo.2,uc003xgg.2,uc003xke.3,uc003xkk.2,uc003xxp.1,uc003xyi.1,uc003xzi.2,uc003ymg.1,uc003yxz.2,uc003zax.2,uc003zin.2,uc003zvb.2,uc003zwd.2,uc003zxm.1,uc004acc.3,uc004acl.2,uc004aqh.2,uc004aso.1,uc004auo.2,uc004awt.2,uc004axd.1,uc004aym.2,uc004bax.2,uc004bfj.3,uc004btq.1,uc004buq.1,uc004byf.1,uc004byq.1,uc004dbc.2,uc004dtz.2,uc004dxd.3,uc004dzp.2,uc004eer.2,uc004elw.2,uc004emz.2,uc004fjs.1,uc004fmm.2,uc004fmv.2,uc009vni.2,uc009vxw.2,uc009xgg.1,uc009xvo.2,uc009ykz.1,uc009yrj.2,uc009zoe.1,uc010avr.2,uc010bby.2,uc010csn.1,uc010cta.1,uc010cwu.1,uc010dcl.2,uc010dgt.2,uc010dka.1,uc010eqn.2,uc010fea.2,uc010ffl.2,uc010get.2,uc010gmw.1,uc010gti.1,uc010icp.2,uc010ild.2,uc010kus.1,uc010mbr.2,uc010mbu.2,uc010mdq.2,uc010ncb.2,uc010nhv.2,uc010oic.1,uc010ous.1,uc010pbc.1,uc010pgp.1,uc010pgw.1,uc010pki.1,uc010qic.1,uc010qig.1,uc010qlf.1,uc010qqd.1,uc010qwl.1,uc010rho.1,uc010rpd.1,uc010sgp.1,uc010sgs.1,uc010tak.1,uc010ufl.1,uc010uin.1,uc010uxg.1,uc010vjt.1,uc010vkc.1,uc010vxg.1,uc010vyd.1,uc010wcy.1,uc010wdq.1,uc010wks.1,uc010ydl.1,uc010yfy.1,uc010yqa.1,uc011aoy.1,uc011byb.1,uc011cea.1,uc011dgx.1,uc011dio.1,uc011dmw.1,uc011dvj.1,uc011edt.1,uc011jwp.1,uc011mod.1,uc011mri.1,uc011mya.1,uc011myr.1 | L35: 0.11002229 | M35: 2.04e-20 | N35: 9.02e-14 | O35: 1.11e-13 | P35: 5.77e-12
A36: MIMAT0004678 | B36: hsa-miR-99b-3p | C36: -0.27286948 | D36: =IF(COUNTIF('TDP-43 miRNAs'!A$2:A$86,A36)>0,"yes","") | E36: =IF(COUNTIF('LUSC TDP-43 Correlations'!$A$2:$A$1038,$A36)>0,LOOKUP($A36,'LUSC TDP-43 Correlations'!$A$2:$A$1038,'LUSC TDP-43 Correlations'!C$2:C$1038),"n/a") -> 0.058392451 | F36: =IF(COUNTIF('LUSC TDP-43 Correlations'!$A$2:$A$1038,$A36)>0,LOOKUP($A36,'LUSC TDP-43 Correlations'!$A$2:$A$1038,'LUSC TDP-43 Correlations'!E$2:E$1038),"n/a") -> 3.0531085e-05 | G36: 0.7048355 | H36: 303 | I36: 112 | J36: 0.68 | K36: uc001aeo.2,uc001chl.2,uc001dnq.2,uc001fjz.1,uc001gdp.2,uc001hlg.3,uc001hpq.2,uc001jof.2,uc001nvb.2,uc001nzq.1,uc001pcm.3,uc001sqp.2,uc001ssb.2,uc001tde.2,uc001tdl.2,uc001tfl.2,uc001tlk.2,uc001uml.2,uc001utj.2,uc001vje.2,uc001vvk.1,uc001wja.2,uc001wyu.2,uc001xmf.2,uc001zmx.1,uc001zql.2,uc001zwv.2,uc002bcd.2,uc002bgq.1,uc002buz.2,uc002dtt.1,uc002eeh.2,uc002ern.1,uc002erz.2,uc002fgo.2,uc002grm.2,uc002hfp.2,uc002jrm.3,uc002kth.1,uc002lfc.3,uc002lfg.1,uc002luh.2,uc002mpn.2,uc002mpq.2,uc002qjw.3,uc002rbz.1,uc002rek.3,uc002rid.2,uc002rpa.1,uc002sjs.2,uc002tfj.3,uc002tkx.1,uc002tpt.3,uc002txg.2,uc002ujz.3,uc002ycp.1,uc002zvg.3,uc002zvi.3,uc002zvk.3,uc002zyz.3,uc003avk.2,uc003bxv.1,uc003fao.1,uc003fix.3,uc003fmc.2,uc003fup.2,uc003gdi.1,uc003gem.2,uc003ifm.2,uc003imj.2,uc003iqc.2,uc003iqq.3,uc003izf.2,uc003jhj.3,uc003kog.1,uc003kuu.2,uc003naw.2,uc003ncn.1,uc003nve.2,uc003pnz.1,uc003pxt.1,uc003qem.1,uc003qfa.2,uc003thf.2,uc003vnf.2,uc003xwa.2,uc003ycl.2,uc003you.2,uc003yov.2,uc004ajo.3,uc004arj.1,uc004byf.1,uc004dag.2,uc004dex.3,uc004dxd.3,uc004exl.3,uc004fjm.1,uc009vxv.2,uc009zwi.2,uc010csn.1,uc010ddc.2,uc010gti.1,uc010lqs.2,uc010nez.2,uc010nlz.2,uc010ojl.1,uc010ous.1,uc010pnq.1,uc010pwa.1,uc010tyc.1,uc010wyu.1,uc011mxq.1 | L36: 0.11658475 | M36: 1.4e-08 | N36: 9.21e-07 | O36: 9.67e-07 | P36: 5.9e-05
A37: MIMAT0004694 | B37: hsa-miR-342-5p | C37: -0.14580661 | D37: =IF(COUNTIF('TDP-43 miRNAs'!A$2:A$86,A37)>0,"yes","") | E37: =IF(COUNTIF('LUSC TDP-43 Correlations'!$A$2:$A$1038,$A37)>0,LOOKUP($A37,'LUSC TDP-43 Correlations'!$A$2:$A$1038,'LUSC TDP-43 Correlations'!C$2:C$1038),"n/a") -> 0.0047636544 | F37: =IF(COUNTIF('LUSC TDP-43 Correlations'!$A$2:$A$1038,$A37)>0,LOOKUP($A37,'LUSC TDP-43 Correlations'!$A$2:$A$1038,'LUSC TDP-43 Correlations'!E$2:E$1038),"n/a") -> 0.30217573 | G37: 0.67413278 | H37: 511 | I37: 185 | J37: 1.12 | K37: uc001akg.3,uc001amx.2,uc001apz.2,uc001axe.1,uc001chv.2,uc001chx.3,uc001cik.2,uc001cob.2,uc001cxx.3,uc001dyo.2,uc001ejt.2,uc001ekw.2,uc001etj.1,uc001ewn.2,uc001ezn.2,uc001fgk.3,uc001foc.3,uc001fpl.2,uc001gyv.1,uc001hhr.1,uc001hjt.2,uc001hvi.2,uc001kjj.2,uc001lej.1,uc001mfj.3,uc001msw.1,uc001mwh.2,uc001nsg.2,uc001nxt.2,uc001ofe.2,uc001oun.1,uc001ozi.2,uc001per.2,uc001pfu.2,uc001pwh.2,uc001qqz.1,uc001qzz.2,uc001san.2,uc001sex.2,uc001sfl.2,uc001slf.2,uc001sps.3,uc001stn.2,uc001tyi.2,uc001ual.1,uc001ubi.2,uc001ugy.2,uc001uhc.2,uc001uks.1,uc001ull.1,uc001vfp.2,uc001vvk.1,uc001zhe.1,uc002avv.1,uc002avx.2,uc002bpk.3,uc002buz.2,uc002cgf.2,uc002cqy.3,uc002dcv.2,uc002deq.2,uc002ead.1,uc002emy.2,uc002esj.2,uc002fdl.1,uc002fyi.3,uc002gkr.2,uc002gks.2,uc002hky.2,uc002hxt.2,uc002hyx.2,uc002idg.2,uc002ifm.1,uc002jbr.2,uc002jmm.2,uc002kzw.1,uc002mxo.2,uc002nfq.2,uc002nkk.2,uc002oam.1,uc002omq.2,uc002oxc.1,uc002pbn.2,uc002pft.1,uc002pgc.2,uc002pgd.2,uc002pnt.2,uc002pqn.3,uc002qtc.2,uc002rce.2,uc002rmo.2,uc002siz.2,uc002slz.2,uc002tkq.2,uc002tzd.3,uc002vmq.2,uc002wdj.2,uc002wid.2,uc002wjf.1,uc002xba.1,uc002xpk.2,uc002xwo.2,uc002yac.1,uc002ybc.2,uc002ybs.2,uc002ycp.1,uc002yea.3,uc002zop.2,uc002zou.2,uc002zrq.2,uc003adj.2,uc003afh.2,uc003ato.1,uc003atp.2,uc003bab.2,uc003bhw.1,uc003bsh.2,uc003epy.2,uc003fbt.2,uc003fpj.2,uc003fvv.1,uc003gmn.2,uc003hkr.2,uc003ink.1,uc003jba.2,uc003nbj.2,uc003nqe.1,uc003nxz.1,uc003otk.2,uc003pdx.2,uc003qsr.2,uc003qtb.2,uc003spp.2,uc003tal.1,uc003tkm.2,uc003tlw.2,uc003tyr.2,uc003upl.2,uc003usu.2,uc003vcv.2,uc003vee.2,uc003vwi.2,uc003wcz.2,uc003wja.1,uc003wld.2,uc003xyx.1,uc003yod.2,uc003zbv.3,uc003ztt.2,uc004aya.2,uc004bph.1,uc004bqa.2,uc004dlc.1,uc004dlq.2,uc004dtz.2,uc004flo.2,uc004fmv.2,uc009zyh.2,uc010bkb.1,uc010clp.1,uc010cxb.2,uc010exz.1,uc010fac.2,uc010fyv.2,uc010gcm.1,uc010get.2,uc010hma.2,uc010ijr.1,uc010jkr.2,uc010kyl.2,uc010lxk.2,uc010mbu.2,uc010qha.1,uc010qtb.1,uc010rzt.1,uc010umg.1,uc010vjt.1,uc010wdq.1,uc010xil.1,uc010zwq.1,uc011dia.1,uc011dvc.1,uc011kyw.1,uc011ldb.1,uc011mzo.1 | L37: 0.24175355 | M37: 2.85e-12 | N37: 4.04e-08 | O37: 4.38e-08 | P37: 2.59e-06
A38: MIMAT0004614 | B38: hsa-miR-193a-5p | C38: -0.13651602 | D38: =IF(COUNTIF('TDP-43 miRNAs'!A$2:A$86,A38)>0,"yes","") | E38: =IF(COUNTIF('LUSC TDP-43 Correlations'!$A$2:$A$1038,$A38)>0,LOOKUP($A38,'LUSC TDP-43 Correlations'!$A$2:$A$1038,'LUSC TDP-43 Correlations'!C$2:C$1038),"n/a") -> 0.0048611889 | F38: =IF(COUNTIF('LUSC TDP-43 Correlations'!$A$2:$A$1038,$A38)>0,LOOKUP($A38,'LUSC TDP-43 Correlations'!$A$2:$A$1038,'LUSC TDP-43 Correlations'!E$2:E$1038),"n/a") -> 0.29822052 | G38: 0.7346191 | H38: 663 | I38: 249 | J38: 1.5 | K38: uc001afh.2,uc001alf.2,uc001bgw.2,uc001bys.2,uc001chs.2,uc001cvf.1,uc001dlh.2,uc001dlr.3,uc001egy.2,uc001epg.1,uc001etf.2,uc001gqt.3,uc001gqu.3,uc001grc.1,uc001grl.2,uc001hny.3,uc001icq.1,uc001ifh.2,uc001iia.2,uc001iva.3,uc001jrm.2,uc001jsx.1,uc001jts.1,uc001kjj.2,uc001krq.3,uc001lgy.1,uc001mjx.2,uc001mkz.2,uc001msc.2,uc001mxj.2,uc001nrv.2,uc001nua.2,uc001ocq.1,uc001okp.1,uc001opm.2,uc001ouw.2,uc001per.2,uc001pnj.3,uc001psp.1,uc001qcd.2,uc001qfc.3,uc001rez.2,uc001rke.2,uc001rlm.2,uc001rpc.2,uc001rsq.3,uc001slf.2,uc001smy.2,uc001soj.1,uc001sol.1,uc001svw.1,uc001tau.2,uc001tfl.2,uc001tkb.1,uc001twd.2,uc001twz.2,uc001uda.2,uc001vfp.2,uc001vvl.3,uc001xfb.3,uc001xfc.2,uc001xim.3,uc001xti.2,uc001xzl.3,uc001ygy.1,uc001ypq.3,uc001zii.2,uc001zlk.1,uc001zlw.2,uc001zsu.2,uc002ahf.3,uc002dlw.2,uc002eca.3,uc002eer.1,uc002eof.1,uc002exp.2,uc002fwp.2,uc002haz.2,uc002hyu.2,uc002ikv.2,uc002iky.2,uc002iqm.2,uc002jbb.2,uc002jgi.3,uc002jgj.3,uc002jne.2,uc002jtk.3,uc002kaq.2,uc002kco.3,uc002kfn.2,uc002kmi.2,uc002ktq.2,uc002kwl.3,uc002lic.2,uc002liz.3,uc002lro.2,uc002ltn.2,uc002ltt.3,uc002moy.1,uc002nav.2,uc002nei.1,uc002nid.2,uc002njp.2,uc002nup.2,uc002oam.1,uc002ocp.2,uc002ojy.2,uc002okh.2,uc002pbb.1,uc002pem.2,uc002qld.2,uc002qry.1,uc002ren.2,uc002rix.1,uc002rtr.2,uc002see.1,uc002srg.3,uc002tsz.3,uc002uih.2,uc002ukb.1,uc002upo.2,uc002upt.2,uc002uyq.2,uc002vfy.2,uc002vlj.2,uc002wen.3,uc002wfc.2,uc002wgm.1,uc002xaf.2,uc002xfp.2,uc002xfq.2,uc002xfs.2,uc002xft.2,uc002xiq.1,uc002xvw.1,uc002yvr.2,uc002zvg.3,uc002zyl.1,uc003aco.1,uc003avv.2,uc003bcj.1,uc003bck.1,uc003bxv.1,uc003crq.2,uc003dtw.2,uc003dvg.2,uc003dxb.3,uc003edr.2,uc003efe.2,uc003ehv.3,uc003eop.3,uc003etv.2,uc003euy.1,uc003fdn.2,uc003fdp.1,uc003fjk.2,uc003flb.2,uc003fuu.3,uc003fxh.2,uc003ggl.2,uc003hau.2,uc003hje.3,uc003inh.2,uc003jff.2,uc003jpq.2,uc003juf.2,uc003lay.2,uc003lbp.2,uc003mxt.1,uc003nil.3,uc003npa.2,uc003nve.2,uc003orl.2,uc003otk.2,uc003oyv.2,uc003pbi.2,uc003pbx.2,uc003pdg.2,uc003pmy.3,uc003qiw.2,uc003qrf.2,uc003qrg.2,uc003sqg.2,uc003tin.1,uc003tod.1,uc003uac.1,uc003uon.2,uc003usf.2,uc003uug.1,uc003uzl.2,uc003uzp.1,uc003vwc.3,uc003wlp.2,uc003xoo.2,uc003xvl.2,uc003yav.2,uc003yeu.3,uc003yhy.2,uc003yln.2,uc003yqh.3,uc003yrr.2,uc003ywo.2,uc003yzo.1,uc003zbv.3,uc003zfc.3,uc003znk.2,uc003zua.3,uc003zvb.2,uc003zwd.2,uc003zxm.1,uc004asl.1,uc004aso.1,uc004asp.1,uc004awt.2,uc004bfj.3,uc004cqi.1,uc004dzp.2,uc004ehd.2,uc004exs.2,uc004fae.1,uc004fjs.1,uc009wbt.1,uc009xgg.1,uc010cxb.2,uc010enq.1,uc010gbn.1,uc010gti.1,uc010gto.2,uc010hcw.1,uc010hxo.2,uc010jza.1,uc010mdq.2,uc010mgc.2,uc010nlz.2,uc010oef.1,uc010osj.1,uc010rcq.1,uc010rnu.1,uc010sfh.1,uc010sfi.1,uc010ths.1,uc010wvp.1,uc010xyn.1,uc010ymc.1,uc010zpy.1,uc011edt.1,uc011jza.1,uc011kqy.1,uc011mca.1 | L38: 0.35582202 | M38: 5.33e-18 | N38: 1.32e-10 | O38: 1.53e-10 | P38: 8.43e-09
A39: MIMAT0000100 | B39: hsa-miR-29b-3p | C39: -0.1328958 | D39: =IF(COUNTIF('TDP-43 miRNAs'!A$2:A$86,A39)>0,"yes","") -> yes | E39: =IF(COUNTIF('LUSC TDP-43 Correlations'!$A$2:$A$1038,$A39)>0,LOOKUP($A39,'LUSC TDP-43 Correlations'!$A$2:$A$1038,'LUSC TDP-43 Correlations'!C$2:C$1038),"n/a") -> 0.023275662 | F39: =IF(COUNTIF('LUSC TDP-43 Correlations'!$A$2:$A$1038,$A39)>0,LOOKUP($A39,'LUSC TDP-43 Correlations'!$A$2:$A$1038,'LUSC TDP-43 Correlations'!E$2:E$1038),"n/a") -> 0.012424685 | G39: 0.67572309 | H39: 1360 | I39: 490 | J39: 2.96 | K39: uc001amg.2,uc001apz.2,uc001ayc.1,uc001bal.2,uc001bbd.2,uc001bkw.1,uc001bpr.2,uc001bys.2,uc001cca.1,uc001cgk.3,uc001chv.2,uc001chx.3,uc001ckz.2,uc001crm.2,uc001ctk.2,uc001cue.2,uc001cyz.3,uc001ddv.2,uc001dnq.2,uc001dot.2,uc001ecy.2,uc001ent.1,uc001etw.2,uc001evu.2,uc001ewp.2,uc001ewq.2,uc001ewy.2,uc001fcd.1,uc001fcp.2,uc001fgb.2,uc001fmh.1,uc001fmj.1,uc001fps.1,uc001gdj.3,uc001geo.2,uc001gfg.2,uc001gic.1,uc001gqa.2,uc001gtx.1,uc001gxc.2,uc001gyf.2,uc001gyu.1,uc001gyv.1,uc001hdb.2,uc001hhp.1,uc001hlf.1,uc001hrb.2,uc001htl.3,uc001hul.2,uc001hwl.2,uc001iba.1,uc001ibf.1,uc001iew.1,uc001ild.3,uc001iva.3,uc001jas.2,uc001jok.3,uc001joo.2,uc001jqr.2,uc001jqs.2,uc001jsr.1,uc001jss.1,uc001jvz.1,uc001jzn.2,uc001kai.2,uc001knd.1,uc001kpa.1,uc001kqa.3,uc001ktt.2,uc001kwv.2,uc001law.2,uc001lcd.2,uc001lkm.1,uc001men.2,uc001mjx.2,uc001mkz.2,uc001muh.2,uc001mup.3,uc001mvg.2,uc001mvt.2,uc001mwu.3,uc001mxj.2,uc001ngo.3,uc001nqm.2,uc001ntq.1,uc001nva.2,uc001nvb.2,uc001ocp.2,uc001okr.2,uc001old.2,uc001ovb.1,uc001owr.2,uc001oyj.2,uc001pbq.2,uc001pdg.2,uc001peu.2,uc001pex.2,uc001pfn.2,uc001pfu.2,uc001plx.1,uc001pmx.2,uc001pru.1,uc001qie.1,uc001qkz.2,uc001qny.1,uc001qyq.1,uc001qyt.2,uc001qzz.2,uc001rwv.2,uc001sdg.1,uc001sdv.2,uc001sit.3,uc001smy.2,uc001sqr.2,uc001stn.2,uc001tau.2,uc001tkg.2,uc001tyg.2,uc001ucr.2,uc001uew.2,uc001uhc.2,uc001uii.2,uc001urq.2,uc001uxn.2,uc001vpq.3,uc001vvl.3,uc001wgm.2,uc001whz.2,uc001wtl.2,uc001wuq.2,uc001xcx.3,uc001xfb.3,uc001xhp.2,uc001xqm.1,uc001ygy.1,uc001yqb.2,uc001znm.3,uc002ahf.3,uc002ank.2,uc002aon.2,uc002avv.1,uc002avx.2,uc002bbu.1,uc002bfw.1,uc002bgq.1,uc002bly.2,uc002bnc.2,uc002box.2,uc002bvv.1,uc002chg.2,uc002cmg.2,uc002crd.2,uc002czf.3,uc002dfk.1,uc002dgq.2,uc002dhu.1,uc002dlv.2,uc002dly.1,uc002dru.2,uc002dtx.2,uc002dtz.1,uc002dzd.3,uc002eek.1,uc002era.2,uc002esj.2,uc002ewl.2,uc002fcq.2,uc002fku.2,uc002fwp.2,uc002fxs.2,uc002gox.2,uc002hcs.2,uc002hez.1,uc002hfp.2,uc002hhm.2,uc002hyu.2,uc002ihn.2,uc002iky.2,uc002ilt.1,uc002ioh.2,uc002ioi.2,uc002iqm.2,uc002iqt.2,uc002iwj.2,uc002jfy.2,uc002jnl.2,uc002jtk.3,uc002kkf.1,uc002krr.2,uc002kui.3,uc002kwl.3,uc002kwu.3,uc002lih.1,uc002lqg.2,uc002lqm.1,uc002lzg.2,uc002mjb.2,uc002mmq.1,uc002mum.1,uc002mye.2,uc002nas.2,uc002nec.1,uc002nly.2,uc002nnb.3,uc002nsf.2,uc002nvh.1,uc002oam.1,uc002olu.1,uc002onf.2,uc002oqb.3,uc002osz.1,uc002own.3,uc002pbb.1,uc002pbj.2,uc002pdc.2,uc002plp.2,uc002qkj.3,uc002qoq.2,uc002qsv.1,uc002rek.3,uc002rkp.2,uc002rnv.1,uc002roc.2,uc002rqa.3,uc002rsk.2,uc002rtr.2,uc002rya.2,uc002ryl.2,uc002sbt.2,uc002sdj.2,uc002sei.1,uc002sgq.3,uc002skb.3,uc002sqc.2,uc002sqw.2,uc002srr.2,uc002ste.2,uc002svv.1,uc002tfb.2,uc002tnl.2,uc002txg.2,uc002tyh.3,uc002uea.2,uc002uhs.2,uc002ujz.3,uc002ukb.1,uc002uqj.1,uc002uqk.2,uc002uwc.2,uc002vkc.1,uc002vqd.1,uc002vta.2,uc002vvn.2,uc002vyo.1,uc002wdh.2,uc002wea.2,uc002wen.3,uc002wfc.2,uc002wim.2,uc002wqi.1,uc002wrs.2,uc002wuy.2,uc002wwp.1,uc002wxd.2,uc002wyh.2,uc002wzu.3,uc002xaf.2,uc002xkc.2,uc002xmj.2,uc002xya.2,uc002ybb.2,uc002ycb.2,uc002ycp.1,uc002ydy.2,uc002yhl.1,uc002zpv.1,uc002ztf.2,uc002zww.2,uc003aam.1,uc003adk.2,uc003agp.1,uc003ajj.2,uc003alp.3,uc003avp.1,uc003avq.1,uc003bab.2,uc003bac.2,uc003bhg.1,uc003brn.3,uc003crq.2,uc003ctz.2,uc003dsb.1,uc003dtz.1,uc003dvg.2,uc003dyk.3,uc003edr.2,uc003efe.2,uc003ehl.3,uc003eho.2,uc003ehv.3,uc003ejg.2,uc003ejp.2,uc003ekh.2,uc003eqv.1,uc003etv.2,uc003ewa.2,uc003exk.2,uc003ext.1,uc003exu.1,uc003ezq.2,uc003fdn.2,uc003fdp.1,uc003fez.2,uc003fgs.2,uc003fjr.1,uc003fkl.2,uc003flb.2,uc003flk.2,uc003fms.2,uc003fmz.2,uc003foz.2,uc003fpv.2,uc003fqg.2,uc003fqi.2,uc003fsh.2,uc003fwa.3,uc003fwm.3,uc003fyi.2,uc003gbe.2,uc003gmn.2,uc003gtg.2,uc003huf.3,uc003hzb.1,uc003ick.2,uc003iec.3,uc003igr.2,uc003inh.2,uc003ivd.1,uc003jbr.2,uc003jcy.2,uc003jeo.2,uc003jeq.2,uc003jfk.2,uc003jfx.2,uc003jhr.1,uc003jhs.2,uc003jkd.2,uc003jkf.3,uc003kbt.3,uc003kog.1,uc003kud.1,uc003kuu.2,uc003mae.3,uc003mda.2,uc003mvc.2,uc003nbj.2,uc003nks.1,uc003nql.2,uc003oes.2,uc003ojw.1,uc003oko.1,uc003ont.2,uc003ovp.2,uc003owk.2,uc003oxd.2,uc003pbx.2,uc003pky.2,uc003prd.2,uc003qiw.2,uc003qmz.2,uc003qnt.2,uc003qrm.3,uc003qwt.2,uc003smp.2,uc003spo.2,uc003swk.2,uc003szi.2,uc003tba.2,uc003thz.1,uc003tlw.2,uc003tvw.3,uc003ufa.2,uc003ung.1,uc003uon.2,uc003vda.1,uc003vli.2,uc003vmb.1,uc003vnq.2,uc003vsy.2,uc003vuc.2,uc003vux.2,uc003wfm.2,uc003wfo.2,uc003wfu.2,uc003wme.2,uc003xdh.1,uc003xih.1,uc003xke.3,uc003xnt.2,uc003xoo.2,uc003xry.2,uc003xxe.2,uc003yav.2,uc003yhy.2,uc003ykb.2,uc003ykr.1,uc003ykw.1,uc003yky.2,uc003ynb.3,uc003yod.2,uc003ypn.2,uc003ypr.2,uc003yrk.2,uc003yyx.1,uc003zdv.3,uc003ztt.2,uc003zua.3,uc003zzx.2,uc004auo.2,uc004axq.2,uc004bax.2,uc004bcu.1,uc004bhn.2,uc004bpn.2,uc004bvu.3,uc004bxc.2,uc004cdm.2,uc004cfe.2,uc004cqi.1,uc004cqk.1,uc004crg.3,uc004dag.2,uc004dax.2,uc004drz.2,uc004dsg.2,uc004dvo.2,uc004emm.2,uc004err.2,uc004esn.1,uc009wbt.1,uc009woj.1,uc009xgg.1,uc009yoz.2,uc010bfn.2,uc010cbf.1,uc010cdw.1,uc010cta.1,uc010cwu.1,uc010dka.1,uc010eqn.2,uc010fra.2,uc010git.1,uc010hcw.1,uc010iam.1,uc010ijr.1,uc010ild.2,uc010kyl.2,uc010mdl.2,uc010mdq.2,uc010mnd.1,uc010njt.2,uc010pou.1,uc010qat.1,uc010qcp.1,uc010qha.1,uc010qqd.1,uc010qya.1,uc010rgq.1,uc010rjx.1,uc010sqm.1,uc010ssw.1,uc010ths.1,uc010tqf.1,uc010wyu.1,uc010xbj.1,uc010ydl.1,uc010ymc.1,uc010zex.1,uc010zhx.1,uc010zkm.1,uc011aoy.1,uc011byb.1,uc011cea.1,uc011dio.1,uc011edt.1,uc011jwp.1,uc011kui.1,uc011mmo.1,uc011mod.1,uc011mwf.1 | L39: 0.39882152 | M39: 5.62e-29 | N39: 4.6e-16 | O39: 6.69e-16 | P39: 2.94e-14
A40: MIMAT0000415 | B40: hsa-let-7i-5p | C40: -0.056716672 | D40: =IF(COUNTIF('TDP-43 miRNAs'!A$2:A$86,A40)>0,"yes","") -> yes | E40: =IF(COUNTIF('LUSC TDP-43 Correlations'!$A$2:$A$1038,$A40)>0,LOOKUP($A40,'LUSC TDP-43 Correlations'!$A$2:$A$1038,'LUSC TDP-43 Correlations'!C$2:C$1038),"n/a") -> 0.0013801542 | F40: =IF(COUNTIF('LUSC TDP-43 Correlations'!$A$2:$A$1038,$A40)>0,LOOKUP($A40,'LUSC TDP-43 Correlations'!$A$2:$A$1038,'LUSC TDP-43 Correlations'!E$2:E$1038),"n/a") -> 0.6142378 | G40: 0.71529183 | H40: 1152 | I40: 426 | J40: 2.57 | K40: uc001alf.2,uc001amg.2,uc001bgw.2,uc001bht.2,uc001bnx.2,uc001bvd.2,uc001bzg.1,uc001bzp.2,uc001ccn.3,uc001cgk.3,uc001ctk.2,uc001cue.2,uc001cxy.2,uc001ewy.2,uc001fbs.2,uc001fcp.2,uc001fjm.2,uc001fna.2,uc001fpf.2,uc001gag.2,uc001gah.2,uc001gdo.2,uc001gjh.1,uc001gxx.3,uc001hdz.1,uc001hiv.2,uc001hom.1,uc001hqd.3,uc001hst.1,uc001hwn.2,uc001iaj.2,uc001ibu.1,uc001ilk.2,uc001ind.2,uc001jas.2,uc001jiu.2,uc001jof.2,uc001jok.3,uc001jzn.2,uc001kqa.3,uc001kwv.2,uc001kwy.1,uc001kyp.1,uc001kze.2,uc001lml.1,uc001msw.1,uc001nrl.1,uc001nrv.2,uc001nrz.1,uc001ntw.2,uc001nua.2,uc001nuf.2,uc001nve.2,uc001nxt.2,uc001odm.2,uc001odu.3,uc001okr.2,uc001ovb.1,uc001owk.1,uc001oyh.3,uc001oyi.1,uc001ozi.2,uc001pex.2,uc001pfe.2,uc001pnj.3,uc001pxt.2,uc001qiq.2,uc001qlh.2,uc001qnr.2,uc001qpq.1,uc001rdz.3,uc001rez.2,uc001san.2,uc001sck.2,uc001sdg.1,uc001sdv.2,uc001sfe.1,uc001sjm.2,uc001sli.3,uc001sml.1,uc001smy.2,uc001sol.1,uc001sqr.2,uc001ssx.2,uc001stn.2,uc001svv.2,uc001svw.1,uc001sxt.2,uc001tqk.3,uc001tvm.2,uc001tvn.3,uc001tyg.2,uc001ujy.3,uc001vbw.1,uc001vjq.2,uc001wja.2,uc001wwa.1,uc001wxu.2,uc001wzv.2,uc001xcx.3,uc001xim.3,uc001xjs.2,uc001yok.2,uc001zhj.2,uc001zmd.1,uc001zyu.2,uc002abp.2,uc002ahf.3,uc002amu.1,uc002axh.1,uc002aya.2,uc002azr.3,uc002bbk.2,uc002bct.1,uc002bdy.2,uc002bjl.1,uc002cgz.2,uc002cha.2,uc002cqy.3,uc002cry.1,uc002daw.1,uc002dhu.1,uc002dkj.1,uc002dtt.1,uc002duv.2,uc002eau.2,uc002ebf.2,uc002ewg.1,uc002exp.2,uc002fda.2,uc002fgo.2,uc002fgu.2,uc002fne.2,uc002frp.2,uc002ggt.1,uc002gkr.2,uc002gks.2,uc002gox.2,uc002gqz.2,uc002grd.2,uc002gsp.2,uc002hbp.2,uc002hez.1,uc002hju.2,uc002hne.2,uc002hoi.1,uc002huq.2,uc002ibi.2,uc002idt.2,uc002ihn.2,uc002ijk.3,uc002iky.2,uc002iph.1,uc002iqm.2,uc002iuu.2,uc002jrp.1,uc002juw.2,uc002jwk.2,uc002jzu.1,uc002ksl.1,uc002ktq.2,uc002kui.3,uc002kzb.2,uc002kzc.2,uc002lar.1,uc002lov.2,uc002lvr.2,uc002mfg.1,uc002mpm.2,uc002mxe.2,uc002mxt.2,uc002nav.2,uc002nhc.1,uc002nvh.1,uc002oam.1,uc002onf.2,uc002oqb.3,uc002pbq.1,uc002qoi.1,uc002qpk.2,uc002qwf.2,uc002rah.2,uc002rcm.2,uc002rek.3,uc002ric.2,uc002rjd.2,uc002rkf.1,uc002ros.2,uc002rrf.2,uc002rxk.1,uc002sav.3,uc002sei.1,uc002sfu.2,uc002sjp.2,uc002skb.3,uc002sle.2,uc002sll.1,uc002sox.3,uc002srs.3,uc002ssg.1,uc002ste.2,uc002svv.1,uc002swo.2,uc002sxd.3,uc002sxh.3,uc002taw.3,uc002tcb.2,uc002thu.2,uc002tpf.2,uc002tpj.2,uc002tsy.3,uc002tyn.2,uc002uea.2,uc002ugk.2,uc002uhh.2,uc002ujz.3,uc002uqj.1,uc002uqk.2,uc002uuq.2,uc002uwc.2,uc002viy.2,uc002vmq.2,uc002wed.3,uc002wlp.2,uc002wqh.2,uc002wuz.2,uc002wxn.2,uc002wyh.2,uc002xab.2,uc002xaf.2,uc002xgi.2,uc002xvy.1,uc002yea.3,uc002yhl.1,uc002ykj.1,uc002znm.2,uc002zur.3,uc002zwc.1,uc002zxx.2,uc002zyh.2,uc002zyl.1,uc002zyy.3,uc003anl.2,uc003anw.1,uc003apc.2,uc003avk.2,uc003aww.2,uc003bfi.2,uc003bga.3,uc003bsh.2,uc003crq.2,uc003cyj.2,uc003dcu.2,uc003eag.3,uc003eci.2,uc003edz.3,uc003ege.2,uc003eps.2,uc003euc.2,uc003eud.2,uc003eue.2,uc003evo.2,uc003exu.1,uc003eya.2,uc003ezq.2,uc003fdn.2,uc003fhc.3,uc003fkl.2,uc003flk.2,uc003flz.2,uc003fmg.2,uc003fms.2,uc003fpj.2,uc003fqt.2,uc003fsh.2,uc003fyr.2,uc003gbe.2,uc003grf.2,uc003hwt.3,uc003ifm.2,uc003ihu.1,uc003imv.2,uc003inh.2,uc003iqq.3,uc003isz.3,uc003iwi.2,uc003jdo.2,uc003jdw.2,uc003jfx.2,uc003jhs.2,uc003jjd.2,uc003jme.1,uc003jmo.2,uc003jpq.2,uc003kbt.3,uc003knb.2,uc003kud.1,uc003ldr.2,uc003mek.1,uc003mnc.1,uc003mxt.1,uc003nii.2,uc003nil.3,uc003nrg.3,uc003nrl.2,uc003ofa.1,uc003onq.3,uc003ork.2,uc003oux.2,uc003ouy.1,uc003pdx.2,uc003pjv.2,uc003pky.2,uc003pmz.2,uc003pqk.2,uc003pzr.2,uc003qem.1,uc003soo.2,uc003stj.2,uc003swa.2,uc003swb.2,uc003syt.2,uc003tlw.2,uc003tte.2,uc003tui.2,uc003uac.1,uc003ung.1,uc003uqj.2,uc003uxv.3,uc003vea.2,uc003vee.2,uc003veh.2,uc003vor.2,uc003vos.2,uc003vsy.2,uc003vuv.2,uc003wld.2,uc003wmm.2,uc003wnm.1,uc003xdb.1,uc003xkk.2,uc003xlf.3,uc003xlj.2,uc003xxp.1,uc003xzi.2,uc003yeu.3,uc003yfz.2,uc003yhc.2,uc003yhy.2,uc003yia.2,uc003ylk.2,uc003yqh.3,uc003yra.3,uc003yvl.2,uc003yyd.2,uc003yzo.1,uc003zcj.2,uc003zcz.2,uc003zin.2,uc003zzx.2,uc004aay.2,uc004ajo.3,uc004auo.2,uc004avh.2,uc004aym.2,uc004bas.2,uc004bcu.1,uc004bfh.2,uc004bfj.3,uc004bjj.3,uc004buz.3,uc004ccc.1,uc004cuv.1,uc004dbm.2,uc004dhj.3,uc004dlc.1,uc004dlq.2,uc004dsg.2,uc004dzp.2,uc004ehj.1,uc009vxv.2,uc009wzz.1,uc009zwi.2,uc010dsn.2,uc010dxa.2,uc010edf.2,uc010fac.2,uc010hbf.2,uc010hre.1,uc010iai.2,uc010igz.1,uc010kyl.2,uc010kzy.2,uc010mdl.2,uc010mdq.2,uc010nlz.2,uc010nqp.1,uc010ous.1,uc010qha.1,uc010qig.1,uc010qtu.1,uc010qya.1,uc010rhn.1,uc010rjx.1,uc010rrk.1,uc010sqm.1,uc010tqf.1,uc010ubz.1,uc010vfi.1,uc010vvv.1,uc010vyd.1,uc010yab.1,uc010yph.1,uc010yqa.1,uc010ytj.1,uc010zkm.1,uc011aoy.1,uc011bds.1,uc011bsb.1,uc011bto.1,uc011btx.1,uc011dbl.1,uc011dhk.1,uc011dsp.1,uc011eej.1,uc011lhz.1 | L40: 0.56837728 | M40: 6.15e-28 | N40: 1.71e-14 | O40: 2.33e-14 | P40: 1.09e-12
A41: MIMAT0002871 | B41: hsa-miR-500a-3p | C41: -0.045325455 | D41: =IF(COUNTIF('TDP-43 miRNAs'!A$2:A$86,A41)>0,"yes","") -> yes | E41: =IF(COUNTIF('LUSC TDP-43 Correlations'!$A$2:$A$1038,$A41)>0,LOOKUP($A41,'LUSC TDP-43 Correlations'!$A$2:$A$1038,'LUSC TDP-43 Correlations'!C$2:C$1038),"n/a") -> 0.01170001 | F41: =IF(COUNTIF('LUSC TDP-43 Correlations'!$A$2:$A$1038,$A41)>0,LOOKUP($A41,'LUSC TDP-43 Correlations'!$A$2:$A$1038,'LUSC TDP-43 Correlations'!E$2:E$1038),"n/a") -> 0.087577385 | G41: 0.55255156 | H41: 772 | I41: 258 | J41: 1.56 | K41: uc001aob.3,uc001bal.2,uc001bnb.2,uc001bnd.1,uc001ckz.2,uc001cpa.2,uc001ctk.2,uc001cus.1,uc001etc.2,uc001etw.2,uc001gdj.3,uc001gfg.2,uc001hbu.1,uc001hos.1,uc001hvh.2,uc001hxd.1,uc001iaj.2,uc001iar.2,uc001ibf.1,uc001ifh.2,uc001jas.2,uc001jok.3,uc001jsr.1,uc001jss.1,uc001jtr.2,uc001jzn.2,uc001kkz.2,uc001krq.3,uc001lej.1,uc001lhe.2,uc001lpv.2,uc001mwu.3,uc001ogl.2,uc001onr.3,uc001opv.3,uc001pas.2,uc001phm.2,uc001pvm.1,uc001qnr.2,uc001qzm.2,uc001rbi.2,uc001rlm.2,uc001sdv.2,uc001sfe.1,uc001ttm.2,uc001twd.2,uc001uhc.2,uc001uop.1,uc001uuz.2,uc001vvl.3,uc001whm.1,uc001whz.2,uc001wjz.2,uc001wtl.2,uc001xab.2,uc001xcx.3,uc001xfc.2,uc001xff.3,uc001xhp.2,uc001xqh.2,uc001xzl.3,uc001ygy.1,uc001yok.2,uc001ypq.3,uc001yqx.2,uc001zev.2,uc001ztv.2,uc002arf.2,uc002awd.1,uc002bdl.2,uc002bly.2,uc002bqg.2,uc002cke.3,uc002cyo.2,uc002dhu.1,uc002drh.2,uc002drq.2,uc002dtz.1,uc002era.2,uc002ffm.2,uc002fgo.2,uc002fjd.2,uc002gdf.3,uc002hhm.2,uc002hne.2,uc002hnx.2,uc002huj.1,uc002ihc.2,uc002ioi.2,uc002iqo.2,uc002iqq.2,uc002jfy.2,uc002jgj.3,uc002jlo.2,uc002jnl.2,uc002juv.1,uc002jxe.2,uc002kth.1,uc002lfc.3,uc002lfg.1,uc002lgw.2,uc002lic.2,uc002lvx.1,uc002mjb.2,uc002mxg.2,uc002pax.3,uc002pqf.1,uc002rek.3,uc002rgw.1,uc002skh.3,uc002snd.2,uc002ugk.2,uc002uhh.2,uc002upt.2,uc002uyw.1,uc002vfo.2,uc002vmq.2,uc002wbl.2,uc002wdo.2,uc002wen.3,uc002wuz.2,uc002wvc.2,uc002wwp.1,uc002wyb.2,uc002xho.3,uc002xjg.2,uc002yki.2,uc002yko.3,uc002ztf.2,uc002zys.1,uc003acg.2,uc003alp.3,uc003avg.1,uc003bcb.2,uc003bcj.1,uc003bck.1,uc003bfi.2,uc003bhw.1,uc003bmi.2,uc003com.2,uc003dgo.2,uc003djh.2,uc003efe.2,uc003eiv.2,uc003ewa.2,uc003fdn.2,uc003fft.2,uc003fpj.2,uc003fum.3,uc003fun.3,uc003fwm.3,uc003gww.3,uc003hbf.1,uc003hdg.3,uc003hdk.2,uc003hmv.2,uc003hzz.2,uc003ihu.1,uc003inv.1,uc003jat.1,uc003jdu.2,uc003jfk.2,uc003jfx.2,uc003jhr.1,uc003jmo.2,uc003jvp.2,uc003kog.1,uc003kud.1,uc003kuu.2,uc003lbp.2,uc003lzz.1,uc003mes.3,uc003mis.2,uc003nda.2,uc003nii.2,uc003nrz.1,uc003oes.2,uc003oko.1,uc003pdc.3,uc003pdg.2,uc003prd.2,uc003pvy.3,uc003pwm.2,uc003tct.2,uc003tqp.2,uc003tui.2,uc003tvw.3,uc003uaa.1,uc003uac.1,uc003ung.1,uc003uwg.1,uc003uzl.2,uc003vcv.2,uc003vea.2,uc003veh.2,uc003vnq.2,uc003vpf.1,uc003wco.2,uc003xdb.1,uc003xlf.3,uc003xnx.2,uc003xyx.1,uc003yav.2,uc003yfz.2,uc003yod.2,uc003yqn.1,uc003yrk.2,uc003ytq.2,uc003zfc.3,uc003zsz.2,uc003ztt.2,uc003zvy.2,uc004asl.1,uc004bax.2,uc004bpa.3,uc004cao.3,uc004cfv.3,uc004cmo.2,uc004cqk.1,uc004crb.3,uc004dex.3,uc004dxd.3,uc004ega.1,uc004ehd.2,uc004esn.1,uc004eyf.2,uc004fmy.2,uc009wzz.1,uc009xwi.2,uc009zyh.2,uc010avs.2,uc010cta.1,uc010dan.2,uc010fea.2,uc010fqm.1,uc010gmw.1,uc010ijr.1,uc010mbr.2,uc010mdl.2,uc010olk.1,uc010ous.1,uc010oxe.1,uc010tak.1,uc010tdm.1,uc010ujk.1,uc010vxg.1,uc010wit.1,uc010xbj.1,uc010xlb.1,uc010xyn.1,uc010ynx.1,uc010zgf.1,uc010zpz.1,uc011btw.1,uc011cea.1,uc011cxs.1,uc011lla.1,uc011mca.1 | L41: 0.70638615 | M41: 5.67e-12 | N41: 5.02e-06 | O41: 5.18e-06 | P41: 0.000321368
A42: MIMAT0004611 | B42: hsa-miR-185-3p | C42: -0.064605945 | D42: =IF(COUNTIF('TDP-43 miRNAs'!A$2:A$86,A42)>0,"yes","") -> yes | E42: =IF(COUNTIF('LUSC TDP-43 Correlations'!$A$2:$A$1038,$A42)>0,LOOKUP($A42,'LUSC TDP-43 Correlations'!$A$2:$A$1038,'LUSC TDP-43 Correlations'!C$2:C$1038),"n/a") -> 0.0066989232 | F42: =IF(COUNTIF('LUSC TDP-43 Correlations'!$A$2:$A$1038,$A42)>0,LOOKUP($A42,'LUSC TDP-43 Correlations'!$A$2:$A$1038,'LUSC TDP-43 Correlations'!E$2:E$1038),"n/a") -> 0.20833346 | G42: 0.65737477 | H42: 1093 | I42: 390 | J42: 2.35 | K42: uc001ack.1,uc001aeb.2,uc001ajh.2,uc001amg.2,uc001apz.2,uc001atm.2,uc001bgt.2,uc001bhe.1,uc001bjg.2,uc001bji.2,uc001blr.2,uc001cet.1,uc001cfh.1,uc001chx.3,uc001clt.2,uc001cui.1,uc001dzb.2,uc001ewp.2,uc001fjm.2,uc001fnc.2,uc001foc.3,uc001fol.1,uc001fpg.2,uc001fyq.1,uc001gdp.2,uc001gic.1,uc001gqg.2,uc001hal.2,uc001hly.1,uc001hny.3,uc001hrb.2,uc001htb.2,uc001htc.2,uc001hvi.2,uc001ild.3,uc001jqr.2,uc001jqs.2,uc001jsr.1,uc001jss.1,uc001juh.2,uc001kos.2,uc001kse.2,uc001lml.1,uc001lnf.3,uc001mxj.2,uc001ndn.3,uc001nql.1,uc001nqm.2,uc001nre.2,uc001nye.2,uc001nyi.1,uc001nzq.1,uc001odm.2,uc001ofe.2,uc001ohe.1,uc001ohz.3,uc001oit.2,uc001ojk.1,uc001olq.1,uc001omn.2,uc001owk.1,uc001oye.2,uc001oyh.3,uc001oyi.1,uc001ozy.2,uc001psp.1,uc001pux.3,uc001qfw.2,uc001qkz.2,uc001qop.1,uc001qri.3,uc001rkk.1,uc001rur.1,uc001san.2,uc001sdv.2,uc001sfe.1,uc001sli.3,uc001sno.2,uc001sol.1,uc001sot.2,uc001tqo.2,uc001tuq.3,uc001ubf.2,uc001vtw.2,uc001vtx.2,uc001wgm.2,uc001whc.2,uc001wjz.2,uc001wmv.1,uc001wsa.3,uc001xhb.2,uc001xkj.1,uc001yci.2,uc001ylv.1,uc001zhe.1,uc001zig.2,uc001zql.2,uc002aqk.3,uc002arf.2,uc002aym.2,uc002bct.1,uc002bfy.1,uc002bol.2,uc002box.2,uc002chi.2,uc002cic.1,uc002cie.2,uc002cqy.3,uc002cvp.2,uc002cvt.3,uc002dec.1,uc002dly.1,uc002dtx.2,uc002dug.3,uc002dzd.3,uc002elq.2,uc002ern.1,uc002erz.2,uc002esj.2,uc002eym.1,uc002fda.2,uc002fkm.2,uc002fpe.3,uc002gkr.2,uc002gks.2,uc002hcs.2,uc002hiy.1,uc002hky.2,uc002hsr.2,uc002hxh.2,uc002hxv.2,uc002hyu.2,uc002iaw.2,uc002ibr.2,uc002idg.2,uc002idu.1,uc002ihf.2,uc002inv.2,uc002iox.1,uc002ioz.3,uc002iqo.2,uc002jiw.2,uc002juv.1,uc002jxd.1,uc002kcj.1,uc002kdf.2,uc002ltc.2,uc002luc.2,uc002lul.3,uc002lwi.1,uc002lya.2,uc002mao.2,uc002mdp.1,uc002mfg.1,uc002mjb.2,uc002moa.2,uc002mov.2,uc002mrt.2,uc002mvs.2,uc002mxq.1,uc002mye.2,uc002nan.2,uc002nid.2,uc002nnb.3,uc002nvg.1,uc002oam.1,uc002okh.2,uc002ola.2,uc002olb.2,uc002ooz.2,uc002opw.2,uc002oqb.3,uc002ote.3,uc002owl.1,uc002oxc.1,uc002ozt.1,uc002pat.2,uc002pbb.1,uc002pbq.1,uc002pdb.2,uc002pgc.2,uc002pgd.2,uc002pjb.1,uc002pjd.2,uc002pmk.2,uc002poo.3,uc002qdi.2,uc002qdj.1,uc002qjw.3,uc002qkj.3,uc002qql.2,uc002qtl.3,uc002qxt.2,uc002rbz.1,uc002rjw.1,uc002rkx.2,uc002sgq.3,uc002siw.2,uc002sjb.1,uc002sjs.2,uc002sjx.2,uc002sjz.2,uc002snd.2,uc002sqs.2,uc002srs.3,uc002sub.2,uc002suh.1,uc002svn.2,uc002tkq.2,uc002tkx.1,uc002tsz.3,uc002tzd.3,uc002vlj.2,uc002vmq.2,uc002vsg.1,uc002vwh.2,uc002wdj.2,uc002wdx.1,uc002wen.3,uc002wfc.2,uc002wgm.1,uc002whs.2,uc002wky.2,uc002wuy.2,uc002wxj.2,uc002wyh.2,uc002xba.1,uc002xbg.2,uc002xqn.1,uc002xzp.2,uc002ycb.2,uc002ydq.2,uc002zrx.2,uc002ztf.2,uc003aco.1,uc003afb.1,uc003aij.1,uc003ajc.2,uc003anl.2,uc003apc.2,uc003avk.2,uc003bbh.1,uc003bcj.1,uc003bck.1,uc003bcq.2,uc003bdq.2,uc003bei.1,uc003bhn.2,uc003bkk.1,uc003com.2,uc003cyj.2,uc003den.2,uc003dgo.2,uc003eey.2,uc003eki.2,uc003elx.2,uc003erh.2,uc003euy.1,uc003fmg.2,uc003fnj.1,uc003hdk.2,uc003huf.3,uc003jbq.2,uc003jdo.2,uc003jes.2,uc003jhs.2,uc003jmn.2,uc003jmo.2,uc003jmq.2,uc003job.2,uc003kbt.3,uc003kcp.2,uc003lzz.1,uc003mec.1,uc003mek.1,uc003mel.1,uc003meo.1,uc003mgj.2,uc003mhc.1,uc003mis.2,uc003mxp.1,uc003nda.2,uc003ndi.2,uc003nxz.1,uc003oeq.2,uc003pwm.2,uc003sly.2,uc003sma.2,uc003smb.2,uc003sou.2,uc003sow.2,uc003tkm.2,uc003tqp.2,uc003tyr.2,uc003uaa.1,uc003ubl.2,uc003ubm.3,uc003upx.1,uc003uqe.2,uc003usu.2,uc003utk.2,uc003uuz.1,uc003uzl.2,uc003vop.1,uc003vsx.2,uc003wfp.2,uc003wjp.2,uc003wjr.1,uc003xdh.1,uc003xjy.1,uc003xks.2,uc003xlj.2,uc003xuk.2,uc003yhy.2,uc003yqn.1,uc003yrk.2,uc003ytq.2,uc003yug.2,uc003ywl.3,uc003yzb.2,uc003yzk.2,uc003yzl.1,uc003zaz.3,uc003zsz.2,uc003zvb.2,uc003zxm.1,uc004aay.2,uc004aex.2,uc004arj.1,uc004bph.1,uc004buc.1,uc004bwd.2,uc004byh.2,uc004cgx.3,uc004chn.1,uc004cmo.2,uc004cvb.2,uc004dkd.1,uc004dkn.2,uc004dlc.1,uc004dtz.2,uc004dxd.3,uc004dyd.1,uc004dzp.2,uc004ecz.3,uc004ehd.2,uc004evg.2,uc004eyf.2,uc004fib.3,uc004fkl.2,uc004flo.2,uc004flq.2,uc009ykz.1,uc010axb.2,uc010cxb.2,uc010daa.1,uc010dnb.1,uc010dxi.2,uc010eop.2,uc010ffj.2,uc010gxi.2,uc010ild.2,uc010kjv.2,uc010ksg.2,uc010lam.1,uc010mff.2,uc010myt.1,uc010mzz.2,uc010nde.2,uc010nhv.2,uc010nlz.2,uc010ous.1,uc010ppt.1,uc010qqd.1,uc010rhn.1,uc010rho.1,uc010sme.1,uc010srf.1,uc010tak.1,uc010vjt.1,uc010vxg.1,uc010wdq.1,uc010xil.1,uc011ahk.1,uc011aoy.1,uc011bte.1,uc011bvs.1,uc011ldb.1,uc011mrj.1,uc011mzo.1 | L42: 0.70802683 | M42: 1.2e-22 | N42: 4.35e-11 | O42: 5.15e-11 | P42: 2.78e-09
A43: MIMAT0000692 | B43: hsa-miR-30e-5p | C43: -0.016577694 | D43: =IF(COUNTIF('TDP-43 miRNAs'!A$2:A$86,A43)>0,"yes","") | E43: =IF(COUNTIF('LUSC TDP-43 Correlations'!$A$2:$A$1038,$A43)>0,LOOKUP($A43,'LUSC TDP-43 Correlations'!$A$2:$A$1038,'LUSC TDP-43 Correlations'!C$2:C$1038),"n/a") -> 0.023820524 | F43: =IF(COUNTIF('LUSC TDP-43 Correlations'!$A$2:$A$1038,$A43)>0,LOOKUP($A43,'LUSC TDP-43 Correlations'!$A$2:$A$1038,'LUSC TDP-43 Correlations'!E$2:E$1038),"n/a") -> 0.011312581 | G43: 0.63146574 | H43: 2163 | I43: 754 | J43: 4.55 | K43: uc001aca.1,uc001alf.2,uc001aoh.2,uc001apw.2,uc001bbd.2,uc001bff.2,uc001bji.2,uc001bkw.1,uc001bub.2,uc001bvd.2,uc001bys.2,uc001bzp.2,uc001cdz.1,uc001chl.2,uc001chs.2,uc001cor.1,uc001cpa.2,uc001cti.2,uc001cwj.1,uc001dbe.1,uc001ddv.2,uc001dlr.3,uc001dnq.2,uc001dot.2,uc001dpu.2,uc001egv.1,uc001epq.2,uc001esr.2,uc001ewp.2,uc001ewy.2,uc001fcq.2,uc001fjz.1,uc001fmh.1,uc001fna.2,uc001fxo.2,uc001gdj.3,uc001gic.1,uc001goi.2,uc001gpr.2,uc001gqt.3,uc001gqu.3,uc001gtx.1,uc001gxc.2,uc001gyf.2,uc001gyv.1,uc001hbu.1,uc001hdb.2,uc001hdr.3,uc001hhq.1,uc001hie.2,uc001hiv.2,uc001hjt.2,uc001hlg.3,uc001hul.2,uc001hur.2,uc001huv.2,uc001hvj.1,uc001hvs.1,uc001hwl.2,uc001hxc.2,uc001iaj.2,uc001iba.1,uc001ibn.2,uc001iew.1,uc001ifh.2,uc001ind.2,uc001ire.2,uc001isv.2,uc001itk.1,uc001iva.3,uc001jkc.3,uc001jkf.2,uc001jok.3,uc001jqs.2,uc001jsx.1,uc001jth.2,uc001jzk.2,uc001kfj.3,uc001khx.1,uc001kic.2,uc001kjj.2,uc001kmv.2,uc001knh.2,uc001kni.2,uc001kpr.2,uc001krq.3,uc001kwt.2,uc001kzc.3,uc001lhe.2,uc001lhp.2,uc001mhu.2,uc001mkz.2,uc001mok.3,uc001mri.1,uc001msw.1,uc001mvt.2,uc001mwu.3,uc001mxj.2,uc001ndn.3,uc001noe.3,uc001nvb.2,uc001ojb.2,uc001ojk.1,uc001okf.1,uc001opn.1,uc001oun.1,uc001ouw.2,uc001ovb.1,uc001oyk.2,uc001ozi.2,uc001pbp.2,uc001pbq.2,uc001pcj.1,uc001pdg.2,uc001per.2,uc001pfn.2,uc001pfu.2,uc001pfy.2,uc001phm.2,uc001pjc.1,uc001pwv.2,uc001qdi.2,uc001qie.1,uc001qlh.2,uc001qpq.1,uc001qyt.2,uc001qzm.2,uc001rbv.1,uc001rdc.3,uc001rde.2,uc001rea.2,uc001rez.2,uc001rfq.2,uc001rgq.1,uc001rlm.2,uc001rmz.2,uc001rnc.2,uc001roa.2,uc001rpr.2,uc001rwv.2,uc001ryw.2,uc001sml.1,uc001soj.1,uc001sqg.2,uc001ssx.2,uc001stn.2,uc001sut.3,uc001sux.2,uc001svv.2,uc001svw.1,uc001syx.2,uc001tau.2,uc001tdl.2,uc001thb.1,uc001tic.2,uc001tkg.2,uc001tlk.2,uc001tpn.2,uc001tqk.3,uc001ttm.2,uc001twz.2,uc001tyg.2,uc001tyi.2,uc001ual.1,uc001ubi.2,uc001uel.2,uc001ufg.2,uc001ufm.2,uc001uii.2,uc001uqm.1,uc001uqr.1,uc001urq.2,uc001uxu.1,uc001uzp.2,uc001vfp.2,uc001viu.2,uc001vje.2,uc001vtw.2,uc001vtx.2,uc001vvl.3,uc001whc.2,uc001wuw.3,uc001xcx.3,uc001xfb.3,uc001xfc.2,uc001xff.3,uc001xhb.2,uc001xkj.1,uc001xmf.2,uc001xqm.1,uc001yah.1,uc001yfo.2,uc001ygi.3,uc001ygy.1,uc001yqx.2,uc001yur.3,uc001zff.2,uc001zhj.2,uc001zii.2,uc001ziw.2,uc001zof.1,uc001zve.2,uc001zvh.2,uc002abp.2,uc002amu.1,uc002anf.2,uc002ank.2,uc002apr.2,uc002aqs.2,uc002arl.2,uc002aym.2,uc002azd.1,uc002bcd.2,uc002bfy.1,uc002bgq.1,uc002bjs.1,uc002bmi.1,uc002boz.2,uc002cnc.1,uc002cod.2,uc002cqy.3,uc002crd.2,uc002dbt.2,uc002dcz.2,uc002dfl.1,uc002dhu.1,uc002dpd.2,uc002dxu.2,uc002eek.1,uc002eod.1,uc002era.2,uc002faf.2,uc002fcq.2,uc002fda.2,uc002fdl.1,uc002fgo.2,uc002fgw.2,uc002fkm.2,uc002frp.2,uc002fto.2,uc002fwp.2,uc002fxs.2,uc002gbw.2,uc002gce.2,uc002grm.2,uc002gup.1,uc002haz.2,uc002hfs.1,uc002hfu.2,uc002hnx.2,uc002hoi.1,uc002hvj.1,uc002hyo.2,uc002ibr.2,uc002iha.2,uc002ihc.2,uc002ils.1,uc002ilt.1,uc002ioj.2,uc002iuc.2,uc002iva.2,uc002ixi.2,uc002ixy.2,uc002jij.2,uc002jiw.2,uc002jne.2,uc002jpb.1,uc002jsv.2,uc002jxc.2,uc002jzu.1,uc002kfq.2,uc002kga.2,uc002kkf.1,uc002kri.2,uc002krr.2,uc002kth.1,uc002ktj.1,uc002ktq.2,uc002kui.3,uc002kwu.3,uc002kzb.2,uc002lda.2,uc002lfc.3,uc002lfg.1,uc002lgj.1,uc002lgw.2,uc002lhz.2,uc002lis.2,uc002lql.2,uc002lwf.3,uc002mkb.1,uc002mvw.1,uc002mxe.2,uc002ndo.3,uc002nia.1,uc002njp.2,uc002nkx.2,uc002ntm.2,uc002nvj.2,uc002oep.3,uc002pbn.2,uc002pgc.2,uc002pgd.2,uc002ppa.2,uc002qdi.2,uc002qql.2,uc002qxt.2,uc002rah.2,uc002rek.3,uc002ren.2,uc002rgv.2,uc002rkp.2,uc002rlk.3,uc002rmo.2,uc002rnl.2,uc002roc.2,uc002rpa.1,uc002rqq.2,uc002rsq.2,uc002rwf.2,uc002rxk.1,uc002rzf.2,uc002sai.2,uc002sau.3,uc002sbf.2,uc002sbj.2,uc002sdz.1,uc002sei.1,uc002sgq.3,uc002sjp.2,uc002sjq.3,uc002sjs.2,uc002sjx.2,uc002srg.3,uc002ssg.1,uc002ssh.2,uc002ste.2,uc002svn.2,uc002swo.2,uc002tdi.2,uc002tgv.1,uc002thi.2,uc002tjt.2,uc002tkq.2,uc002tkx.1,uc002tmj.1,uc002tpf.2,uc002tur.2,uc002txg.2,uc002tyh.3,uc002tyn.2,uc002ubf.2,uc002uea.2,uc002ueb.1,uc002ufk.2,uc002ufn.2,uc002uhh.2,uc002uhi.2,uc002uih.2,uc002ukb.1,uc002ulh.3,uc002unq.1,uc002upo.2,uc002uqk.2,uc002usk.2,uc002uui.2,uc002uuq.2,uc002uwr.2,uc002uyq.2,uc002vcu.2,uc002vlj.2,uc002voh.3,uc002vqd.1,uc002vsb.3,uc002vsg.1,uc002vvn.2,uc002wdh.2,uc002wdx.1,uc002wfc.2,uc002wfw.3,uc002wim.2,uc002wjf.1,uc002wky.2,uc002wlp.2,uc002wnp.2,uc002wnw.2,uc002woj.2,uc002wqh.2,uc002wqi.1,uc002wrs.2,uc002wuy.2,uc002wvc.2,uc002wxn.2,uc002wyh.2,uc002xfp.2,uc002xfq.2,uc002xfs.2,uc002xft.2,uc002xhc.2,uc002xkc.2,uc002xrq.2,uc002xuh.2,uc002xvy.1,uc002xwx.2,uc002xxc.2,uc002yac.1,uc002yaz.2,uc002ybs.2,uc002ycb.2,uc002yki.2,uc002yko.3,uc002zdk.2,uc002znm.2,uc002zop.2,uc002zrv.2,uc002zur.3,uc002zwc.1,uc002zys.1,uc003aco.1,uc003adk.2,uc003afh.2,uc003alp.3,uc003amm.2,uc003ato.1,uc003atp.2,uc003avv.2,uc003bav.2,uc003bcj.1,uc003bck.1,uc003bdq.2,uc003bix.2,uc003ctp.1,uc003dsb.1,uc003dsx.2,uc003duz.2,uc003dvj.2,uc003dwc.2,uc003dyb.2,uc003dyk.3,uc003eci.2,uc003ecm.2,uc003edr.2,uc003edz.3,uc003ege.2,uc003eks.1,uc003emz.3,uc003enj.2,uc003eps.2,uc003etv.2,uc003euc.2,uc003eud.2,uc003eue.2,uc003euy.1,uc003evm.2,uc003evo.2,uc003ewt.1,uc003ewu.1,uc003ext.1,uc003exu.1,uc003ezr.2,uc003ezy.3,uc003fao.1,uc003fce.2,uc003fdn.2,uc003fdr.2,uc003feb.1,uc003fez.2,uc003ffa.3,uc003fgs.2,uc003fhd.2,uc003fjw.2,uc003fkm.2,uc003fkr.2,uc003fkt.2,uc003fkx.2,uc003flb.2,uc003flk.2,uc003fmg.2,uc003fnj.1,uc003fpj.2,uc003fpv.2,uc003fqg.2,uc003fqi.2,uc003fre.1,uc003fun.3,uc003fup.2,uc003fwm.3,uc003fwx.3,uc003fyi.2,uc003gbe.2,uc003gmn.2,uc003gqm.1,uc003hag.3,uc003hbr.2,uc003hje.3,uc003hkr.2,uc003hwt.3,uc003ify.2,uc003igr.2,uc003ihu.1,uc003ink.1,uc003inv.1,uc003iqa.2,uc003iqc.2,uc003isz.3,uc003itc.2,uc003ivd.1,uc003iwa.1,uc003iwi.2,uc003jdu.2,uc003jeq.2,uc003jet.1,uc003jhr.1,uc003jhs.2,uc003jjd.2,uc003jkn.2,uc003jlm.1,uc003jme.1,uc003jmn.2,uc003job.2,uc003kcp.2,uc003kuu.2,uc003kwn.2,uc003lbp.2,uc003lwf.1,uc003mda.2,uc003mec.1,uc003mek.1,uc003mvl.1,uc003mwl.2,uc003mxn.2,uc003mxp.1,uc003mxr.2,uc003mzp.3,uc003nbj.2,uc003nda.2,uc003ndi.2,uc003nil.3,uc003nxk.2,uc003ork.2,uc003oua.2,uc003oux.2,uc003ouy.1,uc003ovp.2,uc003owk.2,uc003oxl.2,uc003ozh.1,uc003pbi.2,uc003pbw.1,uc003pbx.2,uc003pdc.3,uc003pfm.1,uc003pjv.2,uc003pky.2,uc003pla.2,uc003pmz.2,uc003pnz.1,uc003pow.2,uc003pqk.2,uc003prd.2,uc003prs.2,uc003pvy.3,uc003pwi.1,uc003pxt.1,uc003pzu.1,uc003qel.2,uc003qez.2,uc003qfa.2,uc003qil.2,uc003qng.2,uc003qnt.2,uc003qob.2,uc003qrf.2,uc003qrg.2,uc003qrm.3,uc003qsw.3,uc003qwt.2,uc003sis.2,uc003stn.1,uc003sup.1,uc003svu.2,uc003sxr.3,uc003sxt.2,uc003tcv.1,uc003tdk.2,uc003thy.2,uc003tqg.2,uc003ttb.2,uc003tyc.2,uc003tyr.2,uc003tyt.2,uc003uap.2,uc003ubm.3,uc003udk.3,uc003uit.2,uc003ujx.2,uc003ukm.1,uc003ung.1,uc003uqe.2,uc003uso.2,uc003uwg.1,uc003vet.2,uc003vjj.1,uc003vnq.2,uc003vop.1,uc003wme.2,uc003wnk.2,uc003wwu.2,uc003xgg.2,uc003xig.2,uc003xky.1,uc003xlf.3,uc003xqm.2,uc003xqp.2,uc003yav.2,uc003ydc.1,uc003yeu.3,uc003ygk.2,uc003ygy.2,uc003yhc.2,uc003yhy.2,uc003yia.2,uc003yii.1,uc003ykb.2,uc003ykr.1,uc003yky.2,uc003ylk.2,uc003yok.1,uc003you.2,uc003yov.2,uc003ypc.1,uc003yqc.1,uc003yqh.3,uc003yqv.2,uc003yrk.2,uc003yvl.2,uc003yvn.2,uc003zgd.2,uc003zin.2,uc003zvb.2,uc004aay.2,uc004aex.2,uc004ajo.3,uc004ala.2,uc004arn.1,uc004atx.2,uc004awf.2,uc004axd.1,uc004aya.2,uc004bas.2,uc004bbm.2,uc004bhn.2,uc004bkt.2,uc004bpn.2,uc004bqa.2,uc004bsx.1,uc004bvu.3,uc004bws.1,uc004bxc.2,uc004bzq.1,uc004cdm.2,uc004cgt.2,uc004cld.2,uc004cqi.1,uc004cqk.1,uc004crg.3,uc004dbc.2,uc004dex.3,uc004dgc.2,uc004dvo.2,uc004ecu.1,uc004ecy.1,uc004ega.1,uc004ehj.1,uc004elw.2,uc004emm.2,uc004enp.1,uc004err.2,uc004ezx.2,uc004fae.1,uc009wbt.1,uc009whp.2,uc009wjj.1,uc009xrx.2,uc009xvo.2,uc009ywl.1,uc009znj.1,uc010avs.2,uc010bfn.2,uc010bgk.2,uc010bkb.1,uc010cla.1,uc010ddc.2,uc010dli.2,uc010dnb.1,uc010fph.1,uc010fqm.1,uc010gti.1,uc010hre.1,uc010iai.2,uc010iam.1,uc010igz.1,uc010jno.2,uc010jpm.1,uc010khz.1,uc010kkb.2,uc010lqs.2,uc010mbr.2,uc010mbu.2,uc010mdq.2,uc010mly.1,uc010myg.2,uc010myt.1,uc010nbi.2,uc010ncb.2,uc010nxx.1,uc010oef.1,uc010osj.1,uc010ous.1,uc010oxe.1,uc010pnq.1,uc010pwa.1,uc010qfe.1,uc010qha.1,uc010qwl.1,uc010rhn.1,uc010rho.1,uc010rwf.1,uc010sfh.1,uc010tqf.1,uc010ubz.1,uc010uin.1,uc010ujk.1,uc010vvv.1,uc010vyd.1,uc010wyu.1,uc010xbj.1,uc010xil.1,uc010xpl.1,uc010ydl.1,uc010ytj.1,uc010zpu.1,uc010zqs.1,uc011bds.1,uc011blr.1,uc011bsb.1,uc011btw.1,uc011btx.1,uc011byb.1,uc011col.1,uc011edt.1,uc011jwp.1,uc011lgj.1,uc011lhz.1 | L43: 0.87304436 | M43: 1.5e-38 | N43: 3.81e-17 | O43: 5.95e-17 | P43: 2.44e-15

Sheet LUSC TDP-43 Correlations
A1: miRBase Accession | B1: Pearson Correlation | C1: R.squared | D1: P-value | E1: P-value Adjusted | F1: Regulated by TDP-43?
A2: MIMAT0000062 | B2: -0.11862285 | C2: =B2^2 -> 0.014071382 | D2: 0.023040353 | E2: 0.058133447 | F2: =IF(COUNTIF('TDP-43 miRNAs'!A$2:A$46,A2)>0,"yes","") -> yes
A3: MIMAT0000063 | B3: -0.12565451 | C3: =B3^2 -> 0.015789057 | D3: 0.016016652 | E3: 0.044056413 | F3: =IF(COUNTIF('TDP-43 miRNAs'!A$2:A$46,A3)>0,"yes","") -> yes
A4: MIMAT0000064 | B4: 0.10775975 | C4: =B4^2 -> 0.011612164 | D4: 0.039079453 | E4: 0.089066797 | F4: =IF(COUNTIF('TDP-43 miRNAs'!A$2:A$46,A4)>0,"yes","") -> yes
A5: MIMAT0000065 | B5: -0.010146881 | C5: =B5^2 -> 0.00010295919 | D5: 0.84638876 | E5: 0.9006433 | F5: =IF(COUNTIF('TDP-43 miRNAs'!A$2:A$46,A5)>0,"yes","") -> yes
A6: MIMAT0000066 | B6: 0.1725881 | C6: =B6^2 -> 0.029786652 | D6: 0.00090023861 | E6: 0.0042762794 | F6: =IF(COUNTIF('TDP-43 miRNAs'!A$2:A$46,A6)>0,"yes","") -> yes
A7: MIMAT0000067 | B7: -0.010521012 | C7: =B7^2 -> 0.0001106917 | D7: 0.84079898 | E7: 0.9006433 | F7: =IF(COUNTIF('TDP-43 miRNAs'!A$2:A$46,A7)>0,"yes","") -> yes
A8: MIMAT0000068 | B8: 0.17718853 | C8: =B8^2 -> 0.031395774 | D8: 0.00064990597 | E8: 0.0032401562 | F8: =IF(COUNTIF('TDP-43 miRNAs'!A$2:A$46,A8)>0,"yes","")
A9: MIMAT0000069 | B9: 0.10075604 | C9: =B9^2 -> 0.010151779 | D9: 0.05378879 | E9: 0.11383464 | F9: =IF(COUNTIF('TDP-43 miRNAs'!A$2:A$46,A9)>0,"yes","") -> yes
A10: MIMAT0000070 | B10: 0.48899009 | C10: =B10^2 -> 0.23911131 | D10: <2.22E-16 | E10: <2.22E-16 | F10: =IF(COUNTIF('TDP-43 miRNAs'!A$2:A$46,A10)>0,"yes","")
A11: MIMAT0000071 | B11: 0.41096169 | C11: =B11^2 -> 0.16888951 | D11: 2.220446e-16 | E11: 2.8782532e-14 | F11: =IF(COUNTIF('TDP-43 miRNAs'!A$2:A$46,A11)>0,"yes","")
A12: MIMAT0000072 | B12: 0.40378788 | C12: =B12^2 -> 0.16304465 | D12: 8.8817842e-16 | E12: 8.3731002e-14 | F12: =IF(COUNTIF('TDP-43 miRNAs'!A$2:A$46,A12)>0,"yes","") -> yes
A13: MIMAT0000073 | B13: 0.40945112 | C13: =B13^2 -> 0.16765022 | D13: 4.4408921e-16 | E13: 5.1168946e-14 | F13: =IF(COUNTIF('TDP-43 miRNAs'!A$2:A$46,A13)>0,"yes","")
A14: MIMAT0000074 | B14: 0.36743945 | C14: =B14^2 -> 0.13501175 | D14: 3.5682568e-13 | E14: 2.0557124e-11 | F14: =IF(COUNTIF('TDP-43 miRNAs'!A$2:A$46,A14)>0,"yes","")
A15: MIMAT0000075 | B15: 0.47831508 | C15: =B15^2 -> 0.22878532 | D15: <2.22E-16 | E15: <2.22E-16 | F15: =IF(COUNTIF('TDP-43 miRNAs'!A$2:A$46,A15)>0,"yes","")
A16: MIMAT0000076 | B16: 0.053868076 | C16: =B16^2 -> 0.0029017696 | D16: 0.30338997 | E16: 0.44002154 | F16: =IF(COUNTIF('TDP-43 miRNAs'!A$2:A$46,A16)>0,"yes","")
A17: MIMAT0000077 | B17: -0.40630812 | C17: =B17^2 -> 0.16508629 | D17: 5.0750298e-16 | E17: 5.2628059e-14 | F17: =IF(COUNTIF('TDP-43 miRNAs'!A$2:A$46,A17)>0,"yes","") -> yes
A18: MIMAT0000078 | B18: -0.10102514 | C18: =B18^2 -> 0.010206079 | D18: 0.053148684 | E18: 0.11270999 | F18: =IF(COUNTIF('TDP-43 miRNAs'!A$2:A$46,A18)>0,"yes","")
A19: MIMAT0000079 | B19: -0.07342029 | C19: =B19^2 -> 0.005390539 | D19: 0.16042988 | E19: 0.26789981 | F19: =IF(COUNTIF('TDP-43 miRNAs'!A$2:A$46,A19)>0,"yes","")
A20: MIMAT0000080 | B20: 0.011736367 | C20: =B20^2 -> 0.0001377423 | D20: 0.82269726 | E20: 0.8927163 | F20: =IF(COUNTIF('TDP-43 miRNAs'!A$2:A$46,A20)>0,"yes","") -> yes
A21: MIMAT0000081 | B21: 0.33726763 | C21: =B21^2 -> 0.11374945 | D21: 3.2569281e-11 | E21: 1.3509738e-09 | F21: =IF(COUNTIF('TDP-43 miRNAs'!A$2:A$46,A21)>0,"yes","")
A22: MIMAT0000082 | B22: -0.23307157 | C22: =B22^2 -> 0.054322357 | D22: 6.4198536e-06 | E22: 6.2805549e-05 | F22: =IF(COUNTIF('TDP-43 miRNAs'!A$2:A$46,A22)>0,"yes","") -> yes
A23: MIMAT0000083 | B23: -0.055509697 | C23: =B23^2 -> 0.0030813264 | D23: 0.28887032 | E23: 0.42724016 | F23: =IF(COUNTIF('TDP-43 miRNAs'!A$2:A$46,A23)>0,"yes","")
A24: MIMAT0000084 | B24: -0.10641119 | C24: =B24^2 -> 0.011323341 | D24: 0.041612083 | E24: 0.09380811 | F24: =IF(COUNTIF('TDP-43 miRNAs'!A$2:A$46,A24)>0,"yes","") -> yes
A25: MIMAT0000085 | B25: 0.12912352 | C25: =B25^2 -> 0.016672884 | D25: 0.013301842 | E25: 0.037791809 | F25: =IF(COUNTIF('TDP-43 miRNAs'!A$2:A$46,A25)>0,"yes","")
A26: MIMAT0000086 | B26: -0.37251897 | C26: =B26^2 -> 0.13877038 | D26: 1.5903723e-13 | E26: 9.7012711e-12 | F26: =IF(COUNTIF('TDP-43 miRNAs'!A$2:A$46,A26)>0,"yes","") -> yes
A27: MIMAT0000087 | B27: -0.30846943 | C27: =B27^2 -> 0.095153388 | D27: 1.5689476e-09 | E27: 4.2815755e-08 | F27: =IF(COUNTIF('TDP-43 miRNAs'!A$2:A$46,A27)>0,"yes","") -> yes
... A31: MIMAT0000091 | B31: 0.11469413 | C31: =B31^2 -> 0.013154743 | D31: 0.028021684 | E31: 0.067735398 | F31: =IF(COUNTIF('TDP-43 miRNAs'!A$2:A$46,A31)>0,"yes","") -> yes
A32: MIMAT0000092 | B32: 0.4449442 | C32: =B32^2 -> 0.19797534 | D32: <2.22E-16 | E32: <2.22E-16 | F32: =IF(COUNTIF('TDP-43 miRNAs'!A$2:A$46,A32)>0,"yes","") -> yes
A33: MIMAT0000093 | B33: 0.42363317 | C33: =B33^2 -> 0.17946506 | D33: <2.22E-16 | E33: <2.22E-16 | F33: =IF(COUNTIF('TDP-43 miRNAs'!A$2:A$46,A33)>0,"yes","") -> yes
A34: MIMAT0000094 | B34: 0.054592247 | C34: =B34^2 -> 0.0029803134 | D34: 0.29692639 | E34: 0.43326163 | F34: =IF(COUNTIF('TDP-43 miRNAs'!A$2:A$46,A34)>0,"yes","")
A35: MIMAT0000095 | B35: 0.22192683 | C35: =B35^2 -> 0.049251519 | D35: 1.7817104e-05 | E35: 0.00015657912 | F35: =IF(COUNTIF('TDP-43 miRNAs'!A$2:A$46,A35)>0,"yes","")
A36: MIMAT0000096 | B36: 0.18977247 | C36: =B36^2 -> 0.036013592 | D36: 0.0002557863 | E36: 0.0014574197 | F36: =IF(COUNTIF('TDP-43 miRNAs'!A$2:A$46,A36)>0,"yes","") -> yes
A37: MIMAT0000097 | B37: 0.039253517 | C37: =B37^2 -> 0.0015408386 | D37: 0.45342764 | E37: 0.59378186 | F37: =IF(COUNTIF('TDP-43 miRNAs'!A$2:A$46,A37)>0,"yes","") -> yes
A38: MIMAT0000098 | B38: -0.26156896 | C38: =B38^2 -> 0.068418319 | D38: 3.7229588e-07 | E38: 4.7663065e-06 | F38: =IF(COUNTIF('TDP-43 miRNAs'!A$2:A$46,A38)>0,"yes","") -> yes
A39: MIMAT0000099 | B39: -0.2174844 | C39: =B39^2 -> 0.047299466 | D39: 2.6386783e-05 | E39: 0.00021377417 | F39: =IF(COUNTIF('TDP-43 miRNAs'!A$2:A$46,A39)>0,"yes","") -> yes
A40: MIMAT0000100 | B40: -0.15256363 | C40: =B40^2 -> 0.023275662 | D40: 0.0033907288 | E40: 0.012424685 | F40: =IF(COUNTIF('TDP-43 miRNAs'!A$2:A$46,A40)>0,"yes","") -> yes
A41: MIMAT0000101 | B41: 0.3634151 | C41: =B41^2 -> 0.13207054 | D41: 6.6990857e-13 | E41: 3.473476e-11 | F41: =IF(COUNTIF('TDP-43 miRNAs'!A$2:A$46,A41)>0,"yes","") -> yes
A42: MIMAT0000102 | B42: 0.26853862 | C42: =B42^2 -> 0.07211299 | D42: 1.7589762e-07 | E42: 2.3425897e-06 | F42: =IF(COUNTIF('TDP-43 miRNAs'!A$2:A$46,A42)>0,"yes","")
A43: MIMAT0000103 | B43: 0.29023528 | C43: =B43^2 -> 0.084236519 | D43: 1.4830977e-08 | E43: 2.8480969e-07 | F43: =IF(COUNTIF('TDP-43 miRNAs'!A$2:A$46,A43)>0,"yes","")
A44: MIMAT0000104 | B44: 0.1876989 | C44: =B44^2 -> 0.035230879 | D44: 0.00029952052 | E44: 0.0016699074 | F44: =IF(COUNTIF('TDP-43 miRNAs'!A$2:A$46,A44)>0,"yes","")
A45: MIMAT0000222 | B45: 0.075730159 | C45: =B45^2 -> 0.005735057 | D45: 0.14764168 | E45: 0.24915952 | F45: =IF(COUNTIF('TDP-43 miRNAs'!A$2:A$46,A45)>0,"yes","") -> yes
... A85: MIMAT0000281 | B85: 0.22401346 | C85: =B85^2 -> 0.050182032 | D85: 1.4774859e-05 | E85: 0.00013323069 | F85: =IF(COUNTIF('TDP-43 miRNAs'!A$2:A$46,A85)>0,"yes","")
A86: MIMAT0000318 | B86: 0.44726781 | C86: =B86^2 -> 0.20004849 | D86: <2.22E-16 | E86: <2.22E-16 | F86: =IF(COUNTIF('TDP-43 miRNAs'!A$2:A$46,A86)>0,"yes","")
A87: MIMAT0000414 | B87: -0.02816146 | C87: =B87^2 -> 0.00079306782 | D87: 0.59074122 | E87: 0.71565262 | F87: =IF(COUNTIF('TDP-43 miRNAs'!A$2:A$46,A87)>0,"yes","") -> yes
A88: MIMAT0000415 | B88: 0.037150427 | C88: =B88^2 -> 0.0013801542 | D88: 0.47800377 | E88: 0.6142378 | F88: =IF(COUNTIF('TDP-43 miRNAs'!A$2:A$46,A88)>0,"yes","") -> yes
A89: MIMAT0000416 | B89: -0.29355933 | C89: =B89^2 -> 0.086177082 | D89: 9.9625267e-09 | E89: 1.9492717e-07 | F89: =IF(COUNTIF('TDP-43 miRNAs'!A$2:A$46,A89)>0,"yes","")
A90: MIMAT0000417 | B90: 0.27884817 | C90: =B90^2 -> 0.077756303 | D90: 5.5771591e-08 | E90: 9.4811705e-07 | F90: =IF(COUNTIF('TDP-43 miRNAs'!A$2:A$46,A90)>0,"yes","")
A91: MIMAT0000418 | B91: 0.010003515 | C91: =B91^2 -> 0.00010007031 | D91: 0.84853279 | E91: 0.9006433 | F91: =IF(COUNTIF('TDP-43 miRNAs'!A$2:A$46,A91)>0,"yes","")
A92: MIMAT0000419 | B92: 0.045502531 | C92: =B92^2 -> 0.0020704803 | D92: 0.38474885 | E92: 0.52497969 | F92: =IF(COUNTIF('TDP-43 miRNAs'!A$2:A$46,A92)>0,"yes","") -> yes
A93: MIMAT0000420 | B93: -0.19063331 | C93: =B93^2 -> 0.036341057 | D93: 0.00023944578 | E93: 0.0013794737 | F93: =IF(COUNTIF('TDP-43 miRNAs'!A$2:A$46,A93)>0,"yes","")
A94: MIMAT0000421 | B94: 0.061975148 | C94: =B94^2 -> 0.0038409189 | D94: 0.23626994 | E94: 0.36843899 | F94: =IF(COUNTIF('TDP-43 miRNAs'!A$2:A$46,A94)>0,"yes","")
A95: MIMAT0000422 | B95: 0.07333058 | C95: =B95^2 -> 0.005377374 | D95: 0.16094285 | E95: 0.26799137 | F95: =IF(COUNTIF('TDP-43 miRNAs'!A$2:A$46,A95)>0,"yes","")
A96: MIMAT0000423 | B96: -0.0020692401 | C96: =B96^2 -> 4.2817545e-06 | D96: 0.96848717 | E96: 0.97601671 | F96: =IF(COUNTIF('TDP-43 miRNAs'!A$2:A$46,A96)>0,"yes","") -> yes
A97: MIMAT0000424 | B97: 0.30233651 | C97: =B97^2 -> 0.091407366 | D97: 3.3988106e-09 | E97: 8.2875282e-08 | F97: =IF(COUNTIF('TDP-43 miRNAs'!A$2:A$46,A97)>0,"yes","")
A98: MIMAT0000425 | B98: 0.17655313 | C98: =B98^2 -> 0.031171007 | D98: 0.00068014593 | E98: 0.0033586254 | F98: =IF(COUNTIF('TDP-43 miRNAs'!A$2:A$46,A98)>0,"yes","") -> yes
... A140: MIMAT0000681 | B140: -0.26885142 | C140: =B140^2 -> 0.072281084 | D140: 1.6999164e-07 | E140: 2.3194912e-06 | F140: =IF(COUNTIF('TDP-43 miRNAs'!A$2:A$46,A140)>0,"yes","")
A141: MIMAT0000682 | B141: 0.41931651 | C141: =B141^2 -> 0.17582634 | D141: <2.22E-16 | E141: <2.22E-16 | F141: =IF(COUNTIF('TDP-43 miRNAs'!A$2:A$46,A141)>0,"yes","")
A142: MIMAT0000683 | B142: -0.0082928876 | C142: =B142^2 -> 6.8771985e-05 | D142: 0.87419706 | E142: 0.91941414 | F142: =IF(COUNTIF('TDP-43 miRNAs'!A$2:A$46,A142)>0,"yes","")
A143: MIMAT0000684 | B143: -0.019909755 | C143: =B143^2 -> 0.00039639833 | D143: 0.70383216 | E143: 0.81007098 | F143: =IF(COUNTIF('TDP-43 miRNAs'!A$2:A$46,A143)>0,"yes","")
A144: MIMAT0000685 | B144: -0.12588362 | C144: =B144^2 -> 0.015846686 | D144: 0.015823443 | E144: 0.043757093 | F144: =IF(COUNTIF('TDP-43 miRNAs'!A$2:A$46,A144)>0,"yes","")
A145: MIMAT0000686 | B145: -0.15152319 | C145: =B145^2 -> 0.022959277 | D145: 0.0036179609 | E145: 0.013072563 | F145: =IF(COUNTIF('TDP-43 miRNAs'!A$2:A$46,A145)>0,"yes","")
A146: MIMAT0000687 | B146: 0.15828955 | C146: =B146^2 -> 0.025055582 | D146: 0.0023560393 | E146: 0.0093609685 | F146: =IF(COUNTIF('TDP-43 miRNAs'!A$2:A$46,A146)>0,"yes","")
A147: MIMAT0000688 | B147: 0.32797506 | C147: =B147^2 -> 0.10756764 | D147: 1.1894041e-10 | E147: 4.2531451e-09 | F147: =IF(COUNTIF('TDP-43 miRNAs'!A$2:A$46,A147)>0,"yes","")
A148: MIMAT0000689 | B148: 0.015414202 | C148: =B148^2 -> 0.00023759763 | D148: 0.76852579 | E148: 0.86064929 | F148: =IF(COUNTIF('TDP-43 miRNAs'!A$2:A$46,A148)>0,"yes","")
A149: MIMAT0000690 | B149: 0.12364058 | C149: =B149^2 -> 0.015286992 | D149: 0.017805823 | E149: 0.048210546 | F149: =IF(COUNTIF('TDP-43 miRNAs'!A$2:A$46,A149)>0,"yes","")
A150: MIMAT0000691 | B150: 0.30137449 | C150: =B150^2 -> 0.090826585 | D150: 3.8307557e-09 | E150: 8.71124e-08 | F150: =IF(COUNTIF('TDP-43 miRNAs'!A$2:A$46,A150)>0,"yes","")
A151: MIMAT0000692 | B151: 0.15433899 | C151: =B151^2 -> 0.023820524 | D151: 0.0030326881 | E151: 0.011312581 | F151: =IF(COUNTIF('TDP-43 miRNAs'!A$2:A$46,A151)>0,"yes","")
A152: MIMAT0000693 | B152: -0.029209916 | C152: =B152^2 -> 0.00085321917 | D152: 0.5769867 | E152: 0.70062671 | F152: =IF(COUNTIF('TDP-43 miRNAs'!A$2:A$46,A152)>0,"yes","")
A153: MIMAT0000703 | B153: 0.20866981 | C153: =B153^2 -> 0.043543091 | D153: 5.6173618e-05 | E153: 0.00040452807 | F153: =IF(COUNTIF('TDP-43 miRNAs'!A$2:A$46,A153)>0,"yes","")
... A248: MIMAT0002820 | B248: -0.29723694 | C248: =B248^2 -> 0.088349796 | D248: 6.376608e-09 | E248: 1.3494985e-07 | F248: =IF(COUNTIF('TDP-43 miRNAs'!A$2:A$46,A248)>0,"yes","")
A249: MIMAT0002821 | B249: 0.43258085 | C249: =B249^2 -> 0.18712619 | D249: <2.22E-16 | E249: <2.22E-16 | F249: =IF(COUNTIF('TDP-43 miRNAs'!A$2:A$46,A249)>0,"yes","")
A250: MIMAT0002822 | B250: 0.12245604 | C250: =B250^2 -> 0.014995481 | D250: 0.018937655 | E250: 0.050484185 | F250: =IF(COUNTIF('TDP-43 miRNAs'!A$2:A$46,A250)>0,"yes","")
A251: MIMAT0002823 | B251: 0.1023007 | C251: =B251^2 -> 0.010465434 | D251: 0.050200169 | E251: 0.10740624 | F251: =IF(COUNTIF('TDP-43 miRNAs'!A$2:A$46,A251)>0,"yes","")
A252: MIMAT0002824 | B252: 0.1057521 | C252: =B252^2 -> 0.011183506 | D252: 0.042899383 | E252: 0.095056967 | F252: =IF(COUNTIF('TDP-43 miRNAs'!A$2:A$46,A252)>0,"yes","")
A253: MIMAT0002825 | B253: 0.095743594 | C253: =B253^2 -> 0.0091668358 | D253: 0.066930962 | E253: 0.13529709 | F253: =IF(COUNTIF('TDP-43 miRNAs'!A$2:A$46,A253)>0,"yes","")
A254: MIMAT0002826 | B254: 0.117262 | C254: =B254^2 -> 0.013750377 | D254: 0.024671422 | E254: 0.061374442 | F254: =IF(COUNTIF('TDP-43 miRNAs'!A$2:A$46,A254)>0,"yes","")
A255: MIMAT0002827 | B255: 0.1195772 | C255: =B255^2 -> 0.014298707 | D255: 0.021952916 | E255: 0.056629785 | F255: =IF(COUNTIF('TDP-43 miRNAs'!A$2:A$46,A255)>0,"yes","")
A256: MIMAT0002828 | B256: 0.10861908 | C256: =B256^2 -> 0.011798105 | D256: 0.037534597 | E256: 0.086304605 | F256: =IF(COUNTIF('TDP-43 miRNAs'!A$2:A$46,A256)>0,"yes","")
A257: MIMAT0002829 | B257: 0.10575343 | C257: =B257^2 -> 0.011183789 | D257: 0.042896741 | E257: 0.095056967 | F257: =IF(COUNTIF('TDP-43 miRNAs'!A$2:A$46,A257)>0,"yes","")
A258: MIMAT0002830 | B258: 0.084285504 | C258: =B258^2 -> 0.0071040462 | D258: 0.10695337 | E258: 0.19492205 | F258: =IF(COUNTIF('TDP-43 miRNAs'!A$2:A$46,A258)>0,"yes","")
A259: MIMAT0002832 | B259: 0.099197816 | C259: =B259^2 -> 0.0098402067 | D259: 0.057622471 | E259: 0.12023039 | F259: =IF(COUNTIF('TDP-43 miRNAs'!A$2:A$46,A259)>0,"yes","")
A260: MIMAT0002833 | B260: 0.0987769 | C260: =B260^2 -> 0.009756876 | D260: 0.058696008 | E260: 0.12197948 | F260: =IF(COUNTIF('TDP-43 miRNAs'!A$2:A$46,A260)>0,"yes","")
A261: MIMAT0002834 | B261: 0.11720954 | C261: =B261^2 -> 0.013738075 | D261: 0.024736251 | E261: 0.061374442 | F261: =IF(COUNTIF('TDP-43 miRNAs'!A$2:A$46,A261)>0,"yes","")
... A1038: MIMAT0018445 | B1038: -0.02051934 | C1038: =B1038^2 -> 0.00042104331 | D1038: 0.69521022 | E1038: 0.80551174 | F1038: =IF(COUNTIF('TDP-43 miRNAs'!A$2:A$46,A1038)>0,"yes","")

Sheet TDP-43 miRNAs
A1: miRBase Accession | B1: miRBase Mature Name | C1: Note
A2: MIMAT0000062 | B2: hsa-let-7a-5p
A3: MIMAT0000063 | B3: hsa-let-7b-5p
A4: MIMAT0000064 | B4: hsa-let-7c-5p
A5: MIMAT0000065 | B5: hsa-let-7d-5p
A6: MIMAT0000066 | B6: hsa-let-7e-5p
A7: MIMAT0000067 | B7: hsa-let-7f-5p
A8: MIMAT0000069 | B8: hsa-miR-16-5p
A9: MIMAT0000072 | B9: hsa-miR-18a-5p
A10: MIMAT0000077 | B10: hsa-miR-22-3p
A11: MIMAT0000080 | B11: hsa-miR-24-3p
A12: MIMAT0000082 | B12: hsa-miR-26a-5p
A13: MIMAT0000084 | B13: hsa-miR-27a-3p
... A61: MIMAT0000759 | B61: hsa-miR-148b-3p
A62: MIMAT0001340 | B62: hsa-miR-423-3p | C62: Discovered in Binding Assays (Fig 4)
A63: MIMAT0001341 | B63: hsa-miR-424-5p
A64: MIMAT0002177 | B64: hsa-miR-486-5p
A65: MIMAT0002809 | B65: hsa-miR-146b-5p
A66: MIMAT0002871 | B66: hsa-miR-500a-3p | C66: Discovered in Binding Assays (Fig 4)
A67: MIMAT0002891 | B67: hsa-miR-18a-3p
A68: MIMAT0004484 | B68: hsa-let-7d-3p
A69: MIMAT0004494 | B69: hsa-miR-21-3p
A70: MIMAT0004497 | B70: hsa-miR-24-2-5p
A71: MIMAT0004504 | B71: hsa-miR-31-3p
A72: MIMAT0004506 | B72: hsa-miR-33a-3p
A73: MIMAT0004509 | B73: hsa-miR-93-3p
A74: MIMAT0004513 | B74: hsa-miR-101-5p
A75: MIMAT0004549 | B75: hsa-miR-148a-5p
A76: MIMAT0004563 | B76: hsa-miR-199b-3p
A77: MIMAT0004584 | B77: hsa-let-7g-3p
A78: MIMAT0004585 | B78: hsa-let-7i-3p
... A86: MIMAT0026479 | B86: hsa-miR-152-5p
