Workbook

Sheet LUADdownTranscriptsUpMiRNAs
A1: Differentially Expressed miRNAs (pDESeq2 < 0.1)
A2: miRBaseAccension | B2: ID | C2: log2FoldChange | D2: Regulated by TDP-43? | E2: R2 TDP-43 Correlation | F2: Correlation Adjusted P-value | G2: odds_ratio_log | H2: numPredictedTargets | I2: numDEgenes | J2: percentDEgenes | K2: DEgeneList | L2: pDESeq2 | M2: pFatiscan | N2: pCombined | O2: pCombinedFDR | P2: pCombinedFWER
A3: MIMAT0000076 | B3: hsa-miR-21-5p | C3: 2.6502727 | D3: =IF(COUNTIF('TDP-43 miRNAs'!A$2:B$86,A3)>0,"yes","") | E3: =IF(COUNTIF('LUAD TDP-43 correlations'!$A$2:$A$1034,$A3)>0,LOOKUP($A3,'LUAD TDP-43 correlations'!$A$2:$A$1034,'LUAD TDP-43 correlations'!C$2:C$1034),"n/a") -> 0.0044199553 | F3: =IF(COUNTIF('LUAD TDP-43 correlations'!$A$2:$A$1034,$A3)>0,LOOKUP($A3,'LUAD TDP-43 correlations'!$A$2:$A$1034,'LUAD TDP-43 correlations'!E$2:E$1034),"n/a") -> 0.29981392 | G3: -1.2869055 | H3: 1003 | I3: 88 | J3: 4.48 | K3: uc001aja.3,uc001bou.3,uc001dck.2,uc001diq.3,uc001dxm.1,uc001ggm.3,uc001gun.3,uc001gzq.2,uc001iha.2,uc001iup.2,uc001iux.2,uc001ivi.1,uc001pku.2,uc001ppi.3,uc001uqf.3,uc001uus.2,uc001uxf.2,uc001uxl.3,uc001uyi.2,uc001vkd.2,uc001zfo.2,uc001zxd.1,uc001zyg.2,uc002ama.2,uc002bup.2,uc002cvz.3,uc002ftm.3,uc002gsg.1,uc002iso.2,uc002iyt.1,uc002jsn.1,uc002ldg.2,uc002nic.1,uc002nvd.3,uc002rpd.2,uc002rut.2,uc002rzn.2,uc002tev.1,uc002tew.2,uc002udu.1,uc002utb.2,uc002vry.3,uc002ymd.2,uc003anb.2,uc003bxu.3,uc003clu.1,uc003cox.1,uc003dmf.2,uc003dpe.2,uc003dwg.3,uc003dwv.1,uc003ecj.3,uc003fbl.3,uc003goh.3,uc003hmr.2,uc003hna.2,uc003hrx.2,uc003hwz.2,uc003hyi.2,uc003hyk.2,uc003ifa.2,uc003inf.2,uc003kce.1,uc003kos.3,uc003ksj.2,uc003lpr.1,uc003mch.2,uc003mma.3,uc003pim.2,uc003pyy.1,uc003qpc.3,uc003xcz.1,uc003xsb.3,uc003zyv.2,uc004aht.2,uc004awm.2,uc004bdo.1,uc004ben.2,uc004csf.2,uc004deb.2,uc004dgw.3,uc004edh.2,uc004efu.3,uc009vnl.2,uc010hci.2,uc010oiu.1,uc010qji.1,uc010uhc.1 | L3: 1.3455229e-44 | M3: 1.23e-21 | N3: 5.0401496e-62 | O3: 3.0912918e-60 | P3: 9.2738753e-60
A4: MIMAT0000267 | B4: hsa-miR-210-3p | C4: 4.2592812 | D4: =IF(COUNTIF('TDP-43 miRNAs'!A$2:B$86,A4)>0,"yes","") -> yes | E4: =IF(COUNTIF('LUAD TDP-43 correlations'!$A$2:$A$1034,$A4)>0,LOOKUP($A4,'LUAD TDP-43 correlations'!$A$2:$A$1034,'LUAD TDP-43 correlations'!C$2:C$1034),"n/a") -> 0.020962372 | F4: =IF(COUNTIF('LUAD TDP-43 correlations'!$A$2:$A$1034,$A4)>0,LOOKUP($A4,'LUAD TDP-43 correlations'!$A$2:$A$1034,'LUAD TDP-43 correlations'!E$2:E$1034),"n/a") -> 0.011444517 | G4: -1.3547296 | H4: 220 | I4: 21 | J4: 1.07 | K4: uc001iha.2,uc001iol.2,uc001llp.2,uc001xgb.1,uc002aqf.2,uc002frj.2,uc002jru.1,uc002jvw.2,uc002ruv.2,uc003dja.2,uc003mvt.2,uc003pwj.2,uc003vjq.3,uc003wly.2,uc004ben.2,uc004eef.2,uc004efu.3,uc010sxc.1,uc010syb.1,uc010vvn.1,uc010zei.1 | L4: 2.9572248e-36 | M4: 6.82e-07 | N4: 6.7787112e-35 | O4: 3.5636653e-34 | P4: 1.2472829e-32
A5: MIMAT0004494 | B5: hsa-miR-21-3p | C5: 2.3390755 | D5: =IF(COUNTIF('TDP-43 miRNAs'!A$2:B$86,A5)>0,"yes","") -> yes | E5: =IF(COUNTIF('LUAD TDP-43 correlations'!$A$2:$A$1034,$A5)>0,LOOKUP($A5,'LUAD TDP-43 correlations'!$A$2:$A$1034,'LUAD TDP-43 correlations'!C$2:C$1034),"n/a") -> 0.034702045 | F5: =IF(COUNTIF('LUAD TDP-43 correlations'!$A$2:$A$1034,$A5)>0,LOOKUP($A5,'LUAD TDP-43 correlations'!$A$2:$A$1034,'LUAD TDP-43 correlations'!E$2:E$1034),"n/a") -> 0.00064516271 | G5: -1.2621937 | H5: 1134 | I5: 97 | J5: 4.93 | K5: uc001dle.2,uc001dnl.3,uc001gun.3,uc001iha.2,uc001iux.2,uc001ivi.1,uc001ize.1,uc001kea.2,uc001lab.2,uc001llp.2,uc001mhl.2,uc001ohr.2,uc001pce.2,uc001pku.2,uc001ppi.3,uc001qmo.2,uc001rxb.2,uc001uqf.3,uc001uqy.2,uc001url.3,uc001utf.1,uc001uxl.3,uc001vbz.3,uc001vcu.2,uc001wtf.3,uc001xlk.2,uc001xyl.1,uc001ygs.2,uc001ygu.2,uc001zph.2,uc002bjz.3,uc002ghk.2,uc002hzh.2,uc002iof.2,uc002iso.2,uc002jps.2,uc002kkm.2,uc002ldg.2,uc002lrr.3,uc002mbf.2,uc002pgj.1,uc002raj.2,uc002rpd.2,uc002ruv.2,uc002rzj.2,uc002rzn.2,uc002sgn.3,uc002svm.3,uc002tev.1,uc002utb.2,uc002wfl.3,uc002xtw.1,uc002xvo.2,uc002yak.2,uc002ymf.2,uc002zvp.1,uc003adp.3,uc003akm.2,uc003bgj.1,uc003ceb.2,uc003cmx.2,uc003dpe.2,uc003dwv.1,uc003hhm.3,uc003hna.2,uc003hrx.2,uc003hwc.2,uc003iah.2,uc003jhw.1,uc003ldc.3,uc003lvk.2,uc003pmk.2,uc003pwj.2,uc003qdg.2,uc003qhr.2,uc003qkt.2,uc003sjy.1,uc003whj.2,uc003wly.2,uc003xie.1,uc003znj.2,uc004arh.2,uc004aub.2,uc004auw.3,uc004axl.1,uc004blh.2,uc004csf.2,uc004dgg.2,uc004dys.1,uc004eon.1,uc010aeu.1,uc010hci.2,uc010qji.1,uc010qlr.1,uc010snd.1,uc010sxc.1,uc010uhc.1 | L5: 9.9514338e-34 | M5: 6.21e-23 | N5: 4.2863942e-54 | O5: 1.1267093e-52 | P5: 7.8869654e-52
A6: MIMAT0000441 | B6: hsa-miR-9-5p | C6: 6.0282764 | D6: =IF(COUNTIF('TDP-43 miRNAs'!A$2:B$86,A6)>0,"yes","") -> yes | E6: =IF(COUNTIF('LUAD TDP-43 correlations'!$A$2:$A$1034,$A6)>0,LOOKUP($A6,'LUAD TDP-43 correlations'!$A$2:$A$1034,'LUAD TDP-43 correlations'!C$2:C$1034),"n/a") -> 0.00039494451 | F6: =IF(COUNTIF('LUAD TDP-43 correlations'!$A$2:$A$1034,$A6)>0,LOOKUP($A6,'LUAD TDP-43 correlations'!$A$2:$A$1034,'LUAD TDP-43 correlations'!E$2:E$1034),"n/a") -> 0.77821786 | G6: -1.324747 | H6: 1337 | I6: 120 | J6: 6.1 | K6: uc001aol.2,uc001bjo.2,uc001cyc.1,uc001cze.2,uc001dnl.3,uc001dsg.2,uc001dtg.3,uc001dxm.1,uc001ebe.2,uc001gfp.2,uc001gun.3,uc001hdx.2,uc001hgw.1,uc001hub.2,uc001ivi.1,uc001jlx.2,uc001kwi.2,uc001llp.2,uc001mki.2,uc001nqg.2,uc001ozh.2,uc001pku.2,uc001plt.2,uc001pyi.3,uc001rxb.2,uc001tmi.3,uc001tst.2,uc001tvz.1,uc001unq.3,uc001usp.2,uc001uxf.2,uc001uxt.2,uc001vbl.3,uc001vbz.3,uc001vcu.2,uc001vkd.2,uc001xgb.1,uc001xlp.2,uc001xst.2,uc001ygc.2,uc001zot.2,uc002aeg.2,uc002bcm.2,uc002bjz.3,uc002czx.2,uc002eom.3,uc002gan.1,uc002hhy.2,uc002hzo.2,uc002iof.2,uc002jsn.1,uc002jvl.2,uc002kkm.2,uc002oot.2,uc002rpd.2,uc002rzj.2,uc002sbs.2,uc002scy.3,uc002tev.1,uc002tew.2,uc002xvo.2,uc003bqq.2,uc003cco.2,uc003ceb.2,uc003cwu.2,uc003dpe.2,uc003dvn.2,uc003dwv.1,uc003dxy.2,uc003eic.2,uc003exp.3,uc003fbl.3,uc003goh.3,uc003hna.2,uc003hwc.2,uc003hyi.2,uc003hyk.2,uc003icv.3,uc003iqg.3,uc003ixh.2,uc003jfn.1,uc003jhw.1,uc003ldb.1,uc003ldc.3,uc003lsp.2,uc003lvk.2,uc003mbv.1,uc003mch.2,uc003mma.3,uc003mzv.2,uc003ncw.2,uc003ojx.3,uc003onu.1,uc003pxi.2,uc003qkt.2,uc003sjy.1,uc003vid.2,uc003wly.2,uc003xfb.1,uc003xie.1,uc003xjo.1,uc003yvy.2,uc003zij.1,uc003zxt.2,uc003zys.1,uc004agr.2,uc004aht.2,uc004ajv.3,uc004bgq.2,uc004cxi.2,uc004dgi.3,uc004dgw.3,uc004dpe.2,uc004efu.3,uc004eon.1,uc010aeu.1,uc010nko.2,uc010sbu.1,uc010uhc.1,uc011ljd.1 | L6: 1.5950833e-33 | M6: 9.78e-30 | N6: 3.7318395e-61 | O6: 1.5052184e-59 | P6: 6.8665847e-59
A7: MIMAT0000434 | B7: hsa-miR-142-3p | C7: 3.010977 | D7: =IF(COUNTIF('TDP-43 miRNAs'!A$2:B$86,A7)>0,"yes","") -> yes | E7: =IF(COUNTIF('LUAD TDP-43 correlations'!$A$2:$A$1034,$A7)>0,LOOKUP($A7,'LUAD TDP-43 correlations'!$A$2:$A$1034,'LUAD TDP-43 correlations'!C$2:C$1034),"n/a") -> 0.00082835461 | F7: =IF(COUNTIF('LUAD TDP-43 correlations'!$A$2:$A$1034,$A7)>0,LOOKUP($A7,'LUAD TDP-43 correlations'!$A$2:$A$1034,'LUAD TDP-43 correlations'!E$2:E$1034),"n/a") -> 0.6827951 | G7: -1.3130722 | H7: 684 | I7: 62 | J7: 3.15 | K7: uc001aol.2,uc001bjo.2,uc001bou.3,uc001dtg.3,uc001ggm.3,uc001gun.3,uc001ims.2,uc001llp.2,uc001plt.2,uc001uus.2,uc001vcu.2,uc001vdl.2,uc001xmc.3,uc001xou.2,uc001xyl.1,uc001zph.2,uc002aeg.2,uc002cvx.2,uc002fbd.2,uc002fsl.2,uc002fsm.2,uc002gll.2,uc002iof.2,uc002iso.2,uc002lzv.3,uc002rpd.2,uc002utb.2,uc002wss.2,uc002xvo.2,uc002yak.2,uc003cbq.2,uc003dmn.2,uc003dwg.3,uc003dwv.1,uc003evt.3,uc003hrx.2,uc003hwz.2,uc003hyi.2,uc003iah.2,uc003iev.1,uc003kka.3,uc003ksj.2,uc003mmt.2,uc003mzv.2,uc003ncw.2,uc003pmk.2,uc003pmv.2,uc003pwp.3,uc003qkt.2,uc003svj.3,uc003vid.2,uc003vjq.3,uc003xfb.1,uc003xzf.2,uc004aht.2,uc004cxe.2,uc004cxi.2,uc004dgw.3,uc004dys.1,uc004edh.2,uc004eef.2,uc010xhe.1 | L7: 4.4402837e-31 | M7: 2.12e-16 | N7: 2.9252041e-44 | O7: 2.5630359e-43 | P7: 5.3823755e-42
A8: MIMAT0001620 | B8: hsa-miR-200a-5p | C8: 2.3953754 | D8: =IF(COUNTIF('TDP-43 miRNAs'!A$2:B$86,A8)>0,"yes","") | E8: =IF(COUNTIF('LUAD TDP-43 correlations'!$A$2:$A$1034,$A8)>0,LOOKUP($A8,'LUAD TDP-43 correlations'!$A$2:$A$1034,'LUAD TDP-43 correlations'!C$2:C$1034),"n/a") -> 0.025360369 | F8: =IF(COUNTIF('LUAD TDP-43 correlations'!$A$2:$A$1034,$A8)>0,LOOKUP($A8,'LUAD TDP-43 correlations'!$A$2:$A$1034,'LUAD TDP-43 correlations'!E$2:E$1034),"n/a") -> 0.0046382203 | G8: -1.0656455 | H8: 998 | I8: 72 | J8: 3.66 | K8: uc001csi.3,uc001cyj.1,uc001dle.2,uc001dtg.3,uc001gun.3,uc001hgw.1,uc001hmq.2,uc001iha.2,uc001kwi.2,uc001ntl.2,uc001pce.2,uc001rxb.2,uc001tbi.3,uc001tnj.2,uc001uqf.3,uc001uxt.2,uc001xlp.2,uc001xrn.2,uc001ygs.2,uc001zni.2,uc001zxc.1,uc002ama.2,uc002amr.2,uc002dlq.2,uc002gbm.3,uc002gif.1,uc002gll.2,uc002lvl.2,uc002nvd.3,uc002pgj.1,uc002rpd.2,uc002rzj.2,uc002utb.2,uc002uuo.3,uc002uyb.3,uc002wmu.1,uc003ckc.2,uc003clu.1,uc003cox.1,uc003cwu.2,uc003dmn.2,uc003gsq.1,uc003hmr.2,uc003hyi.2,uc003hyp.2,uc003iah.2,uc003jlz.2,uc003lkv.1,uc003lkw.1,uc003mch.2,uc003ncw.2,uc003qks.3,uc003sym.3,uc003tvm.1,uc003uhf.3,uc003vid.2,uc003whj.2,uc003xie.1,uc003zys.1,uc003zyz.2,uc004aht.2,uc004ajv.3,uc004blc.2,uc004bpg.3,uc004cxi.2,uc004deb.2,uc004eef.2,uc010aeu.1,uc010bzd.2,uc010ioj.2,uc010snf.1,uc011dpt.1 | L8: 5.8328547e-25 | M8: 8.77e-14 | N8: 6.3568443e-36 | O8: 3.6640484e-35 | P8: 1.1696593e-33
A9: MIMAT0000259 | B9: hsa-miR-182-5p | C9: 2.2925916 | D9: =IF(COUNTIF('TDP-43 miRNAs'!A$2:B$86,A9)>0,"yes","") -> yes | E9: =IF(COUNTIF('LUAD TDP-43 correlations'!$A$2:$A$1034,$A9)>0,LOOKUP($A9,'LUAD TDP-43 correlations'!$A$2:$A$1034,'LUAD TDP-43 correlations'!C$2:C$1034),"n/a") -> 0.01638724 | F9: =IF(COUNTIF('LUAD TDP-43 correlations'!$A$2:$A$1034,$A9)>0,LOOKUP($A9,'LUAD TDP-43 correlations'!$A$2:$A$1034,'LUAD TDP-43 correlations'!E$2:E$1034),"n/a") -> 0.02879634 | G9: -1.2536244 | H9: 1351 | I9: 114 | J9: 5.8 | K9: uc001aol.2,uc001bou.3,uc001cze.2,uc001diq.3,uc001dnl.3,uc001dxm.1,uc001fyt.3,uc001ggm.3,uc001hub.2,uc001irr.1,uc001iup.2,uc001jlx.2,uc001jrd.3,uc001kcj.3,uc001kwi.2,uc001lab.2,uc001mye.3,uc001myh.1,uc001ozx.3,uc001pku.2,uc001ppi.3,uc001pyi.3,uc001qsi.2,uc001qxs.2,uc001rbd.2,uc001snd.2,uc001tnj.2,uc001unq.3,uc001uus.2,uc001uxt.2,uc001vcu.2,uc001xgb.1,uc001xmc.3,uc001xyl.1,uc001xyp.2,uc001ygc.2,uc001ygs.2,uc001zni.2,uc002anc.1,uc002bup.2,uc002efp.2,uc002eom.3,uc002ewu.2,uc002hqc.2,uc002ldg.2,uc002olh.1,uc002pop.1,uc002rpd.2,uc002rut.2,uc002ruv.2,uc002sbs.2,uc002sfz.3,uc002tev.1,uc002udu.1,uc002uuo.3,uc002wmu.1,uc002xvo.2,uc002yxg.2,uc003bzp.1,uc003cco.2,uc003coq.2,uc003dja.2,uc003dmf.2,uc003dmn.2,uc003dwv.1,uc003dxy.2,uc003fuj.2,uc003gzj.2,uc003hyi.2,uc003ifa.2,uc003iqg.3,uc003jhw.1,uc003ldc.3,uc003lra.1,uc003mbv.1,uc003ncs.2,uc003ojx.3,uc003pmv.2,uc003pyy.1,uc003qbr.2,uc003qkt.2,uc003qug.2,uc003syn.1,uc003tar.1,uc003tvm.1,uc003vjk.2,uc003vsi.2,uc003whj.2,uc003whq.2,uc003wly.2,uc003xie.1,uc003xzf.2,uc003zij.1,uc003znj.2,uc003zyv.2,uc004agw.1,uc004ajv.3,uc004aso.1,uc004auc.2,uc004axl.1,uc004cxe.2,uc004dgi.3,uc004dpe.2,uc004dwf.2,uc004eef.2,uc004eus.2,uc010hci.2,uc010hrn.2,uc010nko.2,uc010qlr.1,uc010snd.1,uc010yny.1,uc011bkt.1,uc011lhk.1 | L9: 2.440226e-22 | M9: 3.28e-26 | N9: 1.7551656e-46 | O9: 2.0184404e-45 | P9: 3.2295047e-44
A10: MIMAT0004598 | B10: hsa-miR-141-5p | C10: 2.2034627 | D10: =IF(COUNTIF('TDP-43 miRNAs'!A$2:B$86,A10)>0,"yes","") | E10: =IF(COUNTIF('LUAD TDP-43 correlations'!$A$2:$A$1034,$A10)>0,LOOKUP($A10,'LUAD TDP-43 correlations'!$A$2:$A$1034,'LUAD TDP-43 correlations'!C$2:C$1034),"n/a") -> 0.0048225223 | F10: =IF(COUNTIF('LUAD TDP-43 correlations'!$A$2:$A$1034,$A10)>0,LOOKUP($A10,'LUAD TDP-43 correlations'!$A$2:$A$1034,'LUAD TDP-43 correlations'!E$2:E$1034),"n/a") -> 0.27867257 | G10: -1.2624135 | H10: 1255 | I10: 107 | J10: 5.44 | K10: uc001abs.2,uc001bjo.2,uc001bou.3,uc001dck.2,uc001dnl.3,uc001dtg.3,uc001enn.3,uc001fyt.3,uc001ggm.3,uc001gzq.2,uc001ijv.2,uc001iux.2,uc001ize.1,uc001jbr.3,uc001jlx.2,uc001jrd.3,uc001kwi.2,uc001lab.2,uc001mhe.1,uc001qsi.2,uc001rbr.2,uc001rxb.2,uc001tnj.2,uc001uus.2,uc001vbz.3,uc001xlk.2,uc001xrn.2,uc001xyp.2,uc001ygc.2,uc001ygs.2,uc001zph.2,uc001zvj.2,uc001zxc.1,uc001zxd.1,uc001zyg.2,uc002bjz.3,uc002dlq.2,uc002elg.1,uc002fsm.2,uc002ftm.3,uc002hzh.2,uc002iof.2,uc002ipa.2,uc002iso.2,uc002lrr.3,uc002nip.2,uc002pgj.1,uc002rpd.2,uc002rzj.2,uc002utb.2,uc002vry.3,uc003bxt.2,uc003bxu.3,uc003cbq.2,uc003cwu.2,uc003cyq.1,uc003dmf.2,uc003drw.2,uc003dwg.3,uc003evd.2,uc003fbl.3,uc003hhm.3,uc003hrx.2,uc003hwc.2,uc003hyp.2,uc003inf.2,uc003iqg.3,uc003ixh.2,uc003ldb.1,uc003lra.1,uc003lsp.2,uc003lyd.2,uc003mmt.2,uc003pmk.2,uc003prx.2,uc003pwp.3,uc003qdg.2,uc003qug.2,uc003tvm.1,uc003uhf.3,uc003vid.2,uc003vjq.3,uc003wly.2,uc003wvm.1,uc003xfb.1,uc003xik.2,uc003zqn.2,uc004aht.2,uc004ajv.3,uc004arh.2,uc004bpg.3,uc004cxi.2,uc004eef.2,uc010aeu.1,uc010dxu.2,uc010ioj.2,uc010miq.1,uc010qlr.1,uc010snd.1,uc010sxc.1,uc010uhc.1,uc010vvn.1,uc010zei.1,uc011bad.1,uc011ceo.1,uc011dpt.1,uc011lhk.1 | L10: 2.1463991e-21 | M10: 4.69e-25 | N10: 2.1308083e-44 | O10: 1.9603436e-43 | P10: 3.9206873e-42
A11: MIMAT0000261 | B11: hsa-miR-183-5p | C11: 2.3789398 | D11: =IF(COUNTIF('TDP-43 miRNAs'!A$2:B$86,A11)>0,"yes","") -> yes | E11: =IF(COUNTIF('LUAD TDP-43 correlations'!$A$2:$A$1034,$A11)>0,LOOKUP($A11,'LUAD TDP-43 correlations'!$A$2:$A$1034,'LUAD TDP-43 correlations'!C$2:C$1034),"n/a") -> 0.055060065 | F11: =IF(COUNTIF('LUAD TDP-43 correlations'!$A$2:$A$1034,$A11)>0,LOOKUP($A11,'LUAD TDP-43 correlations'!$A$2:$A$1034,'LUAD TDP-43 correlations'!E$2:E$1034),"n/a") -> 9.2205009e-06 | G11: -1.2011546 | H11: 970 | I11: 79 | J11: 4.02 | K11: uc001bjo.2,uc001bmc.2,uc001cyc.1,uc001dxm.1,uc001gun.3,uc001iol.2,uc001ivi.1,uc001ize.1,uc001kvv.2,uc001kwi.2,uc001lab.2,uc001mem.1,uc001pio.1,uc001pku.2,uc001rbr.2,uc001tnj.2,uc001uqf.3,uc001uqy.2,uc001uxl.3,uc001vbl.3,uc001wob.3,uc001xyp.2,uc001ygc.2,uc001ygs.2,uc001zxc.1,uc002czx.2,uc002fsl.2,uc002fsm.2,uc002gif.1,uc002igp.1,uc002igr.1,uc002jtr.2,uc002kkm.2,uc002nvd.3,uc002rut.2,uc002rzj.2,uc002sbs.2,uc002tlv.2,uc002ugy.3,uc002utb.2,uc002wsv.2,uc002ymd.2,uc003cwu.2,uc003dpe.2,uc003evd.2,uc003evt.3,uc003goc.1,uc003idq.1,uc003inf.2,uc003jli.2,uc003kos.3,uc003kxr.2,uc003ldb.1,uc003lra.1,uc003lsp.2,uc003prx.2,uc003pxi.2,uc003pyy.1,uc003qbr.2,uc003qcz.2,uc003qdg.2,uc003syn.1,uc003tln.2,uc003tvm.1,uc003vjk.2,uc003wly.2,uc003xik.2,uc003xzf.2,uc004aso.1,uc004bpg.3,uc004chz.2,uc004dpe.2,uc004dwf.2,uc004eon.1,uc004fmt.2,uc010vzx.1,uc011bkt.1,uc011cqs.1,uc011lhk.1 | L11: 1.7936731e-20 | M11: 8.31e-18 | N11: 2.6761545e-36 | O11: 1.6413748e-35 | P11: 4.9241243e-34
A12: MIMAT0004584 | B12: hsa-let-7g-3p | C12: 2.1186921 | D12: =IF(COUNTIF('TDP-43 miRNAs'!A$2:B$86,A12)>0,"yes","") -> yes | E12: =IF(COUNTIF('LUAD TDP-43 correlations'!$A$2:$A$1034,$A12)>0,LOOKUP($A12,'LUAD TDP-43 correlations'!$A$2:$A$1034,'LUAD TDP-43 correlations'!C$2:C$1034),"n/a") -> 0.0060130748 | F12: =IF(COUNTIF('LUAD TDP-43 correlations'!$A$2:$A$1034,$A12)>0,LOOKUP($A12,'LUAD TDP-43 correlations'!$A$2:$A$1034,'LUAD TDP-43 correlations'!E$2:E$1034),"n/a") -> 0.21594488 | G12: -1.3692482 | H12: 1397 | I12: 130 | J12: 6.61 | K12: uc001cyj.1,uc001cze.2,uc001dtg.3,uc001gun.3,uc001irr.1,uc001ivi.1,uc001ize.1,uc001jrd.3,uc001kea.2,uc001llp.2,uc001mki.2,uc001mvm.2,uc001ntl.2,uc001ofy.3,uc001ozx.3,uc001pce.2,uc001pku.2,uc001ppi.3,uc001rbr.2,uc001sln.2,uc001tnj.2,uc001ufe.2,uc001unq.3,uc001uqf.3,uc001uqy.2,uc001usp.2,uc001uus.2,uc001uxf.2,uc001uxl.3,uc001uxt.2,uc001vcu.2,uc001vkd.2,uc001wtf.3,uc001xlk.2,uc001xlp.2,uc001xou.2,uc001xyp.2,uc001ygc.2,uc001zfo.2,uc001zni.2,uc002ama.2,uc002amp.2,uc002amr.2,uc002aqz.2,uc002bjz.3,uc002czx.2,uc002ete.1,uc002giw.1,uc002gwn.2,uc002heo.1,uc002iuj.3,uc002jek.2,uc002kkm.2,uc002ldg.2,uc002ndw.2,uc002obn.1,uc002pex.2,uc002rxy.2,uc002rzj.2,uc002scy.3,uc002sfz.3,uc002sgn.3,uc002svm.3,uc002wss.2,uc002xtw.1,uc002xvo.2,uc002yxg.2,uc003bne.1,uc003bxt.2,uc003ceb.2,uc003clu.1,uc003cox.1,uc003cwu.2,uc003dja.2,uc003dwv.1,uc003eic.2,uc003fuj.2,uc003gmc.2,uc003hhl.2,uc003hqs.3,uc003hwc.2,uc003iah.2,uc003idq.1,uc003iqg.3,uc003ixh.2,uc003jfn.1,uc003jhw.1,uc003jlz.2,uc003kka.3,uc003kte.2,uc003kxr.2,uc003len.2,uc003lpr.1,uc003mbv.1,uc003mwy.1,uc003mzv.2,uc003ncw.2,uc003ojx.3,uc003pmv.2,uc003pvf.2,uc003pwp.3,uc003qcz.2,uc003qpc.3,uc003sym.3,uc003und.2,uc003whj.2,uc003wly.2,uc003xcz.1,uc003xie.1,uc003xkm.1,uc003yvx.2,uc003yvy.2,uc003zyv.2,uc004aht.2,uc004aso.1,uc004aub.2,uc004auc.2,uc004axl.1,uc004blc.2,uc004cfb.2,uc004cxe.2,uc004dgi.3,uc004edh.2,uc009zme.1,uc010nko.2,uc010sbu.1,uc010snd.1,uc010sxc.1,uc010tyf.1,uc010zei.1 | L12: 1.4712132e-18 | M12: 1.34e-33 | N12: 5.5420002e-49 | O12: 7.2837717e-48 | P12: 1.019728e-46
A13: MIMAT0000432 | B13: hsa-miR-141-3p | C13: 1.9100674 | D13: =IF(COUNTIF('TDP-43 miRNAs'!A$2:B$86,A13)>0,"yes","") | E13: =IF(COUNTIF('LUAD TDP-43 correlations'!$A$2:$A$1034,$A13)>0,LOOKUP($A13,'LUAD TDP-43 correlations'!$A$2:$A$1034,'LUAD TDP-43 correlations'!C$2:C$1034),"n/a") -> 0.000858224 | F13: =IF(COUNTIF('LUAD TDP-43 correlations'!$A$2:$A$1034,$A13)>0,LOOKUP($A13,'LUAD TDP-43 correlations'!$A$2:$A$1034,'LUAD TDP-43 correlations'!E$2:E$1034),"n/a") -> 0.67771571 | G13: -1.3183648 | H13: 1580 | I13: 140 | J13: 7.12 | K13: uc001aja.3,uc001aol.2,uc001bjo.2,uc001cze.2,uc001diq.3,uc001dsg.2,uc001dtg.3,uc001enn.3,uc001ggm.3,uc001gws.2,uc001iha.2,uc001ims.2,uc001kkh.2,uc001mws.1,uc001mye.3,uc001myh.1,uc001pku.2,uc001plt.2,uc001ppi.3,uc001pyi.3,uc001qmo.2,uc001rbr.2,uc001tbi.3,uc001uxf.2,uc001uxl.3,uc001uxt.2,uc001vbz.3,uc001vkd.2,uc001xrn.2,uc001xyp.2,uc001xzx.3,uc001yeh.3,uc001zxd.1,uc002aeg.2,uc002ama.2,uc002anc.1,uc002aph.2,uc002bcm.2,uc002cvx.2,uc002cvz.3,uc002fsl.2,uc002fsm.2,uc002gan.1,uc002gll.2,uc002gvt.2,uc002gwn.2,uc002hqc.2,uc002hzh.2,uc002ied.3,uc002iso.2,uc002iuj.3,uc002jek.2,uc002mbf.2,uc002rut.2,uc002rxy.2,uc002rzn.2,uc002sbs.2,uc002scy.3,uc002sgn.3,uc002tev.1,uc002tlv.2,uc002utb.2,uc002uuo.3,uc002uzf.3,uc002wss.2,uc002wsv.2,uc002xvo.2,uc002zvp.1,uc003adp.3,uc003bqq.2,uc003bzp.1,uc003ceb.2,uc003ckc.2,uc003dge.2,uc003dpe.2,uc003drw.2,uc003dwg.3,uc003dwv.1,uc003eic.2,uc003evd.2,uc003exp.3,uc003gsq.1,uc003hhm.3,uc003hmr.2,uc003hna.2,uc003hwz.2,uc003iah.2,uc003idq.1,uc003iqg.3,uc003jfn.1,uc003jhw.1,uc003jlz.2,uc003kos.3,uc003kxr.2,uc003lra.1,uc003mbv.1,uc003mch.2,uc003pfa.2,uc003pmk.2,uc003prx.2,uc003pwj.2,uc003qhr.2,uc003qin.2,uc003qkt.2,uc003qug.2,uc003sjy.1,uc003uhf.3,uc003vjk.2,uc003wzk.3,uc003wzp.2,uc003xcz.1,uc003xie.1,uc003xik.2,uc003xjo.1,uc003xsb.3,uc003yca.1,uc003zij.1,uc003zqn.2,uc004agr.2,uc004agw.1,uc004aht.2,uc004ajv.3,uc004aso.1,uc004aub.2,uc004auc.2,uc004ben.2,uc004blc.2,uc004bpg.3,uc004cxe.2,uc004dgw.3,uc009zme.1,uc010aeu.1,uc010nko.2,uc010oiu.1,uc010qji.1,uc010qlr.1,uc010yny.1,uc011bad.1,uc011ceo.1,uc011dpt.1 | L13: 2.382175e-14 | M13: 6.72e-34 | N13: 4.6610417e-44 | O13: 3.8983258e-43 | P13: 8.5763167e-42
A14: MIMAT0000100 | B14: hsa-miR-29b-3p | C14: 1.7338716 | D14: =IF(COUNTIF('TDP-43 miRNAs'!A$2:B$86,A14)>0,"yes","") -> yes | E14: =IF(COUNTIF('LUAD TDP-43 correlations'!$A$2:$A$1034,$A14)>0,LOOKUP($A14,'LUAD TDP-43 correlations'!$A$2:$A$1034,'LUAD TDP-43 correlations'!C$2:C$1034),"n/a") -> 0.0095797323 | F14: =IF(COUNTIF('LUAD TDP-43 correlations'!$A$2:$A$1034,$A14)>0,LOOKUP($A14,'LUAD TDP-43 correlations'!$A$2:$A$1034,'LUAD TDP-43 correlations'!E$2:E$1034),"n/a") -> 0.10059742 | G14: -1.3654907 | H14: 1122 | I14: 105 | J14: 5.34 | K14: uc001bhh.3,uc001cyc.1,uc001cze.2,uc001dtg.3,uc001hub.2,uc001irr.1,uc001jsd.2,uc001llp.2,uc001ntl.2,uc001ozh.2,uc001pce.2,uc001pku.2,uc001qmo.2,uc001smg.1,uc001tbi.3,uc001uey.1,uc001unq.3,uc001uus.2,uc001xmc.3,uc001xou.2,uc001xrn.2,uc001xst.2,uc001zyy.2,uc002amp.2,uc002anc.1,uc002aqf.2,uc002czx.2,uc002dlq.2,uc002frj.2,uc002gbm.3,uc002giw.1,uc002iso.2,uc002iyt.1,uc002jek.2,uc002kkm.2,uc002mbf.2,uc002ndw.2,uc002nic.1,uc002nvd.3,uc002olh.1,uc002phj.3,uc002rpd.2,uc002rzj.2,uc002tev.1,uc002ugy.3,uc002uyb.3,uc002vtb.1,uc002xvo.2,uc002yak.2,uc002ymf.2,uc003cmx.2,uc003coq.2,uc003cox.1,uc003dja.2,uc003dmf.2,uc003dpe.2,uc003ecj.3,uc003eic.2,uc003exp.3,uc003fbl.3,uc003gsq.1,uc003gzj.2,uc003hrx.2,uc003iah.2,uc003ifa.2,uc003inf.2,uc003jfn.1,uc003jli.2,uc003kka.3,uc003ldc.3,uc003lsp.2,uc003mzv.2,uc003nar.2,uc003pmv.2,uc003psd.2,uc003qhr.2,uc003qug.2,uc003tar.1,uc003vid.2,uc003vjk.2,uc003whl.2,uc003wly.2,uc003wzk.3,uc003xfb.1,uc003xie.1,uc003xkm.1,uc003xzf.2,uc003yvx.2,uc003znj.2,uc003zyv.2,uc004ben.2,uc004blc.2,uc004bpg.3,uc004cxi.2,uc004edh.2,uc009zme.1,uc010dpw.2,uc010hci.2,uc010qlr.1,uc010snd.1,uc010snf.1,uc010uhc.1,uc010vvn.1,uc010yny.1,uc011bad.1 | L14: 8.4762521e-14 | M14: 1.11e-27 | N14: 3.0259797e-38 | O14: 1.9199319e-37 | P14: 5.5678026e-36
... A67: MIMAT0000455 | B67: hsa-miR-185-5p | C67: 0.34710284 | D67: =IF(COUNTIF('TDP-43 miRNAs'!A$2:B$86,A67)>0,"yes","") -> yes | E67: =IF(COUNTIF('LUAD TDP-43 correlations'!$A$2:$A$1034,$A67)>0,LOOKUP($A67,'LUAD TDP-43 correlations'!$A$2:$A$1034,'LUAD TDP-43 correlations'!C$2:C$1034),"n/a") -> 0.00010433512 | F67: =IF(COUNTIF('LUAD TDP-43 correlations'!$A$2:$A$1034,$A67)>0,LOOKUP($A67,'LUAD TDP-43 correlations'!$A$2:$A$1034,'LUAD TDP-43 correlations'!E$2:E$1034),"n/a") -> 0.89471885 | G67: -1.1993999 | H67: 1277 | I67: 103 | J67: 5.24 | K67: uc001abs.2,uc001bjo.2,uc001bsc.2,uc001dqj.3,uc001fca.1,uc001fyt.3,uc001gzq.2,uc001hgw.1,uc001hmv.3,uc001iup.2,uc001jbr.3,uc001jsv.2,uc001mye.3,uc001myh.1,uc001njo.2,uc001nqg.2,uc001pio.1,uc001plt.2,uc001qav.3,uc001qsi.2,uc001smg.1,uc001tbt.2,uc001tvs.1,uc001tvz.1,uc001ufe.2,uc001uqf.3,uc001vcu.2,uc001xzx.3,uc001zmp.1,uc002amp.2,uc002bup.2,uc002cvz.3,uc002ghk.2,uc002gif.1,uc002gkd.2,uc002gsg.1,uc002heo.1,uc002htv.2,uc002hxj.2,uc002hxk.2,uc002hzh.2,uc002hzo.2,uc002jky.1,uc002jvl.2,uc002lxd.2,uc002ndw.2,uc002pcm.2,uc002pdv.2,uc002pex.2,uc002rne.2,uc002rng.2,uc002ruv.2,uc002rxu.2,uc002rzn.2,uc002sfz.3,uc002uuo.3,uc002vtb.1,uc002wfl.3,uc002xvo.2,uc002zpu.2,uc003adp.3,uc003anb.2,uc003bbi.2,uc003cbq.2,uc003clu.1,uc003coq.2,uc003cox.1,uc003cwu.2,uc003dmn.2,uc003evt.3,uc003jli.2,uc003kos.3,uc003len.2,uc003ncs.2,uc003qin.2,uc003qks.3,uc003wly.2,uc003wzk.3,uc003xik.2,uc003xkm.1,uc003zqn.2,uc003zys.1,uc004aht.2,uc004aso.1,uc004auc.2,uc004ben.2,uc004blc.2,uc004bpg.3,uc004csf.2,uc004dwf.2,uc004eon.1,uc004fmt.2,uc009zdl.1,uc010cen.2,uc010dxu.2,uc010hci.2,uc010miq.1,uc010vvn.1,uc010zei.1,uc011bad.1,uc011dcm.1,uc011dpt.1,uc011ljd.1 | L67: 0.079278827 | M67: 2.1e-22 | N67: 2.401677e-15 | O67: 3.7135174e-15 | P67: 4.4190857e-13
A69: Not Differentially Expressed miRNAs
A70: miRBaseAccension | B70: ID | C70: log2FoldChange | D70: Regulated by TDP-43? | E70: R2 TDP-43 Correlation | F70: Correlation Adjusted P-value | G70: odds_ratio_log | H70: numPredictedTargets | I70: numDEgenes | J70: percentDEgenes | K70: DEgeneList | L70: pDESeq2 | M70: pFatiscan | N70: pCombined | O70: pCombinedFDR | P70: pCombinedFWER
A71: MIMAT0004502 | B71: hsa-miR-28-3p | C71: 0.22393538 | D71: =IF(COUNTIF('TDP-43 miRNAs'!A$2:B$86,A71)>0,"yes","") | E71: =IF(COUNTIF('LUAD TDP-43 correlations'!$A$2:$A$1034,$A71)>0,LOOKUP($A71,'LUAD TDP-43 correlations'!$A$2:$A$1034,'LUAD TDP-43 correlations'!C$2:C$1034),"n/a") -> 0.0012563126 | F71: =IF(COUNTIF('LUAD TDP-43 correlations'!$A$2:$A$1034,$A71)>0,LOOKUP($A71,'LUAD TDP-43 correlations'!$A$2:$A$1034,'LUAD TDP-43 correlations'!E$2:E$1034),"n/a") -> 0.602445 | G71: -1.032479 | H71: 724 | I71: 51 | J71: 2.59 | K71: uc001cyc.1,uc001gws.2,uc001ims.2,uc001pio.1,uc001rbr.2,uc001umh.2,uc001uus.2,uc001vbz.3,uc001xrn.2,uc001xst.2,uc001ygc.2,uc001zxc.1,uc002fsl.2,uc002fsm.2,uc002jhw.1,uc002jvw.2,uc002olh.1,uc002ont.3,uc002rxu.2,uc002rzj.2,uc002vtb.1,uc002xvl.2,uc003cmx.2,uc003cyq.1,uc003dja.2,uc003exp.3,uc003hmr.2,uc003hna.2,uc003iqg.3,uc003ixh.2,uc003kos.3,uc003len.2,uc003mmt.2,uc003mvt.2,uc003prx.2,uc003pyy.1,uc003qbr.2,uc003qcz.2,uc003qug.2,uc003tar.1,uc003vqx.3,uc003wly.2,uc004agw.1,uc004bgq.2,uc004csf.2,uc004dgw.3,uc010cen.2,uc010dpw.2,uc010uhc.1,uc011ceo.1,uc011lhk.1 | L71: 0.13411542 | M71: 7.56e-10 | N71: 2.14101e-07 | O71: 2.3173285e-07 | P71: 3.9394584e-05
A72: MIMAT0000425 | B72: hsa-miR-130a-3p | C72: 0.36541716 | D72: =IF(COUNTIF('TDP-43 miRNAs'!A$2:B$86,A72)>0,"yes","") -> yes | E72: =IF(COUNTIF('LUAD TDP-43 correlations'!$A$2:$A$1034,$A72)>0,LOOKUP($A72,'LUAD TDP-43 correlations'!$A$2:$A$1034,'LUAD TDP-43 correlations'!C$2:C$1034),"n/a") -> 0.043623025 | F72: =IF(COUNTIF('LUAD TDP-43 correlations'!$A$2:$A$1034,$A72)>0,LOOKUP($A72,'LUAD TDP-43 correlations'!$A$2:$A$1034,'LUAD TDP-43 correlations'!E$2:E$1034),"n/a") -> 0.00010389898 | G72: -1.4116946 | H72: 1248 | I72: 121 | J72: 6.15 | K72: uc001aol.2,uc001bjo.2,uc001bou.3,uc001dqj.3,uc001dtg.3,uc001enn.3,uc001hdx.2,uc001hzy.1,uc001iha.2,uc001irr.1,uc001iup.2,uc001iux.2,uc001ize.1,uc001jlx.2,uc001led.2,uc001mhe.1,uc001mki.2,uc001mrd.2,uc001myh.1,uc001njo.2,uc001pce.2,uc001pku.2,uc001qxs.2,uc001tmi.3,uc001uqf.3,uc001uqy.2,uc001vbl.3,uc001vcu.2,uc001xlk.2,uc001xlp.2,uc001xou.2,uc001zni.2,uc001zxd.1,uc001zyg.2,uc002anv.2,uc002bup.2,uc002dlq.2,uc002ete.1,uc002fjl.2,uc002frj.2,uc002gwn.2,uc002heo.1,uc002iuj.3,uc002jvl.2,uc002ldg.2,uc002lwb.1,uc002mgt.1,uc002ohq.2,uc002rxy.2,uc002rzn.2,uc002scy.3,uc002sgn.3,uc002tev.1,uc002ugy.3,uc002uyb.3,uc002uzf.3,uc002vtb.1,uc003akm.2,uc003cah.2,uc003ckc.2,uc003clu.1,uc003csa.3,uc003dge.2,uc003dja.2,uc003dmf.2,uc003dwv.1,uc003eic.2,uc003evt.3,uc003fuj.2,uc003goc.1,uc003gsq.1,uc003gzj.2,uc003hhl.2,uc003hqs.3,uc003hyp.2,uc003iah.2,uc003iqg.3,uc003ire.2,uc003jhw.1,uc003kte.2,uc003lsp.2,uc003mch.2,uc003mzv.2,uc003nar.2,uc003omm.3,uc003pmk.2,uc003pmv.2,uc003qcz.2,uc003qdg.2,uc003qhr.2,uc003qin.2,uc003qkt.2,uc003qug.2,uc003syn.1,uc003uhf.3,uc003vid.2,uc003vjk.2,uc003wly.2,uc003wzp.2,uc003xfb.1,uc003zqn.2,uc004agr.2,uc004ajv.3,uc004aso.1,uc004axl.1,uc004bdo.1,uc004blc.2,uc004blh.2,uc004chz.2,uc004deb.2,uc004dgw.3,uc009vnl.2,uc010dhc.2,uc010dxu.2,uc010hrn.2,uc010ofj.1,uc010qji.1,uc010sbu.1,uc010zei.1,uc011bad.1,uc011lhk.1 | L72: 0.13722604 | M72: 5.78e-33 | N72: 1.9875261e-20 | O72: 3.8495242e-20 | P72: 3.657048e-18
A73: MIMAT0000258 | B73: hsa-miR-181c-5p | C73: 0.3030578 | D73: =IF(COUNTIF('TDP-43 miRNAs'!A$2:B$86,A73)>0,"yes","") | E73: =IF(COUNTIF('LUAD TDP-43 correlations'!$A$2:$A$1034,$A73)>0,LOOKUP($A73,'LUAD TDP-43 correlations'!$A$2:$A$1034,'LUAD TDP-43 correlations'!C$2:C$1034),"n/a") -> 0.00041319546 | F73: =IF(COUNTIF('LUAD TDP-43 correlations'!$A$2:$A$1034,$A73)>0,LOOKUP($A73,'LUAD TDP-43 correlations'!$A$2:$A$1034,'LUAD TDP-43 correlations'!E$2:E$1034),"n/a") -> 0.77454623 | G73: -1.1967612 | H73: 1683 | I73: 134 | J73: 6.82 | K73: uc001abs.2,uc001bou.3,uc001csi.3,uc001cyj.1,uc001diq.3,uc001dle.2,uc001dnl.3,uc001dtg.3,uc001dxm.1,uc001ggm.3,uc001gun.3,uc001hmq.2,uc001iha.2,uc001irr.1,uc001iup.2,uc001ivi.1,uc001jsv.2,uc001llp.2,uc001mhe.1,uc001myh.1,uc001ntl.2,uc001ozh.2,uc001ozx.3,uc001plt.2,uc001ppi.3,uc001qby.1,uc001tbt.2,uc001tnj.2,uc001unq.3,uc001uqf.3,uc001url.3,uc001usp.2,uc001uus.2,uc001vkd.2,uc001xlp.2,uc001xou.2,uc001xrn.2,uc001xyl.1,uc001zni.2,uc001zvj.2,uc001zxc.1,uc002ama.2,uc002aph.2,uc002cvx.2,uc002czx.2,uc002dlq.2,uc002frj.2,uc002fsl.2,uc002fsm.2,uc002gif.1,uc002gll.2,uc002gsg.1,uc002iso.2,uc002jek.2,uc002jsn.1,uc002ldg.2,uc002lnl.2,uc002lvl.2,uc002rpd.2,uc002rut.2,uc002rzn.2,uc002scy.3,uc002sgn.3,uc002uuo.3,uc002uyb.3,uc002vtb.1,uc002wss.2,uc002xgh.1,uc002ymf.2,uc003anb.2,uc003cbq.2,uc003dja.2,uc003dmn.2,uc003drw.2,uc003eic.2,uc003exp.3,uc003fbl.3,uc003fuj.2,uc003goc.1,uc003gsq.1,uc003gzj.2,uc003hhl.2,uc003hhm.3,uc003ifa.2,uc003inf.2,uc003jli.2,uc003jlz.2,uc003kos.3,uc003kxr.2,uc003ldb.1,uc003ldc.3,uc003mch.2,uc003nar.2,uc003ncs.2,uc003ncw.2,uc003pmk.2,uc003pmv.2,uc003prx.2,uc003psd.2,uc003pyy.1,uc003qbr.2,uc003qcz.2,uc003qdg.2,uc003qin.2,uc003qug.2,uc003sym.3,uc003tar.1,uc003vid.2,uc003whk.2,uc003wly.2,uc003xfb.1,uc003xsb.3,uc003zyv.2,uc004agw.1,uc004aht.2,uc004ajv.3,uc004aso.1,uc004aub.2,uc004bpg.3,uc004csf.2,uc004cxe.2,uc004deb.2,uc004dgw.3,uc010cen.2,uc010dxu.2,uc010hci.2,uc010ioj.2,uc010nko.2,uc010qji.1,uc010snd.1,uc011bad.1,uc011ceo.1,uc011dpt.1,uc011ljd.1 | L73: 0.22397988 | M73: 3.81e-28 | N73: 6.663759e-17 | O73: 1.1146651e-16 | P73: 1.2261316e-14
A74: MIMAT0002809 | B74: hsa-miR-146b-5p | C74: 0.3534895 | D74: =IF(COUNTIF('TDP-43 miRNAs'!A$2:B$86,A74)>0,"yes","") -> yes | E74: =IF(COUNTIF('LUAD TDP-43 correlations'!$A$2:$A$1034,$A74)>0,LOOKUP($A74,'LUAD TDP-43 correlations'!$A$2:$A$1034,'LUAD TDP-43 correlations'!C$2:C$1034),"n/a") -> 0.0018126943 | F74: =IF(COUNTIF('LUAD TDP-43 correlations'!$A$2:$A$1034,$A74)>0,LOOKUP($A74,'LUAD TDP-43 correlations'!$A$2:$A$1034,'LUAD TDP-43 correlations'!E$2:E$1034),"n/a") -> 0.52555378 | G74: -1.3536723 | H74: 1078 | I74: 100 | J74: 5.09 | K74: uc001bsc.2,uc001csi.3,uc001dqj.3,uc001dtg.3,uc001dxm.1,uc001gzq.2,uc001ims.2,uc001iup.2,uc001jbr.3,uc001jlx.2,uc001kea.2,uc001kkh.2,uc001kwi.2,uc001lab.2,uc001mvm.2,uc001mws.1,uc001mye.3,uc001myh.1,uc001ntl.2,uc001ppi.3,uc001rxb.2,uc001smg.1,uc001tbt.2,uc001tmi.3,uc001tvz.1,uc001umh.2,uc001url.3,uc001utf.1,uc001uxf.2,uc001uxt.2,uc001vkd.2,uc001xlk.2,uc001xlp.2,uc001zyg.2,uc002amp.2,uc002anc.1,uc002efp.2,uc002fbd.2,uc002giy.2,uc002heo.1,uc002ibv.2,uc002iuj.3,uc002nvd.3,uc002olh.1,uc002pxe.2,uc002rut.2,uc002rxy.2,uc002rzn.2,uc002scy.3,uc002sgn.3,uc002svm.3,uc002uuo.3,uc002uyb.3,uc002vcl.2,uc002wds.2,uc002wfl.3,uc002wsv.2,uc002xvl.2,uc002yak.2,uc002yxg.2,uc003bxt.2,uc003ckc.2,uc003cwu.2,uc003evd.2,uc003evt.3,uc003fuj.2,uc003hyi.2,uc003iah.2,uc003icv.3,uc003ire.2,uc003jhw.1,uc003jlz.2,uc003ldc.3,uc003lpr.1,uc003mch.2,uc003ncs.2,uc003prx.2,uc003pwj.2,uc003pwp.3,uc003pyy.1,uc003qhr.2,uc003svj.3,uc003uhf.3,uc003vjk.2,uc003vsi.2,uc003whl.2,uc003xzf.2,uc003zij.1,uc003znj.2,uc004agw.1,uc004auc.2,uc004blh.2,uc009zdl.1,uc010dye.1,uc010nko.2,uc010qji.1,uc010snd.1,uc011ceo.1,uc011dcm.1,uc011dpt.1 | L74: 0.24437745 | M74: 3.6e-26 | N74: 1.1289579e-15 | O74: 1.7754551e-15 | P74: 2.0772824e-13
A75: MIMAT0000733 | B75: hsa-miR-379-5p | C75: 0.50231895 | D75: =IF(COUNTIF('TDP-43 miRNAs'!A$2:B$86,A75)>0,"yes","") | E75: =IF(COUNTIF('LUAD TDP-43 correlations'!$A$2:$A$1034,$A75)>0,LOOKUP($A75,'LUAD TDP-43 correlations'!$A$2:$A$1034,'LUAD TDP-43 correlations'!C$2:C$1034),"n/a") -> 0.0048731892 | F75: =IF(COUNTIF('LUAD TDP-43 correlations'!$A$2:$A$1034,$A75)>0,LOOKUP($A75,'LUAD TDP-43 correlations'!$A$2:$A$1034,'LUAD TDP-43 correlations'!E$2:E$1034),"n/a") -> 0.2761806 | G75: -1.3058546 | H75: 452 | I75: 41 | J75: 2.09 | K75: uc001ebe.2,uc001jbr.3,uc001rxb.2,uc001wum.1,uc001xgb.1,uc001xrn.2,uc001zot.2,uc002aqf.2,uc002ghh.2,uc002hhy.2,uc002imk.2,uc002iso.2,uc002jvl.2,uc002mwr.2,uc002scy.3,uc002vry.3,uc002vtb.1,uc003anb.2,uc003bxt.2,uc003cwu.2,uc003dxy.2,uc003hna.2,uc003hwc.2,uc003hyi.2,uc003hyp.2,uc003iqg.3,uc003len.2,uc003lpr.1,uc003mbv.1,uc003nqg.2,uc003omm.3,uc003vjk.2,uc003xfb.1,uc004dgg.2,uc010miq.1,uc010oiu.1,uc010qji.1,uc010sbu.1,uc010ude.1,uc010xhe.1,uc011dcm.1 | L75: 0.24489852 | M75: 2.16e-11 | N75: 1.3019559e-07 | O75: 1.4175142e-07 | P75: 2.3955989e-05
A76: MIMAT0000617 | B76: hsa-miR-200c-3p | C76: 0.27070459 | D76: =IF(COUNTIF('TDP-43 miRNAs'!A$2:B$86,A76)>0,"yes","") | E76: =IF(COUNTIF('LUAD TDP-43 correlations'!$A$2:$A$1034,$A76)>0,LOOKUP($A76,'LUAD TDP-43 correlations'!$A$2:$A$1034,'LUAD TDP-43 correlations'!C$2:C$1034),"n/a") -> 0.00072965716 | F76: =IF(COUNTIF('LUAD TDP-43 correlations'!$A$2:$A$1034,$A76)>0,LOOKUP($A76,'LUAD TDP-43 correlations'!$A$2:$A$1034,'LUAD TDP-43 correlations'!E$2:E$1034),"n/a") -> 0.70291153 | G76: -1.4430408 | H76: 1704 | I76: 167 | J76: 8.49 | K76: uc001aol.2,uc001bjo.2,uc001cyj.1,uc001cze.2,uc001dck.2,uc001diq.3,uc001dnl.3,uc001dqj.3,uc001dtg.3,uc001dxm.1,uc001fyt.3,uc001hgw.1,uc001hub.2,uc001hzy.1,uc001iha.2,uc001ims.2,uc001iol.2,uc001iux.2,uc001ivi.1,uc001jlx.2,uc001jrd.3,uc001kvv.2,uc001kwi.2,uc001mhl.2,uc001mrd.2,uc001mws.1,uc001ntl.2,uc001ohr.2,uc001ozx.3,uc001pku.2,uc001qbx.2,uc001qxs.2,uc001rbr.2,uc001rxb.2,uc001snd.2,uc001tbi.3,uc001tln.2,uc001tnj.2,uc001tvz.1,uc001uqf.3,uc001uqy.2,uc001uus.2,uc001uxf.2,uc001uxl.3,uc001uxt.2,uc001vbl.3,uc001vbz.3,uc001vdl.2,uc001vkd.2,uc001xmc.3,uc001xou.2,uc001xzx.3,uc001yeh.3,uc001ygs.2,uc001zxc.1,uc001zxd.1,uc001zyg.2,uc002amv.2,uc002aqf.2,uc002bup.2,uc002cvx.2,uc002eyx.2,uc002fjl.2,uc002gbm.3,uc002ghg.2,uc002ghh.2,uc002gwn.2,uc002heo.1,uc002iso.2,uc002iuj.3,uc002iyt.1,uc002jsn.1,uc002jvw.2,uc002nvd.3,uc002olh.1,uc002rng.2,uc002rpd.2,uc002ruv.2,uc002rxu.2,uc002rzn.2,uc002sbs.2,uc002tev.1,uc002uuo.3,uc002vcl.2,uc002vtb.1,uc002xvo.2,uc002ymd.2,uc002ymf.2,uc002yxg.2,uc002zvp.1,uc003bgj.1,uc003bxu.3,uc003bzp.1,uc003cbq.2,uc003cmx.2,uc003cox.1,uc003cwu.2,uc003dja.2,uc003dmn.2,uc003dwv.1,uc003eic.2,uc003exp.3,uc003gzj.2,uc003hrx.2,uc003hwc.2,uc003hwz.2,uc003hyk.2,uc003iah.2,uc003idq.1,uc003iqg.3,uc003ixh.2,uc003jlz.2,uc003kce.1,uc003kos.3,uc003kxr.2,uc003ldb.1,uc003ldc.3,uc003mbv.1,uc003mlz.3,uc003mma.3,uc003pfa.2,uc003psd.2,uc003pwj.2,uc003pyy.1,uc003qbr.2,uc003qhr.2,uc003qpc.3,uc003qug.2,uc003sjy.1,uc003syn.1,uc003vjk.2,uc003vjq.3,uc003wly.2,uc003xie.1,uc003xjo.1,uc003xkm.1,uc003xzf.2,uc003yca.1,uc003zij.1,uc003zxt.2,uc003zyv.2,uc004agr.2,uc004aht.2,uc004axl.1,uc004ben.2,uc004blc.2,uc004bpg.3,uc004chz.2,uc004csf.2,uc004cxe.2,uc004cxi.2,uc004deb.2,uc004dgt.2,uc004dgw.3,uc004dpe.2,uc004dwf.2,uc004edh.2,uc004eon.1,uc010aeu.1,uc010dpw.2,uc010hrn.2,uc010miq.1,uc010qlr.1,uc010sbu.1,uc010zei.1,uc011ceo.1,uc011lhk.1 | L76: 0.27465987 | M76: 5.89e-46 | N76: 7.1846324e-26 | O76: 2.3192498e-25 | P76: 1.3219724e-23
A77: MIMAT0000759 | B77: hsa-miR-148b-3p | C77: 0.21069476 | D77: =IF(COUNTIF('TDP-43 miRNAs'!A$2:B$86,A77)>0,"yes","") -> yes | E77: =IF(COUNTIF('LUAD TDP-43 correlations'!$A$2:$A$1034,$A77)>0,LOOKUP($A77,'LUAD TDP-43 correlations'!$A$2:$A$1034,'LUAD TDP-43 correlations'!C$2:C$1034),"n/a") -> 3.4414786e-06 | F77: =IF(COUNTIF('LUAD TDP-43 correlations'!$A$2:$A$1034,$A77)>0,LOOKUP($A77,'LUAD TDP-43 correlations'!$A$2:$A$1034,'LUAD TDP-43 correlations'!E$2:E$1034),"n/a") -> 0.98232557 | G77: -1.2863203 | H77: 1157 | I77: 101 | J77: 5.14 | K77: uc001bou.3,uc001dtg.3,uc001enn.3,uc001ggm.3,uc001iha.2,uc001iol.2,uc001jbv.1,uc001kcj.3,uc001mhe.1,uc001mki.2,uc001mvm.2,uc001myh.1,uc001njo.2,uc001ppi.3,uc001pyi.3,uc001rbr.2,uc001tmi.3,uc001unq.3,uc001uqf.3,uc001uqy.2,uc001url.3,uc001vbl.3,uc001vdl.2,uc001xyl.1,uc001zni.2,uc001zxd.1,uc001zyy.2,uc002bup.2,uc002dlq.2,uc002fjl.2,uc002giw.1,uc002ied.3,uc002iof.2,uc002iso.2,uc002jvl.2,uc002kkm.2,uc002ldg.2,uc002mgt.1,uc002pcm.2,uc002rne.2,uc002rpd.2,uc002ruv.2,uc002rzn.2,uc002uyb.3,uc002wmu.1,uc002xtw.1,uc002ymd.2,uc003akm.2,uc003bzp.1,uc003cbq.2,uc003cmx.2,uc003cox.1,uc003csa.3,uc003cwe.2,uc003dja.2,uc003dmf.2,uc003dpe.2,uc003dvn.2,uc003eic.2,uc003fuj.2,uc003gsq.1,uc003gzj.2,uc003hna.2,uc003hwz.2,uc003hyi.2,uc003iah.2,uc003icm.3,uc003icv.3,uc003inf.2,uc003kte.2,uc003ldc.3,uc003lsk.3,uc003lsp.2,uc003mbv.1,uc003mma.3,uc003pfa.2,uc003prx.2,uc003pwj.2,uc003pwp.3,uc003qdg.2,uc003qin.2,uc003qug.2,uc003syn.1,uc003vid.2,uc003wvm.1,uc003xfb.1,uc003xkm.1,uc003zqn.2,uc003zyv.2,uc003zyz.2,uc004ajv.3,uc004arh.2,uc004aso.1,uc004blc.2,uc004bpg.3,uc004efu.3,uc010dpw.2,uc010dxu.2,uc010nko.2,uc010ofj.1,uc011bad.1 | L77: 0.27694534 | M77: 1.77e-24 | N77: 1.5855504e-14 | O77: 2.2971754e-14 | P77: 2.9174128e-12
A78: MIMAT0005949 | B78: hsa-miR-664a-3p | C78: 0.25346829 | D78: =IF(COUNTIF('TDP-43 miRNAs'!A$2:B$86,A78)>0,"yes","") | E78: =IF(COUNTIF('LUAD TDP-43 correlations'!$A$2:$A$1034,$A78)>0,LOOKUP($A78,'LUAD TDP-43 correlations'!$A$2:$A$1034,'LUAD TDP-43 correlations'!C$2:C$1034),"n/a") -> 0.011246744 | F78: =IF(COUNTIF('LUAD TDP-43 correlations'!$A$2:$A$1034,$A78)>0,LOOKUP($A78,'LUAD TDP-43 correlations'!$A$2:$A$1034,'LUAD TDP-43 correlations'!E$2:E$1034),"n/a") -> 0.076410265 | G78: -1.241624 | H78: 2038 | I78: 167 | J78: 8.49 | K78: uc001abs.2,uc001bsc.2,uc001csi.3,uc001cze.2,uc001dle.2,uc001dnl.3,uc001dtg.3,uc001ebe.2,uc001enn.3,uc001ggm.3,uc001gun.3,uc001hmq.2,uc001hzy.1,uc001irr.1,uc001iup.2,uc001ivi.1,uc001jbv.1,uc001jlx.2,uc001led.2,uc001mki.2,uc001ozx.3,uc001plt.2,uc001ppi.3,uc001qvk.1,uc001rtp.2,uc001smg.1,uc001snd.2,uc001tbi.3,uc001tln.2,uc001tmi.3,uc001tnj.2,uc001tvs.1,uc001uqf.3,uc001url.3,uc001usp.2,uc001uus.2,uc001uxt.2,uc001vbz.3,uc001vkd.2,uc001xgb.1,uc001xrn.2,uc001xyl.1,uc001ygs.2,uc001zph.2,uc001zyg.2,uc002ama.2,uc002amp.2,uc002aph.2,uc002bup.2,uc002ghg.2,uc002ghh.2,uc002ghk.2,uc002gll.2,uc002gwn.2,uc002heo.1,uc002hhy.2,uc002htv.2,uc002hzh.2,uc002imk.2,uc002ipa.2,uc002jek.2,uc002jps.2,uc002jvl.2,uc002ldg.2,uc002pgj.1,uc002rxu.2,uc002rxy.2,uc002rzn.2,uc002scy.3,uc002tev.1,uc002ugy.3,uc002uyb.3,uc002vcl.2,uc002vtb.1,uc002wmu.1,uc002wss.2,uc002xvo.2,uc002ymf.2,uc003bne.1,uc003bxt.2,uc003bxu.3,uc003bzp.1,uc003cbq.2,uc003ceb.2,uc003ckc.2,uc003clh.2,uc003coq.2,uc003cox.1,uc003cyq.1,uc003dmf.2,uc003dwg.3,uc003ecj.3,uc003evt.3,uc003fbl.3,uc003gmc.2,uc003hmr.2,uc003hna.2,uc003hyi.2,uc003iev.1,uc003iqg.3,uc003ire.2,uc003ixh.2,uc003jek.2,uc003jfn.1,uc003jli.2,uc003kka.3,uc003kos.3,uc003kte.2,uc003lra.1,uc003lyd.2,uc003mbv.1,uc003mch.2,uc003mmt.2,uc003mzv.2,uc003nar.2,uc003ncw.2,uc003prx.2,uc003psd.2,uc003pxi.2,uc003pyy.1,uc003qbr.2,uc003qcz.2,uc003qdg.2,uc003qin.2,uc003qug.2,uc003sjy.1,uc003tar.1,uc003vid.2,uc003vjq.3,uc003whj.2,uc003whk.2,uc003wly.2,uc003wzk.3,uc003wzp.2,uc003xfb.1,uc003xie.1,uc003yvx.2,uc003znj.2,uc004agr.2,uc004agw.1,uc004aht.2,uc004ajv.3,uc004awm.2,uc004ben.2,uc004bgq.2,uc004blc.2,uc004bpg.3,uc004cfb.2,uc004chz.2,uc004cxe.2,uc004cxi.2,uc004deb.2,uc004dgw.3,uc004dys.1,uc004eef.2,uc004eus.2,uc004fmt.2,uc010aeu.1,uc010dxu.2,uc010nko.2,uc010oiu.1,uc010qji.1,uc010snd.1,uc010zei.1,uc011cqs.1,uc011dpt.1,uc011ljd.1 | L78: 0.27955505 | M78: 3.33e-36 | N78: 1.038429e-20 | O78: 2.0545262e-20 | P78: 1.9107094e-18
A79: MIMAT0000761 | B79: hsa-miR-324-5p | C79: 0.25182019 | D79: =IF(COUNTIF('TDP-43 miRNAs'!A$2:B$86,A79)>0,"yes","") | E79: =IF(COUNTIF('LUAD TDP-43 correlations'!$A$2:$A$1034,$A79)>0,LOOKUP($A79,'LUAD TDP-43 correlations'!$A$2:$A$1034,'LUAD TDP-43 correlations'!C$2:C$1034),"n/a") -> 0.0033161163 | F79: =IF(COUNTIF('LUAD TDP-43 correlations'!$A$2:$A$1034,$A79)>0,LOOKUP($A79,'LUAD TDP-43 correlations'!$A$2:$A$1034,'LUAD TDP-43 correlations'!E$2:E$1034),"n/a") -> 0.37598271 | G79: -1.0955127 | H79: 480 | I79: 36 | J79: 1.83 | K79: uc001bpc.3,uc001gxb.2,uc001hdx.2,uc001jsd.2,uc001mhe.1,uc001ohr.2,uc001uxl.3,uc001vbl.3,uc001yeh.3,uc001zot.2,uc002bup.2,uc002iso.2,uc002jek.2,uc002kln.2,uc002lxg.2,uc002nfa.2,uc002nvd.3,uc002rxu.2,uc002rzn.2,uc002scy.3,uc002ugy.3,uc002vry.3,uc002vtb.1,uc003dea.1,uc003dpe.2,uc003hyi.2,uc003ldc.3,uc003prx.2,uc003qbr.2,uc003whj.2,uc004csf.2,uc004eef.2,uc010cnt.1,uc010vvn.1,uc011dcm.1,uc011ljd.1 | L79: 0.37455069 | M79: 4.91e-08 | N79: 3.2340861e-05 | O79: 3.3619878e-05 | P79: 0.0059507184
A80: MIMAT0002819 | B80: hsa-miR-193b-3p | C80: 0.29908541 | D80: =IF(COUNTIF('TDP-43 miRNAs'!A$2:B$86,A80)>0,"yes","") | E80: =IF(COUNTIF('LUAD TDP-43 correlations'!$A$2:$A$1034,$A80)>0,LOOKUP($A80,'LUAD TDP-43 correlations'!$A$2:$A$1034,'LUAD TDP-43 correlations'!C$2:C$1034),"n/a") -> 0.0093245191 | F80: =IF(COUNTIF('LUAD TDP-43 correlations'!$A$2:$A$1034,$A80)>0,LOOKUP($A80,'LUAD TDP-43 correlations'!$A$2:$A$1034,'LUAD TDP-43 correlations'!E$2:E$1034),"n/a") -> 0.10649644 | G80: -1.0423235 | H80: 575 | I80: 41 | J80: 2.09 | K80: uc001ijv.2,uc001jlx.2,uc001ntl.2,uc001ppi.3,uc001qby.1,uc001uey.1,uc001xyl.1,uc002bjz.3,uc002bup.2,uc002cvx.2,uc002fsl.2,uc002fsm.2,uc002gsg.1,uc002jvl.2,uc002jvw.2,uc002sfz.3,uc002svm.3,uc002wds.2,uc003dwv.1,uc003fbl.3,uc003fuj.2,uc003hhm.3,uc003hyi.2,uc003inf.2,uc003iqg.3,uc003kce.1,uc003kxr.2,uc003ldc.3,uc003lvk.2,uc003mch.2,uc003mzv.2,uc003ncs.2,uc003pvf.2,uc003xzf.2,uc003zij.1,uc003zxt.2,uc003zyz.2,uc004agr.2,uc004dys.1,uc010sbu.1,uc011bad.1 | L80: 0.43844945 | M80: 2.43e-08 | N80: 3.6275731e-05 | O80: 3.7498509e-05 | P80: 0.0066747345
A81: MIMAT0000269 | B81: hsa-miR-212-3p | C81: 0.25773645 | D81: =IF(COUNTIF('TDP-43 miRNAs'!A$2:B$86,A81)>0,"yes","") | E81: =IF(COUNTIF('LUAD TDP-43 correlations'!$A$2:$A$1034,$A81)>0,LOOKUP($A81,'LUAD TDP-43 correlations'!$A$2:$A$1034,'LUAD TDP-43 correlations'!C$2:C$1034),"n/a") -> 0.0095959433 | F81: =IF(COUNTIF('LUAD TDP-43 correlations'!$A$2:$A$1034,$A81)>0,LOOKUP($A81,'LUAD TDP-43 correlations'!$A$2:$A$1034,'LUAD TDP-43 correlations'!E$2:E$1034),"n/a") -> 0.10041777 | G81: -1.1291706 | H81: 1157 | I81: 88 | J81: 4.48 | K81: uc001dqj.3,uc001hmp.1,uc001iol.2,uc001iup.2,uc001ivi.1,uc001ntl.2,uc001ofy.3,uc001ozh.2,uc001pku.2,uc001ppi.3,uc001uqf.3,uc001uxl.3,uc001uxt.2,uc001vdl.2,uc001xou.2,uc001zvj.2,uc001zxc.1,uc002ama.2,uc002bjz.3,uc002bup.2,uc002cvx.2,uc002elg.1,uc002ete.1,uc002fsl.2,uc002fsm.2,uc002gll.2,uc002heo.1,uc002iso.2,uc002jek.2,uc002kln.2,uc002ldg.2,uc002rpd.2,uc002rxu.2,uc002sbs.2,uc002scy.3,uc002sgn.3,uc002vtb.1,uc002ymd.2,uc003bxt.2,uc003clh.2,uc003cmx.2,uc003dea.1,uc003dmn.2,uc003drw.2,uc003eic.2,uc003exp.3,uc003fuj.2,uc003hhl.2,uc003hyp.2,uc003idq.1,uc003ifa.2,uc003ixh.2,uc003jfn.1,uc003jhw.1,uc003kos.3,uc003ldb.1,uc003lvk.2,uc003mlz.3,uc003ncs.2,uc003omm.3,uc003pmv.2,uc003qcz.2,uc003sym.3,uc003uhf.3,uc003vjk.2,uc003whj.2,uc003wly.2,uc003wvm.1,uc003xik.2,uc003yca.1,uc003zij.1,uc004agr.2,uc004agw.1,uc004aso.1,uc004csf.2,uc004deb.2,uc004dgi.3,uc004eon.1,uc009vnl.2,uc010dhc.2,uc010hrn.2,uc010ioj.2,uc010qji.1,uc010sbu.1,uc010snd.1,uc010uhc.1,uc010yny.1,uc010zei.1 | L81: 0.44843722 | M81: 7.84e-18 | N81: 4.7490494e-10 | O81: 5.6741889e-10 | P81: 8.7382508e-08
A82: MIMAT0000763 | B82: hsa-miR-338-3p | C82: 0.30096242 | D82: =IF(COUNTIF('TDP-43 miRNAs'!A$2:B$86,A82)>0,"yes","") | E82: =IF(COUNTIF('LUAD TDP-43 correlations'!$A$2:$A$1034,$A82)>0,LOOKUP($A82,'LUAD TDP-43 correlations'!$A$2:$A$1034,'LUAD TDP-43 correlations'!C$2:C$1034),"n/a") -> 0.028845042 | F82: =IF(COUNTIF('LUAD TDP-43 correlations'!$A$2:$A$1034,$A82)>0,LOOKUP($A82,'LUAD TDP-43 correlations'!$A$2:$A$1034,'LUAD TDP-43 correlations'!E$2:E$1034),"n/a") -> 0.0021697297 | G82: -1.1504924 | H82: 963 | I82: 75 | J82: 3.81 | K82: uc001aja.3,uc001aol.2,uc001dnl.3,uc001gzq.2,uc001hgw.1,uc001iha.2,uc001iux.2,uc001ivi.1,uc001jbr.3,uc001jbv.1,uc001jsv.2,uc001kwi.2,uc001mhe.1,uc001mhl.2,uc001ntl.2,uc001pku.2,uc001ppi.3,uc001rbr.2,uc001vkd.2,uc001xrn.2,uc001xst.2,uc001zxd.1,uc001zyg.2,uc002eom.3,uc002iso.2,uc002lvl.2,uc002mgt.1,uc002mvc.2,uc002pex.2,uc002ruv.2,uc002rzj.2,uc002rzn.2,uc002scy.3,uc002vll.2,uc002ymf.2,uc003akm.2,uc003bzp.1,uc003ceb.2,uc003cyq.1,uc003dmn.2,uc003ecj.3,uc003eic.2,uc003exp.3,uc003goh.3,uc003hhl.2,uc003inf.2,uc003jlz.2,uc003kte.2,uc003lpr.1,uc003lra.1,uc003mmt.2,uc003mzv.2,uc003qbr.2,uc003whj.2,uc003whl.2,uc003xie.1,uc003yvx.2,uc003znj.2,uc003zys.1,uc003zyv.2,uc004arh.2,uc004aub.2,uc004awm.2,uc004axl.1,uc004blc.2,uc004csf.2,uc004cxi.2,uc004dgi.3,uc004dpe.2,uc004eef.2,uc004fmt.2,uc010cnt.1,uc010dpw.2,uc010nko.2,uc010vvn.1 | L82: 0.52036749 | M82: 5.71e-16 | N82: 9.1052319e-09 | O82: 1.0341745e-08 | P82: 1.6753627e-06
... A90: MIMAT0004693 | B90: hsa-miR-330-5p | C90: 0.0087591972 | D90: =IF(COUNTIF('TDP-43 miRNAs'!A$2:B$86,A90)>0,"yes","") | E90: =IF(COUNTIF('LUAD TDP-43 correlations'!$A$2:$A$1034,$A90)>0,LOOKUP($A90,'LUAD TDP-43 correlations'!$A$2:$A$1034,'LUAD TDP-43 correlations'!C$2:C$1034),"n/a") -> 0.006618481 | F90: =IF(COUNTIF('LUAD TDP-43 correlations'!$A$2:$A$1034,$A90)>0,LOOKUP($A90,'LUAD TDP-43 correlations'!$A$2:$A$1034,'LUAD TDP-43 correlations'!E$2:E$1034),"n/a") -> 0.19162961 | G90: -1.2022917 | H90: 969 | I90: 79 | J90: 4.02 | K90: uc001bya.2,uc001fca.1,uc001ggm.3,uc001gws.2,uc001gxb.2,uc001gzq.2,uc001hgw.1,uc001hmp.1,uc001iol.2,uc001iux.2,uc001jbv.1,uc001jsv.2,uc001led.2,uc001mki.2,uc001mye.3,uc001ntl.2,uc001ofy.3,uc001pce.2,uc001plt.2,uc001qsi.2,uc001tbi.3,uc001ufe.2,uc001unq.3,uc001wum.1,uc001zot.2,uc001zvj.2,uc002amr.2,uc002anv.2,uc002aqf.2,uc002czx.2,uc002dlq.2,uc002eom.3,uc002etb.2,uc002gbm.3,uc002gsg.1,uc002hxj.2,uc002hxk.2,uc002ioo.1,uc002iyt.1,uc002jek.2,uc002jsn.1,uc002msc.1,uc002ndw.2,uc002pex.2,uc002rpd.2,uc002rut.2,uc002ruv.2,uc002scy.3,uc002vtb.1,uc002wss.2,uc002xfl.1,uc002zpu.2,uc003akm.2,uc003cwu.2,uc003dmf.2,uc003dwv.1,uc003fbl.3,uc003gzj.2,uc003ldc.3,uc003len.2,uc003lra.1,uc003lsp.2,uc003mch.2,uc003ncw.2,uc003prx.2,uc003psd.2,uc003qbr.2,uc003qhr.2,uc003tar.1,uc003und.2,uc003xfb.1,uc003xsb.3,uc003zxt.2,uc004caa.1,uc004eon.1,uc010cnt.1,uc010dhc.2,uc010nko.2,uc011bkt.1 | L90: 0.97804053 | M90: 8.01e-18 | N90: 2.1175846e-06 | O90: 2.2522287e-06 | P90: 0.00038963556

Sheet LUADupTranscriptsDownMiRNAs
A1: Supplemental Table9. LUAD pipeline Results
A2: Differentially Expressed miRNAs (pDESeq2 < 0.1)
A3: miRBaseAccension | B3: ID | C3: log2FoldChange | D3: Regulated by TDP-43? | E3: R2 TDP-43 Correlation | F3: Correlation Adjusted P-value | G3: odds_ratio_log | H3: numPredictedTargets | I3: numDEgenes | J3: percentDEgenes | K3: DEgeneList | L3: pDESeq2 | M3: pFatiscan | N3: pCombined | O3: pCombinedFDR | P3: pCombinedFWER
A4: MIMAT0000227 | B4: hsa-miR-197-3p | C4: -3.8957611 | D4: =IF(COUNTIF('TDP-43 miRNAs'!A$2:A$86,A4)>0,"yes","") | E4: =IF(COUNTIF('LUAD TDP-43 correlations'!$A$2:$A$1034,$A4)>0,LOOKUP($A4,'LUAD TDP-43 correlations'!$A$2:$A$1034,'LUAD TDP-43 correlations'!C$2:C$1034),"n/a") -> 0.0055480378 | F4: =IF(COUNTIF('LUAD TDP-43 correlations'!$A$2:$A$1034,$A4)>0,LOOKUP($A4,'LUAD TDP-43 correlations'!$A$2:$A$1034,'LUAD TDP-43 correlations'!E$2:E$1034),"n/a") -> 0.23730328 | G4: 0.629833 | H4: 813 | I4: 187 | J4: 1.84 | K4: uc001bgw.2,uc001bvd.2,uc001bwt.1,uc001chl.2,uc001cxy.2,uc001dot.2,uc001ebb.2,uc001egv.1,uc001etw.2,uc001fgb.2,uc001gdj.3,uc001geo.2,uc001gio.2,uc001gmd.2,uc001hom.1,uc001hqd.3,uc001ibu.1,uc001ild.3,uc001jth.2,uc001jtr.2,uc001kfj.3,uc001kni.2,uc001ktt.2,uc001nui.3,uc001ojc.1,uc001oyk.2,uc001ped.2,uc001pvm.1,uc001qsr.2,uc001rke.2,uc001rzc.2,uc001rzn.2,uc001sdg.1,uc001svw.1,uc001ucr.2,uc001ufi.2,uc001uir.2,uc001uwl.1,uc001vha.2,uc001ygy.1,uc002aon.2,uc002awd.1,uc002bbj.1,uc002bmi.1,uc002cle.1,uc002cze.2,uc002dfl.1,uc002dlv.2,uc002dtt.1,uc002dug.3,uc002ecn.3,uc002esn.1,uc002exa.2,uc002fpe.3,uc002hoi.1,uc002hxs.2,uc002iaw.2,uc002iht.2,uc002ils.1,uc002isl.2,uc002iud.2,uc002jqp.1,uc002kbb.2,uc002kfn.2,uc002kfu.2,uc002lic.2,uc002lxx.2,uc002mva.2,uc002ols.1,uc002pdt.2,uc002pqf.1,uc002qeb.2,uc002qqx.1,uc002qzg.1,uc002rah.2,uc002sau.3,uc002siw.2,uc002sjq.3,uc002tcb.2,uc002tsz.3,uc002ueb.1,uc002uih.2,uc002ujz.3,uc002uoy.1,uc002uqj.1,uc002uwr.2,uc002vqd.1,uc002vvn.2,uc002vxk.2,uc002wtw.1,uc002wzu.3,uc002xci.1,uc002xkn.1,uc002xvr.2,uc002yag.2,uc003ajc.2,uc003anw.1,uc003bhg.1,uc003bix.2,uc003bkk.1,uc003bxv.1,uc003dvj.2,uc003edt.2,uc003hje.3,uc003hra.2,uc003hvq.2,uc003iwi.2,uc003jao.3,uc003jas.2,uc003jbu.2,uc003kbt.3,uc003ldr.2,uc003lsy.1,uc003mdh.2,uc003nil.3,uc003nzn.2,uc003oeq.2,uc003oyv.2,uc003prs.2,uc003pwd.1,uc003qjj.2,uc003qjn.2,uc003qvi.1,uc003soj.2,uc003spu.2,uc003spw.2,uc003tct.2,uc003tma.2,uc003trl.1,uc003ttt.1,uc003uac.1,uc003ufs.1,uc003uma.2,uc003ung.1,uc003uzl.2,uc003vsy.2,uc003wfr.3,uc003wfu.2,uc003wmm.2,uc003xdb.1,uc003xdn.1,uc003xdq.2,uc003xxp.1,uc003xyi.1,uc003xyp.2,uc003yhb.2,uc003yhc.2,uc003yjy.2,uc003yzl.1,uc004axd.1,uc004buc.1,uc004cqa.2,uc004dlq.2,uc004elw.2,uc004fep.2,uc004fmm.2,uc009vtn.1,uc009wbt.1,uc009woj.1,uc009wud.1,uc009xuj.2,uc009ztb.1,uc010csn.1,uc010dhw.1,uc010dka.1,uc010ebt.1,uc010eda.1,uc010egr.2,uc010ghi.2,uc010ild.2,uc010kyl.2,uc010kzt.1,uc010nlz.2,uc010oef.1,uc010oiz.1,uc010pgp.1,uc010pnq.1,uc010rrf.1,uc010sgp.1,uc010tji.1,uc010uvs.1,uc010whx.1,uc010wit.1,uc010yba.1,uc011ahk.1,uc011kvf.1,uc011mlj.1 | L4: 3.663348e-85 | M4: 5.7e-12 | N4: 1.5256051e-77 | O4: 4.4242547e-76 | P4: 4.4242547e-76
A5: MIMAT0009451 | B5: hsa-miR-1976 | C5: -2.6657519 | D5: =IF(COUNTIF('TDP-43 miRNAs'!A$2:A$86,A5)>0,"yes","") | E5: =IF(COUNTIF('LUAD TDP-43 correlations'!$A$2:$A$1034,$A5)>0,LOOKUP($A5,'LUAD TDP-43 correlations'!$A$2:$A$1034,'LUAD TDP-43 correlations'!C$2:C$1034),"n/a") -> 0.013089042 | F5: =IF(COUNTIF('LUAD TDP-43 correlations'!$A$2:$A$1034,$A5)>0,LOOKUP($A5,'LUAD TDP-43 correlations'!$A$2:$A$1034,'LUAD TDP-43 correlations'!E$2:E$1034),"n/a") -> 0.053918877 | G5: 0.72217242 | H5: 1008 | I5: 248 | J5: 2.44 | K5: uc001aow.3,uc001bbs.2,uc001bdo.1,uc001bqy.2,uc001bvy.1,uc001bwc.2,uc001bwt.1,uc001byl.1,uc001cxy.2,uc001dot.2,uc001dqg.1,uc001ent.1,uc001ewq.2,uc001fds.2,uc001fff.1,uc001fft.2,uc001fhd.2,uc001fhj.3,uc001flb.2,uc001fle.1,uc001fmj.1,uc001fpl.2,uc001fps.1,uc001gbq.1,uc001hau.2,uc001hvk.1,uc001ild.3,uc001jkf.2,uc001ksm.2,uc001ksr.2,uc001mhg.2,uc001ndv.1,uc001nqf.2,uc001nrz.1,uc001oab.1,uc001oir.2,uc001owr.2,uc001oye.2,uc001paq.1,uc001rsq.3,uc001sbg.2,uc001sjm.2,uc001slf.2,uc001svw.1,uc001tdp.3,uc001tug.2,uc001ucr.2,uc001ufi.2,uc001ull.1,uc001unk.2,uc001vha.2,uc001waq.1,uc001way.2,uc001wwa.1,uc001xhz.2,uc001xim.3,uc001ypq.3,uc001zhj.2,uc002ank.2,uc002avx.2,uc002bbu.1,uc002bdy.2,uc002bol.2,uc002box.2,uc002cle.1,uc002cnc.1,uc002cod.2,uc002cow.2,uc002dfk.1,uc002dry.2,uc002dto.2,uc002dug.3,uc002dyf.2,uc002ecn.3,uc002eed.2,uc002esn.1,uc002exa.2,uc002fat.2,uc002fcq.2,uc002fib.2,uc002fja.2,uc002fjd.2,uc002fle.1,uc002flu.2,uc002fnq.2,uc002gbx.1,uc002htn.1,uc002hxt.2,uc002hyk.1,uc002iaw.2,uc002ihf.2,uc002ils.1,uc002iox.1,uc002iqn.1,uc002iqq.2,uc002iqr.2,uc002ivj.2,uc002iwj.2,uc002izv.2,uc002jqp.1,uc002jqu.2,uc002kwu.3,uc002mxq.1,uc002ojr.1,uc002olt.1,uc002orl.2,uc002oxc.1,uc002pat.2,uc002pdo.1,uc002pmm.2,uc002qwf.2,uc002qzg.1,uc002rjd.2,uc002rnv.1,uc002ron.2,uc002rzf.2,uc002sav.3,uc002sqc.2,uc002sqd.2,uc002svv.1,uc002svw.1,uc002szv.2,uc002tcb.2,uc002uwc.2,uc002vcu.2,uc002vqz.2,uc002wax.2,uc002wed.3,uc002wnp.2,uc002wxd.2,uc002xbv.1,uc002xft.2,uc002xjd.2,uc002xzu.3,uc002ycm.1,uc002yvb.1,uc002yyw.2,uc002zyl.1,uc003afx.3,uc003aje.1,uc003aqy.1,uc003atp.2,uc003aty.2,uc003avq.1,uc003bdk.2,uc003biz.3,uc003bxv.1,uc003com.2,uc003ebg.1,uc003eci.2,uc003edt.2,uc003fit.2,uc003fqi.2,uc003gab.2,uc003gww.3,uc003hzn.1,uc003jni.2,uc003jww.1,uc003kbt.3,uc003mes.3,uc003miu.2,uc003ncl.1,uc003ncm.2,uc003ojt.1,uc003omu.2,uc003opi.2,uc003ori.2,uc003orz.2,uc003osa.3,uc003ost.2,uc003qjj.2,uc003szf.2,uc003tte.2,uc003uac.1,uc003ufa.2,uc003ukm.1,uc003upj.2,uc003uqe.2,uc003usj.2,uc003uxv.3,uc003uyf.2,uc003wfr.3,uc003wfu.2,uc003wgy.2,uc003xdq.2,uc003xks.2,uc003xqi.2,uc003xqm.2,uc003yxw.2,uc003zaz.3,uc003zcm.1,uc003zds.1,uc003zxm.1,uc004auo.2,uc004bfj.3,uc004bph.1,uc004bpn.2,uc004btq.1,uc004buq.1,uc004byd.1,uc004byq.1,uc004crb.3,uc004dex.3,uc004dkd.1,uc004dvy.1,uc004exl.3,uc004fep.2,uc009vub.1,uc009vuc.2,uc009vxv.2,uc009vxw.2,uc009xcz.2,uc009xrn.1,uc009yfe.1,uc009znb.2,uc009znj.1,uc010bgx.1,uc010bzh.1,uc010cdt.1,uc010eda.1,uc010egr.2,uc010fxo.1,uc010ghi.2,uc010gmw.1,uc010jkk.2,uc010jta.1,uc010jza.1,uc010lam.1,uc010lqi.2,uc010mzz.2,uc010ohy.1,uc010pcs.1,uc010pgp.1,uc010qfe.1,uc010qwl.1,uc010rho.1,uc010sfu.1,uc010sgs.1,uc010ssd.1,uc010tak.1,uc010wrz.1,uc010xxr.1,uc010ysr.1,uc011cna.1,uc011kyw.1,uc011llg.1,uc011men.1,uc011mme.1 | L5: 2.2502907e-58 | M5: 6.91e-19 | N5: 1.713299e-69 | O5: 2.4842835e-68 | P5: 4.968567e-68
A6: MIMAT0004780 | B6: hsa-miR-532-3p | C6: -3.1243427 | D6: =IF(COUNTIF('TDP-43 miRNAs'!A$2:A$86,A6)>0,"yes","") | E6: =IF(COUNTIF('LUAD TDP-43 correlations'!$A$2:$A$1034,$A6)>0,LOOKUP($A6,'LUAD TDP-43 correlations'!$A$2:$A$1034,'LUAD TDP-43 correlations'!C$2:C$1034),"n/a") -> 0.0095362676 | F6: =IF(COUNTIF('LUAD TDP-43 correlations'!$A$2:$A$1034,$A6)>0,LOOKUP($A6,'LUAD TDP-43 correlations'!$A$2:$A$1034,'LUAD TDP-43 correlations'!E$2:E$1034),"n/a") -> 0.10125118 | G6: 0.64636814 | H6: 898 | I6: 209 | J6: 2.05 | K6: uc001abz.3,uc001bbs.2,uc001bdo.1,uc001bjw.2,uc001bkw.1,uc001bni.1,uc001bwc.2,uc001cik.2,uc001cwj.1,uc001dii.2,uc001dtn.2,uc001ehg.2,uc001eoc.1,uc001epg.1,uc001epq.2,uc001est.1,uc001euq.2,uc001ewy.2,uc001fcb.2,uc001fcp.2,uc001fjz.1,uc001flb.2,uc001fqa.2,uc001fuv.1,uc001gdw.2,uc001gmd.2,uc001gtx.1,uc001gxh.3,uc001hbt.2,uc001hcv.3,uc001hel.1,uc001hkm.2,uc001hom.1,uc001hos.1,uc001hov.3,uc001ift.2,uc001jjx.1,uc001ksm.2,uc001lkm.1,uc001mhg.2,uc001mty.2,uc001njt.2,uc001nsg.2,uc001oab.1,uc001ocp.2,uc001ouj.2,uc001ovu.2,uc001plg.3,uc001pnj.3,uc001poe.2,uc001pvm.1,uc001qsr.2,uc001sut.3,uc001tej.2,uc001tfl.2,uc001wjj.2,uc001xfb.3,uc001xim.3,uc001xmr.1,uc001xzl.3,uc001zvh.2,uc002bct.1,uc002beu.2,uc002bov.1,uc002cip.2,uc002cqy.3,uc002cym.2,uc002dfl.1,uc002dlv.2,uc002dtt.1,uc002dug.3,uc002eaw.3,uc002eeh.2,uc002ewr.2,uc002hbr.1,uc002hcy.1,uc002hnd.2,uc002htn.1,uc002iaw.2,uc002ihc.2,uc002ils.1,uc002isr.2,uc002jwk.2,uc002kco.3,uc002ktj.1,uc002mnw.3,uc002mva.2,uc002mvg.1,uc002ntl.2,uc002ojr.1,uc002pdt.2,uc002pjy.2,uc002rah.2,uc002rep.2,uc002ron.2,uc002sle.2,uc002sqc.2,uc002ssg.1,uc002sue.1,uc002thm.2,uc002tst.2,uc002ujz.3,uc002usj.2,uc002uui.2,uc002vne.1,uc002vnl.3,uc002vqd.1,uc002vyo.1,uc002wid.2,uc002xbm.1,uc002xci.1,uc002xft.2,uc002xhk.3,uc002xjd.2,uc002ypi.2,uc002ysa.2,uc002yxo.2,uc002zyl.1,uc003anw.1,uc003bdq.2,uc003bkk.1,uc003bmi.2,uc003bzl.2,uc003fan.3,uc003foj.1,uc003fok.1,uc003gpn.2,uc003gud.1,uc003guu.3,uc003hdk.2,uc003iqq.3,uc003jdo.2,uc003jez.3,uc003jfx.2,uc003jjd.2,uc003joh.2,uc003kbt.3,uc003kog.1,uc003kol.2,uc003mva.2,uc003ncl.1,uc003nlr.2,uc003nlt.1,uc003nrv.2,uc003nsa.1,uc003nyd.1,uc003odf.2,uc003oes.2,uc003ojt.1,uc003org.2,uc003ori.2,uc003otf.2,uc003pan.1,uc003pko.3,uc003pxt.1,uc003qht.2,uc003qwt.2,uc003tro.2,uc003tyt.2,uc003uaf.1,uc003ueb.1,uc003uhz.2,uc003unf.1,uc003uqe.2,uc003uzl.2,uc003vjg.2,uc003vpf.1,uc003wgy.2,uc003wmm.2,uc003xhm.2,uc003xqi.2,uc003yhc.2,uc003yxy.3,uc003zcm.1,uc004aay.2,uc004ajo.3,uc004dkd.1,uc004dlt.3,uc004dvy.1,uc004fmm.2,uc009vmy.1,uc009vsb.2,uc009wbt.1,uc009wol.1,uc009yrj.2,uc009znj.1,uc009ztb.1,uc010bgx.1,uc010fea.2,uc010fxo.1,uc010gti.1,uc010hcw.1,uc010mly.1,uc010nez.2,uc010pcv.1,uc010pgp.1,uc010rho.1,uc010ryn.1,uc010ulv.1,uc010vtq.1,uc010wdq.1,uc010whx.1,uc010wyu.1,uc010yba.1,uc010ydl.1,uc010zgy.1,uc011axg.1,uc011mpw.1,uc011myl.1 | L6: 7.5833054e-41 | M6: 9.5e-14 | N6: 9.2986556e-49 | O6: 6.2912856e-48 | P6: 2.6966101e-47
A7: MIMAT0004748 | B7: hsa-miR-423-5p | C7: -2.7750304 | D7: =IF(COUNTIF('TDP-43 miRNAs'!A$2:A$86,A7)>0,"yes","") | E7: =IF(COUNTIF('LUAD TDP-43 correlations'!$A$2:$A$1034,$A7)>0,LOOKUP($A7,'LUAD TDP-43 correlations'!$A$2:$A$1034,'LUAD TDP-43 correlations'!C$2:C$1034),"n/a") -> 0.0044714403 | F7: =IF(COUNTIF('LUAD TDP-43 correlations'!$A$2:$A$1034,$A7)>0,LOOKUP($A7,'LUAD TDP-43 correlations'!$A$2:$A$1034,'LUAD TDP-43 correlations'!E$2:E$1034),"n/a") -> 0.29852443 | G7: 0.68071486 | H7: 1044 | I7: 249 | J7: 2.45 | K7: uc001aeb.2,uc001alr.1,uc001apz.2,uc001arz.1,uc001bnb.2,uc001bsb.1,uc001bul.1,uc001bvb.1,uc001bwt.1,uc001clk.2,uc001cxy.2,uc001ebb.2,uc001eck.2,uc001evj.2,uc001ewy.2,uc001fcd.1,uc001fds.2,uc001ffz.1,uc001fgk.3,uc001fjz.1,uc001fnc.2,uc001fpf.2,uc001fpg.2,uc001fph.2,uc001fpr.2,uc001gdw.2,uc001gic.1,uc001gyf.2,uc001gyl.2,uc001gyu.1,uc001gyv.1,uc001hau.2,uc001hly.1,uc001hos.1,uc001hrb.2,uc001jqp.1,uc001jqx.1,uc001kos.2,uc001lil.2,uc001lml.1,uc001mok.3,uc001mup.3,uc001nza.2,uc001ocp.2,uc001ohe.1,uc001ohp.1,uc001ojc.1,uc001ouw.2,uc001owm.1,uc001oxx.2,uc001oye.2,uc001pan.1,uc001pas.2,uc001pwv.2,uc001qkz.2,uc001qlh.2,uc001rsq.3,uc001rzc.2,uc001sbd.2,uc001sjm.2,uc001skb.2,uc001twd.2,uc001whf.1,uc001wjz.2,uc001wwa.1,uc001xkj.1,uc001yci.2,uc001yfo.2,uc001yqb.2,uc001zmx.1,uc001znd.2,uc002aty.1,uc002beu.2,uc002bol.2,uc002box.2,uc002cif.1,uc002cod.2,uc002cze.2,uc002dcv.2,uc002dcz.2,uc002dpd.2,uc002ena.2,uc002esi.2,uc002esj.2,uc002ewr.2,uc002gks.2,uc002hju.2,uc002hky.2,uc002hxs.2,uc002hyx.2,uc002iaw.2,uc002ihe.2,uc002ihf.2,uc002iox.1,uc002iqm.2,uc002iuc.2,uc002ivj.2,uc002ixq.1,uc002jij.2,uc002jmj.3,uc002jqu.2,uc002jrm.3,uc002jrp.1,uc002jtk.3,uc002jut.2,uc002juv.1,uc002kbb.2,uc002kdf.2,uc002kfu.2,uc002ltc.2,uc002lvy.2,uc002mfg.1,uc002mpc.2,uc002mpx.1,uc002mxq.1,uc002mye.2,uc002nvg.1,uc002oke.2,uc002olt.1,uc002pjb.1,uc002pmm.2,uc002poi.2,uc002pqf.1,uc002qdi.2,uc002qkx.1,uc002rjd.2,uc002rji.2,uc002sjb.1,uc002sjs.2,uc002sjz.2,uc002sle.2,uc002sub.2,uc002sue.1,uc002uae.1,uc002ujz.3,uc002vqd.1,uc002vqz.2,uc002vsg.1,uc002vxk.2,uc002vyo.1,uc002wbu.2,uc002wdj.2,uc002wed.3,uc002wid.2,uc002wtw.1,uc002xaa.2,uc002xbg.2,uc002xbm.1,uc002xiq.1,uc002xkc.2,uc002ybs.2,uc002znm.2,uc002zny.2,uc002zro.1,uc002zvd.2,uc002zws.2,uc003ajc.2,uc003aje.1,uc003aqy.1,uc003bbh.1,uc003bkd.1,uc003bmi.2,uc003bxv.1,uc003cgv.2,uc003fit.2,uc003foj.1,uc003fok.1,uc003foz.2,uc003gla.2,uc003grf.2,uc003hau.2,uc003hjh.1,uc003jdo.2,uc003jez.3,uc003kdc.3,uc003lvl.2,uc003meo.1,uc003mgy.2,uc003mhx.2,uc003ndi.2,uc003nlr.2,uc003nvt.1,uc003oeq.2,uc003orz.2,uc003otf.2,uc003ovp.2,uc003prs.2,uc003spw.2,uc003swk.2,uc003tzj.2,uc003uaf.1,uc003ueb.1,uc003ufa.2,uc003ufs.1,uc003ukm.1,uc003upl.2,uc003uqe.2,uc003usw.1,uc003uxv.3,uc003uzh.2,uc003wjp.2,uc003xdq.2,uc003xks.2,uc003yia.2,uc003ypx.2,uc003yqn.1,uc003yyb.2,uc003zbv.3,uc003zxm.1,uc004btq.1,uc004buz.3,uc004cno.1,uc004cxc.1,uc004dag.2,uc004dlj.1,uc004dlq.2,uc004dlt.3,uc004dtz.2,uc004dvy.1,uc004dyd.1,uc004dzh.1,uc004flm.2,uc004fmv.2,uc009vsb.2,uc009vub.1,uc009wjj.1,uc009xcz.2,uc009xrn.1,uc009zah.2,uc009ztb.1,uc010dsn.2,uc010ebt.1,uc010eei.2,uc010fgz.2,uc010gmw.1,uc010jza.1,uc010mbu.2,uc010mdq.2,uc010myt.1,uc010ohy.1,uc010otl.1,uc010pgo.1,uc010rrf.1,uc010tji.1,uc011bds.1,uc011bte.1,uc011dqh.1,uc011dqs.1,uc011mgy.1 | L7: 3.5684729e-39 | M7: 2.81e-17 | N7: 4.2754546e-52 | O7: 4.1329395e-51 | P7: 1.2398818e-50
A8: MIMAT0000063 | B8: hsa-let-7b-5p | C8: -2.1400705 | D8: =IF(COUNTIF('TDP-43 miRNAs'!A$2:A$86,A8)>0,"yes","") -> yes | E8: =IF(COUNTIF('LUAD TDP-43 correlations'!$A$2:$A$1034,$A8)>0,LOOKUP($A8,'LUAD TDP-43 correlations'!$A$2:$A$1034,'LUAD TDP-43 correlations'!C$2:C$1034),"n/a") -> 0.022653241 | F8: =IF(COUNTIF('LUAD TDP-43 correlations'!$A$2:$A$1034,$A8)>0,LOOKUP($A8,'LUAD TDP-43 correlations'!$A$2:$A$1034,'LUAD TDP-43 correlations'!E$2:E$1034),"n/a") -> 0.0083814207 | G8: 0.79766807 | H8: 965 | I8: 251 | J8: 2.47 | K8: uc001amg.2,uc001bgw.2,uc001bht.2,uc001bkw.1,uc001bnx.2,uc001bvd.2,uc001bzg.1,uc001ctk.2,uc001cxy.2,uc001eny.1,uc001ewy.2,uc001fcp.2,uc001fpf.2,uc001gag.2,uc001gjh.1,uc001gve.2,uc001gxx.3,uc001hcv.3,uc001hfe.1,uc001hiv.2,uc001hom.1,uc001hqd.3,uc001hst.1,uc001hwn.2,uc001iaj.2,uc001ibu.1,uc001ind.2,uc001isi.3,uc001jiu.2,uc001jof.2,uc001jqx.1,uc001jzn.2,uc001kqa.3,uc001kqf.2,uc001lil.2,uc001lml.1,uc001nrl.1,uc001nrn.1,uc001nrv.2,uc001nrz.1,uc001nuf.2,uc001nve.2,uc001nxt.2,uc001okp.1,uc001okr.2,uc001oun.1,uc001ovb.1,uc001oyh.3,uc001ozi.2,uc001pan.1,uc001pex.2,uc001pnj.3,uc001pvi.2,uc001pxt.2,uc001qiq.2,uc001qnr.2,uc001rez.2,uc001rzc.2,uc001sdg.1,uc001sfe.1,uc001sjm.2,uc001soi.2,uc001svw.1,uc001tdp.3,uc001tqk.3,uc001tsl.1,uc001ucd.2,uc001ujx.1,uc001vjq.2,uc001wae.2,uc001whf.1,uc001wwa.1,uc001wxu.2,uc001wzv.2,uc001wzy.2,uc001xfc.2,uc001xhz.2,uc001xim.3,uc001yaz.1,uc001zhj.2,uc001zmx.1,uc002ahf.3,uc002ank.2,uc002avx.2,uc002axh.1,uc002bct.1,uc002bdy.2,uc002bjl.1,uc002cgz.2,uc002cha.2,uc002cqy.3,uc002daw.1,uc002dhu.1,uc002dkj.1,uc002duv.2,uc002dzk.1,uc002exp.2,uc002fgo.2,uc002gdf.3,uc002ggt.1,uc002gks.2,uc002gqz.2,uc002hju.2,uc002hne.2,uc002huq.2,uc002ibi.2,uc002iky.2,uc002iph.1,uc002iqm.2,uc002iuu.2,uc002ixk.1,uc002jrp.1,uc002juw.2,uc002jwk.2,uc002lov.2,uc002mfg.1,uc002nhn.3,uc002oam.1,uc002ojr.1,uc002qqo.2,uc002qqx.1,uc002qwf.2,uc002rah.2,uc002rjd.2,uc002rxk.1,uc002sav.3,uc002sle.2,uc002ssd.2,uc002ssg.1,uc002svv.1,uc002sxd.3,uc002sxh.3,uc002taw.3,uc002tcb.2,uc002tib.2,uc002tpj.2,uc002uea.2,uc002ugk.2,uc002ujz.3,uc002uqj.1,uc002uuq.2,uc002uwc.2,uc002wed.3,uc002wlp.2,uc002wqh.2,uc002wuz.2,uc002xab.2,uc002xbg.2,uc002yhl.1,uc002yyw.2,uc002znm.2,uc002zwc.1,uc002zyl.1,uc003afx.3,uc003anw.1,uc003bsh.2,uc003cgv.2,uc003dwc.2,uc003eag.3,uc003ece.1,uc003eci.2,uc003eps.2,uc003exu.1,uc003fit.2,uc003fkl.2,uc003grf.2,uc003hbr.2,uc003hwt.3,uc003inh.2,uc003iqq.3,uc003isz.3,uc003iwi.2,uc003jdo.2,uc003jdw.2,uc003jfx.2,uc003jmo.2,uc003jpq.2,uc003juf.2,uc003kbs.3,uc003kcu.1,uc003kud.1,uc003ldr.2,uc003mhy.2,uc003mnc.1,uc003mxt.1,uc003nil.3,uc003ofa.1,uc003omu.2,uc003pdx.2,uc003pjv.2,uc003pmz.2,uc003pqk.2,uc003tli.2,uc003tte.2,uc003ttt.1,uc003tui.2,uc003uac.1,uc003uhz.2,uc003ung.1,uc003uxv.3,uc003vea.2,uc003vee.2,uc003veh.2,uc003vsy.2,uc003wld.2,uc003xhm.2,uc003xlf.3,uc003xxp.1,uc003yfz.2,uc003yia.2,uc003ylk.2,uc003yyd.2,uc003zcj.2,uc003zcz.2,uc004ajo.3,uc004auo.2,uc004bfj.3,uc004buz.3,uc004cxc.1,uc004dag.2,uc004dlc.1,uc004dvy.1,uc004dyd.1,uc004ehj.1,uc009vub.1,uc009vxv.2,uc009wzz.1,uc009ztb.1,uc010dhw.1,uc010dsn.2,uc010dxa.2,uc010fac.2,uc010fxm.1,uc010hbf.2,uc010iai.2,uc010kyl.2,uc010mdq.2,uc010pda.1,uc010pok.1,uc010psz.1,uc010qig.1,uc010rrf.1,uc010sqm.1,uc010tqf.1,uc011bds.1,uc011bdz.1,uc011bsb.1,uc011dhl.1,uc011dqs.1,uc011kjw.1,uc011kvh.1 | L8: 5.6916653e-29 | M8: 5.68e-22 | N8: 1.0847044e-48 | O8: 6.2912856e-48 | P8: 3.1456428e-47
A9: MIMAT0003888 | B9: hsa-miR-766-3p | C9: -2.0526855 | D9: =IF(COUNTIF('TDP-43 miRNAs'!A$2:A$86,A9)>0,"yes","") | E9: =IF(COUNTIF('LUAD TDP-43 correlations'!$A$2:$A$1034,$A9)>0,LOOKUP($A9,'LUAD TDP-43 correlations'!$A$2:$A$1034,'LUAD TDP-43 correlations'!C$2:C$1034),"n/a") -> 0.0020110703 | F9: =IF(COUNTIF('LUAD TDP-43 correlations'!$A$2:$A$1034,$A9)>0,LOOKUP($A9,'LUAD TDP-43 correlations'!$A$2:$A$1034,'LUAD TDP-43 correlations'!E$2:E$1034),"n/a") -> 0.49849637 | G9: 0.79159751 | H9: 942 | I9: 244 | J9: 2.4 | K9: uc001alr.1,uc001bht.2,uc001bia.2,uc001bmq.3,uc001bst.2,uc001bvy.1,uc001ctk.2,uc001cui.1,uc001cxy.2,uc001ddk.2,uc001ent.1,uc001ewy.2,uc001fcb.2,uc001fft.2,uc001fle.1,uc001fmj.1,uc001fpg.2,uc001fpl.2,uc001ftj.1,uc001gfg.2,uc001gic.1,uc001guh.2,uc001gve.2,uc001gyv.1,uc001hlg.3,uc001hom.1,uc001hpf.3,uc001hpg.2,uc001hph.2,uc001hqd.3,uc001hrb.2,uc001hvk.1,uc001hxc.2,uc001iba.1,uc001jrm.2,uc001ksf.2,uc001ksm.2,uc001ksr.2,uc001ktt.2,uc001leb.2,uc001lhp.2,uc001lkn.1,uc001lpi.2,uc001lvu.2,uc001mpy.3,uc001mrh.1,uc001njt.2,uc001nsg.2,uc001ofe.2,uc001okr.2,uc001plg.3,uc001pvm.1,uc001qhp.2,uc001qkz.2,uc001qlh.2,uc001sdg.1,uc001sjm.2,uc001tlk.2,uc001twd.2,uc001ugy.2,uc001uir.2,uc001vha.2,uc001wae.2,uc001waq.1,uc001wwn.2,uc001wxu.2,uc001wzy.2,uc001xds.2,uc001xhz.2,uc001xpi.2,uc001yci.2,uc001ygy.1,uc001znh.2,uc002avx.2,uc002bdy.2,uc002bov.1,uc002boz.2,uc002cha.2,uc002clr.2,uc002cqy.3,uc002dgq.2,uc002erp.2,uc002esn.1,uc002ewr.2,uc002ewx.1,uc002fjd.2,uc002fuo.2,uc002gbx.1,uc002gcc.1,uc002gkk.2,uc002gzf.1,uc002hik.1,uc002hyl.1,uc002ils.1,uc002ioj.2,uc002iox.1,uc002iqm.2,uc002iuu.2,uc002ivj.2,uc002jbp.2,uc002jqu.2,uc002jrr.1,uc002kbn.1,uc002mkb.1,uc002ojr.1,uc002olt.1,uc002orm.2,uc002ozw.1,uc002ozz.2,uc002pdr.2,uc002qaf.2,uc002qbl.2,uc002qeb.2,uc002qqx.1,uc002qzg.1,uc002ron.2,uc002rvc.2,uc002sau.3,uc002sgq.3,uc002siz.2,uc002sjz.2,uc002tao.2,uc002tku.1,uc002tpj.2,uc002uwc.2,uc002vne.1,uc002vnl.3,uc002wbl.2,uc002wdj.2,uc002wed.3,uc002wid.2,uc002wzd.1,uc002wzt.2,uc002xci.1,uc002xjd.2,uc002xzu.3,uc002ycb.2,uc002ydy.2,uc002ypi.2,uc002yvj.2,uc002yxo.2,uc002zyk.3,uc003abe.2,uc003afx.3,uc003atz.2,uc003avv.2,uc003bhg.1,uc003bxv.1,uc003dtv.2,uc003dvj.2,uc003foz.2,uc003fqi.2,uc003gmq.2,uc003gwi.2,uc003hvq.2,uc003hwt.3,uc003jez.3,uc003jww.1,uc003ldr.2,uc003mdh.2,uc003mes.3,uc003mhy.2,uc003nlr.2,uc003oaw.2,uc003odf.2,uc003oeq.2,uc003ovp.2,uc003oyv.2,uc003qob.2,uc003shx.2,uc003sow.2,uc003spc.2,uc003spp.2,uc003sqg.2,uc003szi.2,uc003tdm.2,uc003thf.2,uc003tte.2,uc003uar.1,uc003ubm.3,uc003ukm.1,uc003vea.2,uc003vjg.2,uc003vpi.2,uc003vum.1,uc003wfr.3,uc003wld.2,uc003xlf.3,uc003xnx.2,uc003xqm.2,uc003xsa.2,uc003ypr.2,uc003zdi.1,uc003zkc.2,uc004btq.1,uc004cdm.2,uc004dag.2,uc004dgc.2,uc004dtz.2,uc004dvy.1,uc004ega.1,uc004ehd.2,uc004fll.3,uc004fmm.2,uc004ftz.1,uc009vub.1,uc009wbt.1,uc009woj.1,uc009wzz.1,uc009yfe.1,uc010bgk.2,uc010cvm.1,uc010eda.1,uc010eqn.2,uc010fac.2,uc010fxo.1,uc010hcw.1,uc010hxo.2,uc010iwm.1,uc010jpm.1,uc010jza.1,uc010lkm.2,uc010mdq.2,uc010nlz.2,uc010ohy.1,uc010pgp.1,uc010pgw.1,uc010pkp.1,uc010pok.1,uc010rfm.1,uc010sgp.1,uc010ssd.1,uc010tak.1,uc010vwg.1,uc010vxg.1,uc010wcy.1,uc010xpl.1,uc010zjt.1,uc010zow.1,uc010zpy.1,uc011aos.1,uc011aqo.1,uc011dhl.1,uc011kri.1 | L9: 1.6945644e-19 | M9: 3.02e-21 | N9: 8.8681695e-39 | O9: 4.2862819e-38 | P9: 2.5717692e-37
A10: MIMAT0004694 | B10: hsa-miR-342-5p | C10: -1.6010777 | D10: =IF(COUNTIF('TDP-43 miRNAs'!A$2:A$86,A10)>0,"yes","") | E10: =IF(COUNTIF('LUAD TDP-43 correlations'!$A$2:$A$1034,$A10)>0,LOOKUP($A10,'LUAD TDP-43 correlations'!$A$2:$A$1034,'LUAD TDP-43 correlations'!C$2:C$1034),"n/a") -> 0.010039584 | F10: =IF(COUNTIF('LUAD TDP-43 correlations'!$A$2:$A$1034,$A10)>0,LOOKUP($A10,'LUAD TDP-43 correlations'!$A$2:$A$1034,'LUAD TDP-43 correlations'!E$2:E$1034),"n/a") -> 0.093349877 | G10: 0.69783643 | H10: 424 | I10: 103 | J10: 1.01 | K10: uc001apz.2,uc001bwt.1,uc001chv.2,uc001chx.3,uc001cik.2,uc001eso.1,uc001etj.1,uc001ewn.2,uc001fgk.3,uc001foc.3,uc001fpl.2,uc001gyv.1,uc001hau.2,uc001hhr.1,uc001hjt.2,uc001hvi.2,uc001jqp.1,uc001nsg.2,uc001nxt.2,uc001ofe.2,uc001oun.1,uc001ozi.2,uc001qqz.1,uc001qzz.2,uc001slf.2,uc001tyi.2,uc001ual.1,uc001ugy.2,uc001uks.1,uc001ull.1,uc002avx.2,uc002bpk.3,uc002cqy.3,uc002dcv.2,uc002emy.2,uc002esj.2,uc002gks.2,uc002gpv.2,uc002hky.2,uc002hxt.2,uc002hyx.2,uc002jgh.2,uc002jmm.2,uc002nfq.2,uc002oam.1,uc002omq.2,uc002oxc.1,uc002qaf.2,uc002siz.2,uc002ttf.1,uc002wdj.2,uc002wid.2,uc002xba.1,uc002xpk.2,uc002ybs.2,uc003atp.2,uc003bsh.2,uc003fvv.1,uc003mnl.1,uc003nqe.1,uc003ody.2,uc003opi.2,uc003otk.2,uc003pdx.2,uc003spp.2,uc003tal.1,uc003tkm.2,uc003tyr.2,uc003upl.2,uc003usu.2,uc003vcv.2,uc003vee.2,uc003vwi.2,uc003wcz.2,uc003wja.1,uc003wld.2,uc003zbv.3,uc003ztt.2,uc004bph.1,uc004bqa.2,uc004dlc.1,uc004dlq.2,uc004dtz.2,uc004fiw.2,uc004fmv.2,uc009xrn.1,uc010clp.1,uc010ebt.1,uc010exz.1,uc010fac.2,uc010ijr.1,uc010jkr.2,uc010kyl.2,uc010mbu.2,uc010ohy.1,uc010qtb.1,uc010rfm.1,uc010umg.1,uc010vjt.1,uc010wdq.1,uc011kjw.1,uc011kyw.1,uc011mzo.1 | L10: 1.8101936e-18 | M10: 1.5e-08 | N10: 4.0157773e-24 | O10: 1.2939727e-23 | P10: 1.1645754e-22
A11: MIMAT0000731 | B11: hsa-miR-378a-5p | C11: -1.6272929 | D11: =IF(COUNTIF('TDP-43 miRNAs'!A$2:A$86,A11)>0,"yes","") | E11: =IF(COUNTIF('LUAD TDP-43 correlations'!$A$2:$A$1034,$A11)>0,LOOKUP($A11,'LUAD TDP-43 correlations'!$A$2:$A$1034,'LUAD TDP-43 correlations'!C$2:C$1034),"n/a") -> 0.013131531 | F11: =IF(COUNTIF('LUAD TDP-43 correlations'!$A$2:$A$1034,$A11)>0,LOOKUP($A11,'LUAD TDP-43 correlations'!$A$2:$A$1034,'LUAD TDP-43 correlations'!E$2:E$1034),"n/a") -> 0.053747649 | G11: 0.61364735 | H11: 863 | I11: 196 | J11: 1.93 | K11: uc001ajt.1,uc001bal.2,uc001bqy.2,uc001cdz.1,uc001fft.2,uc001ffz.1,uc001gdj.3,uc001gfr.1,uc001gkj.1,uc001gpk.2,uc001gve.2,uc001gwm.2,uc001gyl.2,uc001hhp.1,uc001hst.1,uc001hxt.2,uc001jld.2,uc001jof.2,uc001jqr.2,uc001jrm.2,uc001jth.2,uc001jts.1,uc001kni.2,uc001ksf.2,uc001kul.3,uc001kwy.1,uc001lml.1,uc001mql.1,uc001ofe.2,uc001ojc.1,uc001ojd.2,uc001pcj.1,uc001pex.2,uc001pfy.2,uc001pjq.2,uc001qcd.2,uc001qhk.2,uc001roa.2,uc001rxu.1,uc001sjm.2,uc001tsl.1,uc001ubf.2,uc001ucr.2,uc001ufg.2,uc001ull.1,uc001unk.2,uc001uub.1,uc001wwa.1,uc001wzy.2,uc001xfb.3,uc001xzl.3,uc001zti.1,uc002ank.2,uc002bbu.1,uc002boz.2,uc002cfi.1,uc002cze.2,uc002dlv.2,uc002dry.2,uc002dwn.1,uc002dyv.1,uc002dzy.2,uc002eek.1,uc002gdf.3,uc002gkk.2,uc002gqz.2,uc002hbm.2,uc002hbr.1,uc002hhn.2,uc002hxt.2,uc002iaw.2,uc002inm.2,uc002iqm.2,uc002isr.2,uc002iuc.2,uc002iud.2,uc002iuu.2,uc002iwt.1,uc002ixk.1,uc002jqu.2,uc002kcq.1,uc002keh.2,uc002lwj.2,uc002mal.2,uc002mva.2,uc002nnb.3,uc002nud.3,uc002ols.1,uc002omn.2,uc002pjb.1,uc002pmm.2,uc002qlq.2,uc002qxj.2,uc002rtr.2,uc002rzf.2,uc002sik.2,uc002sjq.3,uc002sjs.2,uc002slx.2,uc002sqd.2,uc002svv.1,uc002tcb.2,uc002tpj.2,uc002tra.1,uc002tub.1,uc002ubu.2,uc002uoy.1,uc002uui.2,uc002uuq.2,uc002vlj.2,uc002wax.2,uc002xcq.1,uc002ypn.2,uc002zoe.2,uc003avq.1,uc003dsx.2,uc003fjw.2,uc003hau.2,uc003hra.2,uc003hvn.1,uc003hzn.1,uc003iec.3,uc003keo.2,uc003kfi.1,uc003mhx.2,uc003mxt.1,uc003ovp.2,uc003pdc.3,uc003qil.2,uc003qvi.1,uc003szf.2,uc003tdm.2,uc003tem.3,uc003thl.3,uc003tro.2,uc003uaf.1,uc003uap.2,uc003ufs.1,uc003uma.2,uc003uqe.2,uc003usj.2,uc003uxv.3,uc003vpf.1,uc003vsx.2,uc003vsy.2,uc003wsn.3,uc003xgg.2,uc003xlf.3,uc003xqm.2,uc003ycl.2,uc003ypa.2,uc003zcm.1,uc004auo.2,uc004bpa.3,uc004bpn.2,uc004byq.1,uc004cqa.2,uc004dag.2,uc004dax.2,uc004dex.3,uc004dlq.2,uc004dzh.1,uc004emz.2,uc009vuc.2,uc009wjj.1,uc009woj.1,uc009yfe.1,uc009znb.2,uc010cbf.1,uc010cdt.1,uc010dgl.2,uc010dmy.2,uc010fec.2,uc010fxo.1,uc010gez.1,uc010hcw.1,uc010ild.2,uc010jfv.1,uc010kyl.2,uc010lkm.2,uc010lqi.2,uc010mdq.2,uc010mzz.2,uc010nxx.1,uc010oef.1,uc010pkp.1,uc010pnq.1,uc010pqn.1,uc010qfe.1,uc010rcq.1,uc010rfm.1,uc010tqv.1,uc011axg.1,uc011bdz.1,uc011kkp.1,uc011mme.1 | L11: 3.5731774e-17 | M11: 6e-12 | N11: 5.3798414e-27 | O11: 1.9501925e-26 | P11: 1.560154e-25
A12: MIMAT0004911 | B12: hsa-miR-874-3p | C12: -1.5335693 | D12: =IF(COUNTIF('TDP-43 miRNAs'!A$2:A$86,A12)>0,"yes","") | E12: =IF(COUNTIF('LUAD TDP-43 correlations'!$A$2:$A$1034,$A12)>0,LOOKUP($A12,'LUAD TDP-43 correlations'!$A$2:$A$1034,'LUAD TDP-43 correlations'!C$2:C$1034),"n/a") -> 4.5122912e-06 | F12: =IF(COUNTIF('LUAD TDP-43 correlations'!$A$2:$A$1034,$A12)>0,LOOKUP($A12,'LUAD TDP-43 correlations'!$A$2:$A$1034,'LUAD TDP-43 correlations'!E$2:E$1034),"n/a") -> 0.97873221 | G12: 0.68900008 | H12: 606 | I12: 146 | J12: 1.43 | K12: uc001akn.3,uc001amg.2,uc001aow.3,uc001bht.2,uc001bll.3,uc001bpf.2,uc001bvb.1,uc001cfh.1,uc001chl.2,uc001est.1,uc001ewq.2,uc001fcp.2,uc001fhd.2,uc001foc.3,uc001fpf.2,uc001fps.1,uc001gyv.1,uc001hkm.2,uc001ifh.2,uc001jqx.1,uc001njt.2,uc001nto.2,uc001ntp.1,uc001ofe.2,uc001ohp.1,uc001oir.2,uc001okp.1,uc001oun.1,uc001oye.2,uc001qdi.2,uc001qlh.2,uc001qys.2,uc001sdg.1,uc001sfe.1,uc001twd.2,uc001tyi.2,uc001uks.1,uc001xfc.2,uc001xhz.2,uc001xtw.2,uc001ygy.1,uc002ahf.3,uc002aon.2,uc002aty.1,uc002avx.2,uc002box.2,uc002cnc.1,uc002cym.2,uc002dkj.1,uc002drm.2,uc002dtt.1,uc002ele.1,uc002esj.2,uc002fle.1,uc002gkk.2,uc002haz.2,uc002hcy.1,uc002hyl.1,uc002iaw.2,uc002iqn.1,uc002iqt.2,uc002jut.2,uc002juv.1,uc002kco.3,uc002mpx.1,uc002nan.2,uc002niq.2,uc002ptg.2,uc002qdi.2,uc002qqo.2,uc002rah.2,uc002ron.2,uc002sjq.3,uc002skk.2,uc002uuq.2,uc002uxn.2,uc002vnl.3,uc002vyo.1,uc002wea.2,uc002wyb.2,uc002xci.1,uc002xmx.2,uc002xwx.2,uc002yyw.2,uc002zws.2,uc003anw.1,uc003ban.1,uc003bkd.1,uc003dgo.2,uc003djh.2,uc003ece.1,uc003gmq.2,uc003grf.2,uc003itc.2,uc003jgg.3,uc003jmo.2,uc003mtz.2,uc003nil.3,uc003nxg.2,uc003opi.2,uc003orl.2,uc003orz.2,uc003shx.2,uc003svu.2,uc003tmn.2,uc003ttr.2,uc003ttt.1,uc003tui.2,uc003uac.1,uc003uxv.3,uc003vsx.2,uc003vum.1,uc003wff.2,uc003wkh.1,uc003xks.2,uc003xqi.2,uc003yqd.2,uc003yzl.1,uc003zcm.1,uc003zcv.2,uc003zkc.2,uc004dkd.1,uc004dlc.1,uc004egb.2,uc004fkp.1,uc004ftz.1,uc009vmy.1,uc009ykz.1,uc010bgx.1,uc010bzh.1,uc010cdt.1,uc010ebt.1,uc010fea.2,uc010jta.1,uc010kbj.2,uc010lkm.2,uc010lxh.1,uc010mzz.2,uc010olj.1,uc010qcp.1,uc010spr.1,uc010ssd.1,uc010wit.1,uc010yfy.1,uc011bds.1,uc011myl.1 | L12: 1.2942841e-13 | M12: 4.26e-11 | N12: 8.2059394e-23 | O12: 2.3797224e-22 | P12: 2.3797224e-21
A13: MIMAT0000062 | B13: hsa-let-7a-5p | C13: -1.5120436 | D13: =IF(COUNTIF('TDP-43 miRNAs'!A$2:A$86,A13)>0,"yes","") -> yes | E13: =IF(COUNTIF('LUAD TDP-43 correlations'!$A$2:$A$1034,$A13)>0,LOOKUP($A13,'LUAD TDP-43 correlations'!$A$2:$A$1034,'LUAD TDP-43 correlations'!C$2:C$1034),"n/a") -> 0.027110691 | F13: =IF(COUNTIF('LUAD TDP-43 correlations'!$A$2:$A$1034,$A13)>0,LOOKUP($A13,'LUAD TDP-43 correlations'!$A$2:$A$1034,'LUAD TDP-43 correlations'!E$2:E$1034),"n/a") -> 0.003159004 | G13: 0.77190713 | H13: 932 | I13: 238 | J13: 2.34 | K13: uc001amg.2,uc001bgw.2,uc001bht.2,uc001bnx.2,uc001bvd.2,uc001bzg.1,uc001ctk.2,uc001cxy.2,uc001eny.1,uc001ewy.2,uc001fcp.2,uc001fpf.2,uc001gag.2,uc001gjh.1,uc001gxx.3,uc001hcv.3,uc001hfe.1,uc001hiv.2,uc001hom.1,uc001hqd.3,uc001hst.1,uc001iaj.2,uc001ibu.1,uc001ind.2,uc001isi.3,uc001jiu.2,uc001jof.2,uc001jqx.1,uc001jzn.2,uc001kqa.3,uc001kqf.2,uc001kwy.1,uc001lhl.2,uc001lil.2,uc001nrl.1,uc001nrn.1,uc001nrv.2,uc001nrz.1,uc001nuf.2,uc001nxt.2,uc001ogp.2,uc001okr.2,uc001oun.1,uc001ovb.1,uc001oyh.3,uc001ozi.2,uc001pan.1,uc001pex.2,uc001pnj.3,uc001pvi.2,uc001pxt.2,uc001qiq.2,uc001qnr.2,uc001rez.2,uc001rzc.2,uc001sdg.1,uc001sfe.1,uc001sjm.2,uc001soi.2,uc001svw.1,uc001tdp.3,uc001tqk.3,uc001tsl.1,uc001ucd.2,uc001ujx.1,uc001vjq.2,uc001wae.2,uc001whf.1,uc001wwa.1,uc001wxu.2,uc001wzv.2,uc001wzy.2,uc001xfc.2,uc001xhz.2,uc001xim.3,uc001yaz.1,uc001zhj.2,uc001zmx.1,uc002ahf.3,uc002ank.2,uc002axh.1,uc002bct.1,uc002bdy.2,uc002bjl.1,uc002cgz.2,uc002cha.2,uc002cqy.3,uc002daw.1,uc002dhu.1,uc002dkj.1,uc002dtt.1,uc002duv.2,uc002dzk.1,uc002exp.2,uc002fgo.2,uc002ggt.1,uc002gks.2,uc002gqz.2,uc002hju.2,uc002hne.2,uc002huq.2,uc002ibi.2,uc002iky.2,uc002iph.1,uc002iqm.2,uc002iuu.2,uc002ixk.1,uc002jrp.1,uc002juw.2,uc002jwk.2,uc002lov.2,uc002mfg.1,uc002oam.1,uc002ojr.1,uc002qql.2,uc002qqo.2,uc002qqx.1,uc002qwf.2,uc002rah.2,uc002rjd.2,uc002rxk.1,uc002sle.2,uc002ssd.2,uc002ssg.1,uc002svv.1,uc002sxd.3,uc002sxh.3,uc002taw.3,uc002tcb.2,uc002tib.2,uc002tpj.2,uc002uea.2,uc002ugk.2,uc002ujz.3,uc002uqj.1,uc002uuq.2,uc002uwc.2,uc002wed.3,uc002wlp.2,uc002wqh.2,uc002wuz.2,uc002xab.2,uc002xbg.2,uc002yhl.1,uc002yyw.2,uc002znm.2,uc002zwc.1,uc002zyl.1,uc003acg.2,uc003anw.1,uc003bkk.1,uc003bsh.2,uc003cgv.2,uc003ece.1,uc003eci.2,uc003eps.2,uc003exu.1,uc003fit.2,uc003fkl.2,uc003grf.2,uc003hwt.3,uc003iik.2,uc003inh.2,uc003iqq.3,uc003isz.3,uc003iwi.2,uc003jdo.2,uc003jdw.2,uc003jfx.2,uc003jme.1,uc003jmo.2,uc003jpq.2,uc003juf.2,uc003kbs.3,uc003kcu.1,uc003kud.1,uc003ldr.2,uc003mhy.2,uc003mnc.1,uc003mxt.1,uc003nil.3,uc003ofa.1,uc003omu.2,uc003osa.3,uc003pdx.2,uc003pjv.2,uc003pmz.2,uc003pqk.2,uc003tli.2,uc003ttt.1,uc003tui.2,uc003uac.1,uc003ung.1,uc003uxv.3,uc003vee.2,uc003veh.2,uc003vsy.2,uc003xhm.2,uc003xlf.3,uc003xxp.1,uc003yfz.2,uc003yia.2,uc003ylk.2,uc003yyd.2,uc003zcj.2,uc003zcz.2,uc004ajo.3,uc004auo.2,uc004bfj.3,uc004buz.3,uc004cxc.1,uc004dag.2,uc004dlc.1,uc004dlq.2,uc004dvy.1,uc004ehj.1,uc009vub.1,uc009vxv.2,uc009ztb.1,uc010dhw.1,uc010dsn.2,uc010fac.2,uc010fxm.1,uc010hbf.2,uc010iai.2,uc010kyl.2,uc010ohy.1,uc010pkf.1,uc010pok.1,uc010qig.1,uc010sqm.1,uc010tqf.1,uc011bds.1,uc011bdz.1,uc011bsb.1,uc011dqs.1,uc011kjw.1,uc011kvh.1 | L13: 1.1835474e-12 | M13: 3.38e-20 | N13: 1.7720083e-30 | O13: 7.3411773e-30 | P13: 5.1388241e-29
A14: MIMAT0005825 | B14: hsa-miR-1180-3p | C14: -1.5638769 | D14: =IF(COUNTIF('TDP-43 miRNAs'!A$2:A$86,A14)>0,"yes","") | E14: =IF(COUNTIF('LUAD TDP-43 correlations'!$A$2:$A$1034,$A14)>0,LOOKUP($A14,'LUAD TDP-43 correlations'!$A$2:$A$1034,'LUAD TDP-43 correlations'!C$2:C$1034),"n/a") -> 0.0091895284 | F14: =IF(COUNTIF('LUAD TDP-43 correlations'!$A$2:$A$1034,$A14)>0,LOOKUP($A14,'LUAD TDP-43 correlations'!$A$2:$A$1034,'LUAD TDP-43 correlations'!E$2:E$1034),"n/a") -> 0.10927392 | G14: 0.79090238 | H14: 207 | I14: 54 | J14: 0.53 | K14: uc001acj.3,uc001bnb.2,uc001exl.2,uc001hel.1,uc001hos.1,uc001hpf.3,uc001kfk.2,uc001ojd.2,uc001okp.1,uc001owr.2,uc001xim.3,uc002bov.1,uc002esj.2,uc002fjd.2,uc002gdf.3,uc002hcs.2,uc002iqn.1,uc002jqp.1,uc002ooz.2,uc002own.3,uc002ron.2,uc002sjz.2,uc002sqc.2,uc002tku.1,uc002vyo.1,uc002wzu.3,uc002xbm.1,uc002znm.2,uc003afx.3,uc003bkk.1,uc003bsh.2,uc003eoh.2,uc003hdk.2,uc003ick.2,uc003kbt.3,uc003mhy.2,uc003ovp.2,uc003owk.2,uc003qwt.2,uc003smb.2,uc003tct.2,uc003ttt.1,uc003vee.2,uc003vuc.2,uc003wkv.1,uc003xks.2,uc009xuj.2,uc010fea.2,uc010fgz.2,uc010hcw.1,uc010nzi.1,uc010qig.1,uc010vtq.1,uc011jvx.1 | L14: 4.8385902e-11 | M14: 3.53e-06 | N14: 4.5027617e-15 | O14: 7.6811817e-15 | P14: 1.3058009e-13
A15: MIMAT0000451 | B15: hsa-miR-150-5p | C15: -1.4370999 | D15: =IF(COUNTIF('TDP-43 miRNAs'!A$2:A$86,A15)>0,"yes","") | E15: =IF(COUNTIF('LUAD TDP-43 correlations'!$A$2:$A$1034,$A15)>0,LOOKUP($A15,'LUAD TDP-43 correlations'!$A$2:$A$1034,'LUAD TDP-43 correlations'!C$2:C$1034),"n/a") -> 0.018929884 | F15: =IF(COUNTIF('LUAD TDP-43 correlations'!$A$2:$A$1034,$A15)>0,LOOKUP($A15,'LUAD TDP-43 correlations'!$A$2:$A$1034,'LUAD TDP-43 correlations'!E$2:E$1034),"n/a") -> 0.016888662 | G15: 0.65460732 | H15: 1013 | I15: 237 | J15: 2.33 | K15: uc001atm.2,uc001bnx.2,uc001chl.2,uc001cik.2,uc001cwi.1,uc001dnq.2,uc001eoc.1,uc001epg.1,uc001eso.1,uc001est.1,uc001etp.2,uc001evj.2,uc001eyb.1,uc001fff.1,uc001fjz.1,uc001fmj.1,uc001gdw.2,uc001geo.2,uc001gfg.2,uc001gxh.3,uc001gyf.2,uc001hai.2,uc001hov.3,uc001ibu.1,uc001jok.3,uc001jqp.1,uc001jtr.2,uc001jvb.2,uc001kai.2,uc001kul.3,uc001lkm.1,uc001mhg.2,uc001nuf.2,uc001ogp.2,uc001onr.3,uc001opn.1,uc001ovu.2,uc001plg.3,uc001poe.2,uc001qqz.1,uc001qyq.1,uc001rfm.2,uc001rzn.2,uc001sdg.1,uc001sfe.1,uc001sjm.2,uc001skb.2,uc001soi.2,uc001srk.3,uc001ssb.2,uc001svw.1,uc001tkb.1,uc001uje.2,uc001ukz.1,uc001uxn.2,uc001vha.2,uc001wae.2,uc001wjj.2,uc001wzv.2,uc001wzy.2,uc001xhz.2,uc001yqb.2,uc001zev.2,uc001zsu.2,uc001zvh.2,uc002bbj.1,uc002bdy.2,uc002cof.1,uc002dfk.1,uc002dfl.1,uc002dlv.2,uc002dpd.2,uc002dry.2,uc002dto.2,uc002dug.3,uc002dyv.1,uc002eek.1,uc002emy.2,uc002ewx.1,uc002fgo.2,uc002fib.2,uc002ggt.1,uc002gkk.2,uc002gzf.1,uc002hbm.2,uc002hbr.1,uc002hhm.2,uc002htn.1,uc002hvj.1,uc002ihe.2,uc002iph.1,uc002iqn.1,uc002iqo.2,uc002iqq.2,uc002iqr.2,uc002ivj.2,uc002iwj.2,uc002izv.2,uc002jbp.2,uc002jqu.2,uc002jsv.2,uc002kbh.1,uc002kbu.2,uc002ktj.1,uc002kuv.2,uc002lql.2,uc002mpr.2,uc002nud.3,uc002olt.1,uc002ozw.1,uc002ozz.2,uc002pdr.2,uc002qbl.2,uc002qkw.1,uc002qxt.2,uc002rah.2,uc002rau.2,uc002ron.2,uc002rxk.1,uc002sfe.2,uc002sgq.3,uc002sjq.3,uc002skk.2,uc002thp.2,uc002tib.2,uc002tnk.2,uc002tpj.2,uc002twn.1,uc002uea.2,uc002wdh.2,uc002wuv.1,uc002xba.1,uc002xkn.1,uc002xpk.2,uc002ypi.2,uc002yuf.1,uc002yvj.2,uc003abe.2,uc003aks.2,uc003bdq.2,uc003dix.3,uc003dtw.2,uc003edt.2,uc003ext.1,uc003exu.1,uc003fan.3,uc003gud.1,uc003hdg.3,uc003hdk.2,uc003hzn.1,uc003iec.3,uc003jcx.3,uc003jfx.2,uc003jme.1,uc003jnl.1,uc003jpq.2,uc003kbs.3,uc003kog.1,uc003lay.2,uc003lvl.2,uc003miu.2,uc003mxp.1,uc003nda.2,uc003nil.3,uc003odf.2,uc003ojt.1,uc003ols.2,uc003oon.2,uc003otf.2,uc003ovp.2,uc003owk.2,uc003pxt.1,uc003qht.2,uc003qwt.2,uc003sqe.3,uc003ttt.1,uc003tui.2,uc003tzi.3,uc003uac.1,uc003uhz.2,uc003uis.3,uc003uma.2,uc003uqh.2,uc003vnq.2,uc003wld.2,uc003xqi.2,uc003xxp.1,uc003ycl.2,uc003ydc.1,uc003ypr.2,uc003yzl.1,uc003zkc.2,uc003ztt.2,uc004aay.2,uc004bsy.1,uc004cvb.2,uc004dlt.3,uc004dvy.1,uc004dyg.2,uc004eer.2,uc004evm.2,uc004fep.2,uc004fmm.2,uc009vtn.1,uc009wbt.1,uc009xzn.2,uc010cta.1,uc010dgl.2,uc010ebt.1,uc010eqn.2,uc010fec.2,uc010ghi.2,uc010hcw.1,uc010ild.2,uc010jta.1,uc010lqi.2,uc010meg.2,uc010ofv.1,uc010oiz.1,uc010onq.1,uc010pcs.1,uc010pqn.1,uc010qwl.1,uc010rho.1,uc010swe.1,uc010tak.1,uc010umg.1,uc010vjt.1,uc010vtq.1,uc010whx.1,uc010wks.1,uc010wvp.1,uc010zpu.1,uc010zpy.1,uc011bsb.1,uc011chb.1,uc011cwp.1 | L15: 1.4504789e-07 | M15: 1.5e-15 | N15: 1.6766968e-20 | O15: 3.7403237e-20 | P15: 4.8624209e-19
... A22: MIMAT0002871 | B22: hsa-miR-500a-3p | C22: -0.56587142 | D22: =IF(COUNTIF('TDP-43 miRNAs'!A$2:A$86,A22)>0,"yes","") -> yes | E22: =IF(COUNTIF('LUAD TDP-43 correlations'!$A$2:$A$1034,$A22)>0,LOOKUP($A22,'LUAD TDP-43 correlations'!$A$2:$A$1034,'LUAD TDP-43 correlations'!C$2:C$1034),"n/a") -> 0.00029181748 | F22: =IF(COUNTIF('LUAD TDP-43 correlations'!$A$2:$A$1034,$A22)>0,LOOKUP($A22,'LUAD TDP-43 correlations'!$A$2:$A$1034,'LUAD TDP-43 correlations'!E$2:E$1034),"n/a") -> 0.81434639 | G22: 0.69464995 | H22: 645 | I22: 156 | J22: 1.53 | K22: uc001bal.2,uc001bmq.3,uc001bnb.2,uc001bnd.1,uc001bwc.2,uc001cpa.2,uc001ctk.2,uc001dfs.2,uc001etc.2,uc001etw.2,uc001fnb.3,uc001gdj.3,uc001gfg.2,uc001gfr.1,uc001gfs.1,uc001hos.1,uc001hvh.2,uc001hxt.2,uc001iaj.2,uc001ibf.1,uc001ifh.2,uc001jix.3,uc001jnk.2,uc001jok.3,uc001jqp.1,uc001jtr.2,uc001jzn.2,uc001lil.2,uc001onr.3,uc001opv.3,uc001pas.2,uc001phm.2,uc001pvm.1,uc001qfe.1,uc001qnr.2,uc001qzm.2,uc001rlm.2,uc001sfe.1,uc001srk.3,uc001ttm.2,uc001twd.2,uc001unk.2,uc001uuz.2,uc001vha.2,uc001way.2,uc001wjz.2,uc001xab.2,uc001xfc.2,uc001xff.3,uc001xzl.3,uc001ygy.1,uc001ypq.3,uc001zev.2,uc001zqr.2,uc002awd.1,uc002cif.1,uc002cle.1,uc002cyo.2,uc002dhu.1,uc002dry.2,uc002dtz.1,uc002fgo.2,uc002fjd.2,uc002gdf.3,uc002hhm.2,uc002hne.2,uc002huj.1,uc002ihc.2,uc002iqo.2,uc002iqq.2,uc002iqr.2,uc002jeu.2,uc002jfy.2,uc002juv.1,uc002jxe.2,uc002lic.2,uc002pqf.1,uc002rgw.1,uc002ssd.2,uc002tku.1,uc002tub.1,uc002ugk.2,uc002wbl.2,uc002wdo.2,uc002wuz.2,uc002wwp.1,uc002wyb.2,uc002xjg.2,uc002zys.1,uc003acg.2,uc003bck.1,uc003bmi.2,uc003com.2,uc003dgo.2,uc003djh.2,uc003ewa.2,uc003gww.3,uc003hdg.3,uc003hdk.2,uc003jat.1,uc003jdu.2,uc003jfk.2,uc003jfx.2,uc003jmo.2,uc003jun.2,uc003jvp.2,uc003kcu.1,uc003kog.1,uc003kud.1,uc003mes.3,uc003nda.2,uc003oes.2,uc003pdc.3,uc003pwm.2,uc003tct.2,uc003tui.2,uc003uac.1,uc003uhz.2,uc003ung.1,uc003uwg.1,uc003uzl.2,uc003vcv.2,uc003vea.2,uc003veh.2,uc003vnq.2,uc003vpf.1,uc003xdb.1,uc003xlf.3,uc003xnx.2,uc003xpv.2,uc003yfz.2,uc003yqn.1,uc003ztt.2,uc004bpa.3,uc004crb.3,uc004dex.3,uc004dyg.2,uc004ega.1,uc004ehd.2,uc009wzz.1,uc010cta.1,uc010dah.2,uc010dhw.1,uc010ebt.1,uc010fea.2,uc010gmw.1,uc010ijr.1,uc010oxe.1,uc010qvu.1,uc010rfm.1,uc010tak.1,uc010vxg.1,uc010wit.1,uc010xyn.1,uc011kvh.1,uc011lfh.1 | L22: 0.01383345 | M22: 5.7e-12 | N22: 1.0313146e-10 | O22: 1.3594601e-10 | P22: 2.9908122e-09
A24: Not Differentially Expressed miRNAs
A25: miRBaseAccension | B25: ID | C25: log2FoldChange | D25: Regulated by TDP-43? | E25: R2 TDP-43 Correlation | F25: Correlation Adjusted P-value | G25: odds_ratio_log | H25: numPredictedTargets | I25: numDEgenes | J25: percentDEgenes | K25: DEgeneList | L25: pDESeq2 | M25: pFatiscan | N25: pCombined | O25: pCombinedFDR | P25: pCombinedFWER
A26: MIMAT0000450 | B26: hsa-miR-149-5p | C26: -0.59271644 | D26: =IF(COUNTIF('TDP-43 miRNAs'!A$2:A$86,A26)>0,"yes","") | E26: =IF(COUNTIF('LUAD TDP-43 correlations'!$A$2:$A$1034,$A26)>0,LOOKUP($A26,'LUAD TDP-43 correlations'!$A$2:$A$1034,'LUAD TDP-43 correlations'!C$2:C$1034),"n/a") -> 0.011264906 | F26: =IF(COUNTIF('LUAD TDP-43 correlations'!$A$2:$A$1034,$A26)>0,LOOKUP($A26,'LUAD TDP-43 correlations'!$A$2:$A$1034,'LUAD TDP-43 correlations'!E$2:E$1034),"n/a") -> 0.076410265 | G26: 0.74281082 | H26: 1025 | I26: 256 | J26: 2.51 | K26: uc001afn.1,uc001bbs.2,uc001bgw.2,uc001bsb.1,uc001bvd.2,uc001bwc.2,uc001bwt.1,uc001cdz.1,uc001cso.1,uc001dqg.1,uc001ehg.2,uc001etp.2,uc001evj.2,uc001ewy.2,uc001eyv.2,uc001fcp.2,uc001fhd.2,uc001flb.2,uc001fle.1,uc001fol.1,uc001fuv.1,uc001fxi.2,uc001geo.2,uc001hil.3,uc001hom.1,uc001hos.1,uc001hst.1,uc001ibf.1,uc001iju.2,uc001jqx.1,uc001jtr.2,uc001kfj.3,uc001kjq.1,uc001kpr.2,uc001ksr.2,uc001men.2,uc001mok.3,uc001njt.2,uc001nrv.2,uc001nrz.1,uc001nuf.2,uc001okf.1,uc001owm.1,uc001phm.2,uc001pvm.1,uc001pvq.2,uc001qkz.2,uc001qqt.3,uc001rfm.2,uc001rpr.2,uc001rth.3,uc001sdg.1,uc001sjo.2,uc001smd.2,uc001snf.1,uc001tdp.3,uc001tqk.3,uc001tug.2,uc001uda.2,uc001udj.1,uc001ufi.2,uc001uir.2,uc001uxn.2,uc001whc.2,uc001wjj.2,uc001wmv.1,uc001wsa.3,uc001xim.3,uc001zev.2,uc001znd.2,uc002ahf.3,uc002aty.1,uc002beu.2,uc002box.2,uc002cfi.1,uc002cfj.3,uc002cow.2,uc002cym.2,uc002cze.2,uc002dgq.2,uc002dlv.2,uc002dto.2,uc002dwn.1,uc002dyv.1,uc002eec.3,uc002fle.1,uc002fuo.2,uc002gcc.1,uc002gzf.1,uc002hav.1,uc002haz.2,uc002hbq.2,uc002hiy.1,uc002hju.2,uc002hms.1,uc002hvj.1,uc002hxt.2,uc002ibi.2,uc002iky.2,uc002ikz.2,uc002iqn.1,uc002iqq.2,uc002iqr.2,uc002isl.2,uc002iss.2,uc002iwj.2,uc002ixq.1,uc002izv.2,uc002jrp.1,uc002jur.1,uc002jwk.2,uc002kbb.2,uc002ndp.3,uc002njp.2,uc002ojr.1,uc002orm.2,uc002oxl.2,uc002pbv.2,uc002qxt.2,uc002rau.2,uc002rkf.1,uc002rkx.2,uc002rzf.2,uc002sav.3,uc002sjz.2,uc002suh.1,uc002svv.1,uc002sxd.3,uc002szv.2,uc002taa.1,uc002tib.2,uc002tst.2,uc002uea.2,uc002uwc.2,uc002uxn.2,uc002vcu.2,uc002vvn.2,uc002vxj.2,uc002wdj.2,uc002xai.2,uc002xao.2,uc002xba.1,uc002xbm.1,uc002xgi.2,uc002xqz.2,uc002ycb.2,uc002ypc.2,uc002yyw.2,uc002zyl.1,uc003abe.2,uc003afx.3,uc003bkk.1,uc003dtv.2,uc003dtw.2,uc003ece.1,uc003eoh.2,uc003foz.2,uc003gjp.1,uc003guk.1,uc003hax.2,uc003iwi.2,uc003jat.1,uc003jbu.2,uc003jez.3,uc003kdc.3,uc003lsy.1,uc003lye.1,uc003mnc.1,uc003mtz.2,uc003nqx.3,uc003ody.2,uc003oon.2,uc003ovn.2,uc003oxe.1,uc003pmy.3,uc003pnz.1,uc003smb.2,uc003smv.2,uc003spp.2,uc003sqe.3,uc003ssh.2,uc003str.2,uc003swk.2,uc003tem.3,uc003tkm.2,uc003tmn.2,uc003tte.2,uc003uar.1,uc003upj.2,uc003usj.2,uc003uzl.2,uc003xdh.1,uc003yqn.1,uc003yrr.2,uc003zaz.3,uc003zba.2,uc003zxm.1,uc004ajo.3,uc004auo.2,uc004bpn.2,uc004cdm.2,uc004cvb.2,uc004dex.3,uc004dlj.1,uc004dlq.2,uc004dlt.3,uc004dta.2,uc004egb.2,uc004fad.1,uc009vmq.2,uc009vtn.1,uc009vub.1,uc009vwl.2,uc009wbt.1,uc009wjj.1,uc009znj.1,uc010bby.2,uc010cdt.1,uc010ckc.1,uc010clp.1,uc010eda.1,uc010egr.2,uc010exz.1,uc010fea.2,uc010gez.1,uc010hxo.2,uc010jza.1,uc010kyl.2,uc010lxh.1,uc010mdq.2,uc010nlz.2,uc010oiz.1,uc010pkp.1,uc010pnq.1,uc010qut.1,uc010qwl.1,uc010rcq.1,uc010rfm.1,uc010sgp.1,uc010sxa.1,uc010tqv.1,uc010ulv.1,uc010whx.1,uc010wit.1,uc010wso.1,uc010wvp.1,uc010wyu.1,uc010xxr.1,uc010xyn.1,uc010ysr.1,uc011bds.1,uc011bdz.1,uc011jvx.1,uc011kri.1,uc011kyw.1,uc011mzg.1 | L26: 0.1717662 | M26: 3.21e-20 | N26: 4.9957873e-13 | O26: 8.0487684e-13 | P26: 1.4487783e-11
A27: MIMAT0004776 | B27: hsa-miR-505-5p | C27: -0.35398875 | D27: =IF(COUNTIF('TDP-43 miRNAs'!A$2:A$86,A27)>0,"yes","") | E27: =IF(COUNTIF('LUAD TDP-43 correlations'!$A$2:$A$1034,$A27)>0,LOOKUP($A27,'LUAD TDP-43 correlations'!$A$2:$A$1034,'LUAD TDP-43 correlations'!C$2:C$1034),"n/a") -> 0.0022169275 | F27: =IF(COUNTIF('LUAD TDP-43 correlations'!$A$2:$A$1034,$A27)>0,LOOKUP($A27,'LUAD TDP-43 correlations'!$A$2:$A$1034,'LUAD TDP-43 correlations'!E$2:E$1034),"n/a") -> 0.4738964 | G27: 0.69351498 | H27: 829 | I27: 200 | J27: 1.96 | K27: uc001afn.1,uc001bbs.2,uc001bhe.1,uc001bmq.3,uc001bpf.2,uc001bzg.1,uc001cwi.1,uc001dlh.2,uc001dot.2,uc001ffz.1,uc001flb.2,uc001flr.2,uc001fmj.1,uc001gag.2,uc001ggg.1,uc001gwm.2,uc001hai.2,uc001hlg.3,uc001hrb.2,uc001hrx.2,uc001hun.1,uc001hvi.2,uc001ind.2,uc001jpq.3,uc001jqp.1,uc001jzn.2,uc001kai.2,uc001kpr.2,uc001lil.2,uc001lpi.2,uc001mok.3,uc001mql.1,uc001nqa.2,uc001nrz.1,uc001nza.2,uc001ocp.2,uc001ogp.2,uc001ohe.1,uc001ohp.1,uc001okp.1,uc001ouw.2,uc001oxx.2,uc001plg.3,uc001qcd.2,uc001qdi.2,uc001qyq.1,uc001qzz.2,uc001rli.2,uc001rpr.2,uc001sfe.1,uc001sqg.2,uc001ssb.2,uc001sut.3,uc001ttm.2,uc001tug.2,uc001twd.2,uc001ual.1,uc001ubf.2,uc001ufi.2,uc001wuw.3,uc001xfb.3,uc001xhz.2,uc001zll.2,uc002ari.2,uc002cmi.1,uc002cym.2,uc002cyo.2,uc002daw.1,uc002dds.2,uc002dpd.2,uc002dry.2,uc002dto.2,uc002dyv.1,uc002esj.2,uc002gks.2,uc002ign.2,uc002ihc.2,uc002ihf.2,uc002iqm.2,uc002iqr.2,uc002jbp.2,uc002jur.1,uc002jxc.2,uc002kbb.2,uc002mkb.1,uc002mvu.2,uc002njp.2,uc002nnb.3,uc002oam.1,uc002oke.2,uc002olt.1,uc002omp.3,uc002owl.1,uc002oxc.1,uc002ozw.1,uc002pjb.1,uc002pjy.2,uc002qqo.2,uc002qwf.2,uc002rep.2,uc002rkf.1,uc002rvc.2,uc002sfh.2,uc002sjb.1,uc002sle.2,uc002sya.2,uc002tib.2,uc002tpj.2,uc002ugk.2,uc002uoy.1,uc002vlj.2,uc002vnl.3,uc002vnr.3,uc002wdo.2,uc002wgm.1,uc002xcq.1,uc002xkn.1,uc002xmx.2,uc002yvj.2,uc003acg.2,uc003anw.1,uc003azc.2,uc003bdl.1,uc003bmi.2,uc003cgv.2,uc003ctz.2,uc003dbc.2,uc003fjw.2,uc003guu.3,uc003hdg.3,uc003hdk.2,uc003isz.3,uc003jas.2,uc003kdc.3,uc003lay.2,uc003meo.1,uc003mgy.2,uc003nlr.2,uc003nxa.3,uc003nxg.2,uc003orl.2,uc003prs.2,uc003qvi.1,uc003sly.2,uc003sma.2,uc003spp.2,uc003tal.1,uc003tct.2,uc003tjw.1,uc003tsa.2,uc003tyr.2,uc003unf.1,uc003uqh.2,uc003uzh.2,uc003uzl.2,uc003vcb.2,uc003vea.2,uc003vwi.2,uc003wir.1,uc003xqi.2,uc003yhc.2,uc003ypr.2,uc003yqr.2,uc003zxm.1,uc004dkd.1,uc004dlc.1,uc004dlq.2,uc004dlt.3,uc004ega.1,uc004ehd.2,uc004fln.1,uc009vwl.2,uc009vxv.2,uc009wbt.1,uc009xcz.2,uc010fea.2,uc010fec.2,uc010fxo.1,uc010hcw.1,uc010mdq.2,uc010mff.2,uc010myt.1,uc010nht.1,uc010nlz.2,uc010onq.1,uc010oxe.1,uc010pgp.1,uc010pkp.1,uc010pqn.1,uc010rfm.1,uc010ssd.1,uc010tqf.1,uc010umg.1,uc010vtq.1,uc010whx.1,uc010zpy.1,uc011aqo.1,uc011dqs.1,uc011kvh.1,uc011mlj.1 | L27: 0.20482442 | M27: 1.01e-14 | N27: 1.0368635e-09 | O27: 1.3073497e-09 | P27: 3.0069043e-08
A28: MIMAT0004672 | B28: hsa-miR-106b-3p | C28: -0.11662899 | D28: =IF(COUNTIF('TDP-43 miRNAs'!A$2:A$86,A28)>0,"yes","") -> yes | E28: =IF(COUNTIF('LUAD TDP-43 correlations'!$A$2:$A$1034,$A28)>0,LOOKUP($A28,'LUAD TDP-43 correlations'!$A$2:$A$1034,'LUAD TDP-43 correlations'!C$2:C$1034),"n/a") -> 0.11166547 | F28: =IF(COUNTIF('LUAD TDP-43 correlations'!$A$2:$A$1034,$A28)>0,LOOKUP($A28,'LUAD TDP-43 correlations'!$A$2:$A$1034,'LUAD TDP-43 correlations'!E$2:E$1034),"n/a") -> 1.9886559e-10 | G28: 0.77711414 | H28: 213 | I28: 55 | J28: 0.54 | K28: uc001bll.3,uc001bqy.2,uc001bst.2,uc001bvy.1,uc001cpa.2,uc001ctk.2,uc001euk.2,uc001gfr.1,uc001gfs.1,uc001igp.2,uc001jnk.2,uc001mup.3,uc001pex.2,uc001qhk.2,uc001twd.2,uc001wjj.2,uc001yaz.1,uc001ygy.1,uc002bgq.1,uc002box.2,uc002cus.2,uc002cwk.2,uc002dry.2,uc002eek.1,uc002gcc.1,uc002hfq.2,uc002jqu.2,uc002lxx.2,uc002mno.2,uc002rxk.1,uc002tku.1,uc002uxn.2,uc002vnl.3,uc002ycv.2,uc002yhl.1,uc003ajc.2,uc003kcu.1,uc003mdg.3,uc003mxp.1,uc003owk.2,uc003oyv.2,uc003pax.2,uc003spc.2,uc003vpi.2,uc003zct.1,uc004awf.2,uc004dex.3,uc009vub.1,uc009wol.1,uc009znj.1,uc009ztb.1,uc010otl.1,uc010xpl.1,uc011baf.1,uc011dug.1 | L28: 0.67733934 | M28: 4.53e-06 | N28: 0.00245399 | O28: 0.0025416325 | P28: 0.071165709

Sheet LUAD TDP-43 correlations
A1: miRBase Accession | B1: Pearson Correlation | C1: R squared | D1: P-value | E1: P-value Adjusted | F1: TDP-43?
A2: MIMAT0000062 | B2: -0.16465324 | C2: =B2^2 -> 0.027110691 | D2: 0.00051731382 | E2: 0.003159004 | F2: =IF(COUNTIF('TDP-43 miRNAs'!A$2:B$86,A2)>0,"yes","") -> yes
A3: MIMAT0000063 | B3: -0.15050994 | C3: =B3^2 -> 0.022653241 | D3: 0.0015253699 | E3: 0.0083814207 | F3: =IF(COUNTIF('TDP-43 miRNAs'!A$2:B$86,A3)>0,"yes","") -> yes
A4: MIMAT0000064 | B4: -0.15040775 | C4: =B4^2 -> 0.022622491 | D4: 0.0015368369 | E4: 0.0083997486 | F4: =IF(COUNTIF('TDP-43 miRNAs'!A$2:B$86,A4)>0,"yes","") -> yes
A5: MIMAT0000065 | B5: -0.19333107 | C5: =B5^2 -> 0.037376904 | D5: 4.3688878e-05 | E5: 0.00036575882 | F5: =IF(COUNTIF('TDP-43 miRNAs'!A$2:B$86,A5)>0,"yes","") -> yes
A6: MIMAT0000066 | B6: 0.10535545 | C6: =B6^2 -> 0.011099771 | D6: 0.02694281 | E6: 0.0776947 | F6: =IF(COUNTIF('TDP-43 miRNAs'!A$2:B$86,A6)>0,"yes","") -> yes
A7: MIMAT0000067 | B7: -0.11887122 | C7: =B7^2 -> 0.014130368 | D7: 0.012487021 | E7: 0.045381659 | F7: =IF(COUNTIF('TDP-43 miRNAs'!A$2:B$86,A7)>0,"yes","") -> yes
A8: MIMAT0000068 | B8: 0.049719884 | C8: =B8^2 -> 0.0024720669 | D8: 0.29750506 | E8: 0.4469499 | F8: =IF(COUNTIF('TDP-43 miRNAs'!A$2:B$86,A8)>0,"yes","")
A9: MIMAT0000069 | B9: -0.02071376 | C9: =B9^2 -> 0.00042905986 | D9: 0.664433 | E9: 0.77205769 | F9: =IF(COUNTIF('TDP-43 miRNAs'!A$2:B$86,A9)>0,"yes","") -> yes
A10: MIMAT0000070 | B10: 0.25253629 | C10: =B10^2 -> 0.063774579 | D10: 7.6334593e-08 | E10: 2.6966009e-06 | F10: =IF(COUNTIF('TDP-43 miRNAs'!A$2:B$86,A10)>0,"yes","")
A11: MIMAT0000071 | B11: 0.31015203 | C11: =B11^2 -> 0.096194281 | D11: 2.7451152e-11 | E11: 4.7261734e-09 | F11: =IF(COUNTIF('TDP-43 miRNAs'!A$2:B$86,A11)>0,"yes","")
A12: MIMAT0000072 | B12: 0.29405976 | C12: =B12^2 -> 0.086471145 | D12: 3.0249381e-10 | E12: 3.9059513e-08 | F12: =IF(COUNTIF('TDP-43 miRNAs'!A$2:B$86,A12)>0,"yes","") -> yes
A13: MIMAT0000073 | B13: 0.21463749 | C13: =B13^2 -> 0.046069253 | D13: 5.423442e-06 | E13: 6.1565006e-05 | F13: =IF(COUNTIF('TDP-43 miRNAs'!A$2:B$86,A13)>0,"yes","")
... A1034: MIMAT0018445 | B1034: -0.011440153 | C1034: =B1034^2 -> 0.0001308771 | D1034: 0.81066424 | E1034: 0.88241956 | F1034: =IF(COUNTIF('TDP-43 miRNAs'!A$2:B$86,A1034)>0,"yes","")
E1035: =COUNTIF(E2:E1034,"<0.1") -> 408

Sheet TDP-43 miRNAs
A1: miRBase Accession | B1: miRBase Mature Name | C1: Note
A2: MIMAT0000062 | B2: hsa-let-7a-5p
A3: MIMAT0000063 | B3: hsa-let-7b-5p
A4: MIMAT0000064 | B4: hsa-let-7c-5p
A5: MIMAT0000065 | B5: hsa-let-7d-5p
A6: MIMAT0000066 | B6: hsa-let-7e-5p
A7: MIMAT0000067 | B7: hsa-let-7f-5p
A8: MIMAT0000069 | B8: hsa-miR-16-5p
A9: MIMAT0000072 | B9: hsa-miR-18a-5p
A10: MIMAT0000077 | B10: hsa-miR-22-3p
A11: MIMAT0000080 | B11: hsa-miR-24-3p
A12: MIMAT0000082 | B12: hsa-miR-26a-5p
A13: MIMAT0000084 | B13: hsa-miR-27a-3p
... A61: MIMAT0000759 | B61: hsa-miR-148b-3p
A62: MIMAT0001340 | B62: hsa-miR-423-3p | C62: Discovered in Binding Assays (Fig 4)
A63: MIMAT0001341 | B63: hsa-miR-424-5p
A64: MIMAT0002177 | B64: hsa-miR-486-5p
A65: MIMAT0002809 | B65: hsa-miR-146b-5p
A66: MIMAT0002871 | B66: hsa-miR-500a-3p | C66: Discovered in Binding Assays (Fig 4)
A67: MIMAT0002891 | B67: hsa-miR-18a-3p
A68: MIMAT0004484 | B68: hsa-let-7d-3p
A69: MIMAT0004494 | B69: hsa-miR-21-3p
A70: MIMAT0004497 | B70: hsa-miR-24-2-5p
A71: MIMAT0004504 | B71: hsa-miR-31-3p
A72: MIMAT0004506 | B72: hsa-miR-33a-3p
A73: MIMAT0004509 | B73: hsa-miR-93-3p
A74: MIMAT0004513 | B74: hsa-miR-101-5p
A75: MIMAT0004549 | B75: hsa-miR-148a-5p
A76: MIMAT0004563 | B76: hsa-miR-199b-3p
A77: MIMAT0004584 | B77: hsa-let-7g-3p
A78: MIMAT0004585 | B78: hsa-let-7i-3p
... A86: MIMAT0026479 | B86: hsa-miR-152-5p
